Workbook

Sheet Olvasd_el
C3: Tisztelt Hallgatóink!
C4: A mellékelt lapokon találják a következő félév órarendjének tervezetét. (2007. DECEMBER 27.)
C5: Kérem, hogy javaslataikkal keressenek e-mail-ben a kovacs.beatrix@ejf.hu címen.

Sheet Munka2
B1: Megnevezés | C1: Kurzuskód | F1: Kredit | G1: Kurzus címe | H1: Összes jelentkező
A2: 1 | B2: AI | C2: MAI3A7ML-T | D2: =SUBSTITUTE(C2,"L-T","L") -> MAI3A7ML | E2: =SUBSTITUTE(D2,"L/V","L") -> MAI3A7ML | F2: 2 | G2: Szupravezetők alkalmazása | H2: 1
A3: 2 | B3: AI | C3: MAI3B5GL-T | D3: =SUBSTITUTE(C3,"L-T","L") -> MAI3B5GL | E3: =SUBSTITUTE(D3,"L/V","L") -> MAI3B5GL | F3: 2 | G3: Szupravezetők alkalmazása | H3: 17
A4: 3 | B4: AI | C4: MAI3B7IL-T | D4: =SUBSTITUTE(C4,"L-T","L") -> MAI3B7IL | E4: =SUBSTITUTE(D4,"L/V","L") -> MAI3B7IL | F4: 2 | G4: Szupravezetők alkalmazása | H4: 17
A5: 4 | B5: AI | C5: MAI9Z1L-T | D5: =SUBSTITUTE(C5,"L-T","L") -> MAI9Z1L | E5: =SUBSTITUTE(D5,"L/V","L") -> MAI9Z1L | F5: 2 | G5: Szupravezetők alkalmazása | H5: 21
A6: 5 | B6: AI | C6: MAI0K1L-T | D6: =SUBSTITUTE(C6,"L-T","L") -> MAI0K1L | E6: =SUBSTITUTE(D6,"L/V","L") -> MAI0K1L | F6: 4 | G6: Pneumatikus irányítástechnika | H6: 3
A7: 6 | B7: AI | C7: MAI4A5GL-T | D7: =SUBSTITUTE(C7,"L-T","L") -> MAI4A5GL | E7: =SUBSTITUTE(D7,"L/V","L") -> MAI4A5GL | F7: 5 | G7: Irányitástechnika II. | H7: 8
A8: 7 | B8: AI | C8: MAI0B1L-T | D8: =SUBSTITUTE(C8,"L-T","L") -> MAI0B1L | E8: =SUBSTITUTE(D8,"L/V","L") -> MAI0B1L | F8: 4 | G8: Hidraulikus irányítástechnika | H8: 14
A9: 8 | B9: AI | C9: MAI5A5GL-T | D9: =SUBSTITUTE(C9,"L-T","L") -> MAI5A5GL | E9: =SUBSTITUTE(D9,"L/V","L") -> MAI5A5GL | F9: 5 | G9: Irányitástechnika III. | H9: 43
A10: 9 | B10: AI | C10: MAI2A5GL-T | D10: =SUBSTITUTE(C10,"L-T","L") -> MAI2A5GL | E10: =SUBSTITUTE(D10,"L/V","L") -> MAI2A5GL | F10: 2 | G10: Informatika II. | H10: 1
A11: 10 | B11: AI | C11: MAI0D1L-T | D11: =SUBSTITUTE(C11,"L-T","L") -> MAI0D1L | E11: =SUBSTITUTE(D11,"L/V","L") -> MAI0D1L | F11: 4 | G11: Ipari folyamatok méréstechnikája | H11: 1
A12: 11 | B12: AI | C12: MAI0D2L-T | D12: =SUBSTITUTE(C12,"L-T","L") -> MAI0D2L | E12: =SUBSTITUTE(D12,"L/V","L") -> MAI0D2L | F12: 4 | G12: Ipari folyamatok méréstechnikája | H12: 4
A13: 12 | B13: AI | C13: MAI0G1L-T | D13: =SUBSTITUTE(C13,"L-T","L") -> MAI0G1L | E13: =SUBSTITUTE(D13,"L/V","L") -> MAI0G1L | F13: 4 | G13: Mechatronika A I. | H13: 1
... A265: 264 | B265: MA | C265: MMA3B1L-T/V | D265: =SUBSTITUTE(C265,"L-T","L") -> MMA3B1L/V | E265: =SUBSTITUTE(D265,"L/V","L") -> MMA3B1L | F265: 4 | G265: Műanyagipari technológiák | H265: 2

Sheet félév-tárgy-g
C2: létszám | D2: kreditálás | E2: lap | F2: tanterv-szakir | G2: félév | H2: Tárgy-kód | I2: Tárgynév | J2: Kredit | K2: Köv | L2: Félévi óraszám | M2: Választ-hatóság | N2: Tantárgyfelelős | O2: beosztás | P2: Létszám (előzetes)
C3: =VLOOKUP($H3,Munka2!$E$2:$H$265,4,FALSE) -> 21 | D3: MGT1A5GL | F3: G-BSc-2007 | G3: 1 | H3: MGT1A5GL | I3: Mechanika I. | J3: 3 | K3: f | L3: 12 | M3: K | N3: Dr. Tuskó László | O3: főiskolai tanár | P3: 21 | S3: 21 | T3: =IF(ISERROR(S3),"",S3) -> 21
C4: =VLOOKUP($H4,Munka2!$E$2:$H$265,4,FALSE) -> 1 | D4: MGT1A5GL | F4: G-04 | G4: 1 | H4: MGT1A1L | I4: Műszaki mechanika I. | J4: 4 | K4: f | L4: 12 | M4: K | N4: Dr. Tuskó László | O4: főiskolai tanár | P4: 1 | S4: 1 | T4: =IF(ISERROR(S4),"",S4) -> 1
C5: =VLOOKUP($H5,Munka2!$E$2:$H$265,4,FALSE) -> #N/A | D5: MGT1B5GL | F5: G-BSc-2007 | G5: 1 | H5: MGT1B5GL | I5: Műszaki ábrázolás | J5: 3 | K5: f | L5: 12 | M5: K | N5: Kéri Ferenc | O5: főiskolai adjunktus | S5: #N/A | T5: =IF(ISERROR(S5),"",S5)
C6: =VLOOKUP($H6,Munka2!$E$2:$H$265,4,FALSE) -> #N/A | D6: MGT1B5GL | F6: G-04 | G6: 1 | H6: MGT2P1L | I6: Műszaki ábrázolás | J6: 4 | K6: f | L6: 12 | M6: K | N6: Kéri Ferenc | O6: főiskolai adjunktus | S6: #N/A | T6: =IF(ISERROR(S6),"",S6)
C7: =VLOOKUP($H7,Munka2!$E$2:$H$265,4,FALSE) -> #N/A | D7: MMF1A6GL | F7: G-BSc-2007 | G7: 1 | H7: MMF1A6GL | I7: Analízis I. | J7: 5 | K7: f | L7: 16 | M7: K | N7: Hajdú Edit | O7: főiskolai adjunktus | S7: #N/A | T7: =IF(ISERROR(S7),"",S7)
D8: MMF1A6GL | F8: G-BSc-2005 | G8: 1 | H8: MMF1A5GL | I8: Matematika I. | J8: 5 | K8: f | L8: 16 | M8: K | N8: Hajdú Edit | O8: főiskolai adjunktus | T8: =IF(ISERROR(S8),"",S8) -> 0
C9: =VLOOKUP($H9,Munka2!$E$2:$H$265,4,FALSE) -> 3 | D9: MMF1A6GL | F9: G-04 | G9: 1 | H9: MMF1A2L | I9: Analízis I. | J9: 5 | K9: f | L9: 16 | M9: K | N9: Hajdú Edit | O9: főiskolai adjunktus | P9: 3 | S9: 3 | T9: =IF(ISERROR(S9),"",S9) -> 3
C10: =VLOOKUP($H10,Munka2!$E$2:$H$265,4,FALSE) -> #N/A | D10: MMF1A6GL | F10: G-01 | G10: 1 | H10: MMF1A1L | I10: Matematika A I. | J10: 4 | K10: f | L10: 16 | M10: K | N10: Hajdú Edit | O10: főiskolai adjunktus | S10: #N/A | T10: =IF(ISERROR(S10),"",S10)
C11: =VLOOKUP($H11,Munka2!$E$2:$H$265,4,FALSE) -> 24 | D11: MMT1A5GL | F11: G-BSc-2007 | G11: 1 | H11: MMT1A5GL | I11: Anyagismeret A I. | J11: 5 | K11: f | L11: 16 | M11: K | N11: Dr. Bernáth Mihály | O11: főiskolai docens | P11: 24 | S11: 24 | T11: =IF(ISERROR(S11),"",S11) -> 24
C12: =VLOOKUP($H12,Munka2!$E$2:$H$265,4,FALSE) -> 2 | D12: MMT1A5GL | F12: G-04 | G12: 1 | H12: MMT1A1L | I12: Anyagismeret A I. | J12: 5 | K12: f | L12: 16 | M12: K | N12: Dr. Bernáth Mihály | O12: főiskolai docens | P12: 2 | S12: 2 | T12: =IF(ISERROR(S12),"",S12) -> 2
C13: =VLOOKUP($H13,Munka2!$E$2:$H$265,4,FALSE) -> #N/A | D13: MAI1A6GL | F13: G-BSc-2007 | G13: 1 | H13: MAI1A6GL | I13: Informatika | J13: 5 | K13: v | L13: 16 | M13: K | N13: Kósa János | O13: főiskolai adjunktus | S13: #N/A | T13: =IF(ISERROR(S13),"",S13)
D14: MAI1A6GL | F14: G-BSc-2005 | G14: 1 | H14: MAI1A5GL | I14: Informatika I. | J14: 3 | K14: v | L14: 8 | M14: K | N14: Kósa János | O14: főiskolai adjunktus | T14: =IF(ISERROR(S14),"",S14) -> 0
D15: MAI1A6GL | F15: G-04 | G15: 1 | H15: MAI0C1L | I15: Informatikai alapismeretek A | J15: 2 | K15: v | L15: 8 | M15: K | N15: Kósa János | O15: főiskolai adjunktus | T15: =IF(ISERROR(S15),"",S15) -> 0
C16: =VLOOKUP($H16,Munka2!$E$2:$H$265,4,FALSE) -> #N/A | D16: MAI1A6GL | F16: G-04 | G16: 2 | H16: MAI0L1L | I16: Számítástechnika A | J16: 2 | K16: f | L16: 8 | M16: K | N16: Kósa János | O16: főiskolai adjunktus | S16: #N/A | T16: =IF(ISERROR(S16),"",S16)
C17: =VLOOKUP($H17,Munka2!$E$2:$H$265,4,FALSE) -> 1 | D17: MGI3A6GL | F17: G-BSc-2005 | G17: 1 | H17: MGI1A5GL | I17: Közgazdaságtan | J17: 2 | K17: v | L17: 8 | M17: K | N17: Károlyné Dóra Margit | O17: főiskolai adjunktus | P17: 1 | S17: 1 | T17: =IF(ISERROR(S17),"",S17) -> 1
C18: =VLOOKUP($H18,Munka2!$E$2:$H$265,4,FALSE) -> #N/A | D18: MGY1A6GL | F18: G-BSc-2007 | G18: 1 | H18: MGY1A6GL | I18: Munkavédelem, biztonságtechnika | J18: 3 | K18: v | L18: 8 | M18: K | N18: Dr. Jakab Sándor | O18: főiskolai docens | S18: #N/A | T18: =IF(ISERROR(S18),"",S18)
D19: MGY1A6GL | F19: G-BSc-2005 | G19: 1 | H19: MGY1A5GL | I19: Munkavédelem, biztonságtechnika | J19: 2 | K19: v | L19: 8 | M19: K | N19: Dr. Jakab Sándor | O19: főiskolai docens | T19: =IF(ISERROR(S19),"",S19) -> 0
C20: =VLOOKUP($H20,Munka2!$E$2:$H$265,4,FALSE) -> 6 | D20: MGY1A6GL | F20: G-04 | G20: 1 | H20: MGY1J1L | I20: Munkavédelem, biztonságtechnika | J20: 2 | K20: v | L20: 8 | M20: K | N20: Dr. Jakab Sándor | O20: főiskolai docens | P20: 6 | S20: 6 | T20: =IF(ISERROR(S20),"",S20) -> 6
C21: =VLOOKUP($H21,Munka2!$E$2:$H$265,4,FALSE) -> 1 | D21: MMA1A5GL | F21: G-BSc-2007 | G21: 1 | H21: MMA1A5GL | I21: Kémia A | J21: 3 | K21: v | L21: 8 | M21: K | N21: Ádámné Major Andrea | O21: főiskolai tanársegéd | P21: 1 | S21: 1 | T21: =IF(ISERROR(S21),"",S21) -> 1
C22: =VLOOKUP($H22,Munka2!$E$2:$H$265,4,FALSE) -> #N/A | D22: MMA1A5GL | F22: G-04 | G22: 1 | H22: MMA1A1L | I22: Kémia | J22: 2 | K22: v | L22: 8 | M22: K | N22: Ádámné Major Andrea | O22: főiskolai tanársegéd | S22: #N/A | T22: =IF(ISERROR(S22),"",S22)
C23: =VLOOKUP($H23,Munka2!$E$2:$H$265,4,FALSE) -> 2 | D23: MMF1B5GL | F23: G-BSc-2007 | G23: 1 | H23: MMF1B5GL | I23: Fizika I. | J23: 5 | K23: v | L23: 16 | M23: K | N23: Nagy Péter | O23: főiskolai docens | P23: 2 | S23: 2 | T23: =IF(ISERROR(S23),"",S23) -> 2
C24: =VLOOKUP($H24,Munka2!$E$2:$H$265,4,FALSE) -> 1 | D24: MMF1B5GL | F24: G-04 | G24: 1 | H24: MMF2A2L | I24: Fizika I. | J24: 5 | K24: v | L24: 16 | M24: K | N24: Nagy Péter | O24: főiskolai docens | P24: 1 | S24: 1 | T24: =IF(ISERROR(S24),"",S24) -> 1
C25: =VLOOKUP($H25,Munka2!$E$2:$H$265,4,FALSE) -> 3 | D25: MMF1B5GL | F25: G-01 | G25: 1 | H25: MMF2A1L | I25: Fizika | J25: 4 | K25: v | L25: 16 | M25: K | N25: Nagy Péter | O25: főiskolai docens | P25: 3 | S25: 3 | T25: =IF(ISERROR(S25),"",S25) -> 3
C26: =VLOOKUP($H26,Munka2!$E$2:$H$265,4,FALSE) -> #N/A | D26: MMF1C7GL | F26: G-BSc-2007 | G26: 1 | H26: MMF1C7GL | I26: Matematikai alapismeretek | J26: 3 | K26: f | L26: 8 | M26: SZ | N26: Dr. Csenki Róbert | O26: főiskolai docens | S26: #N/A | T26: =IF(ISERROR(S26),"",S26)
C27: =VLOOKUP($H27,Munka2!$E$2:$H$265,4,FALSE) -> 5 | D27: MMF1C7GL | F27: G-BSc-2006 | G27: 1 | H27: MMF1C6GL | I27: Matematikai alapismeretek | J27: 2 | K27: f | L27: 8 | M27: SZ | N27: Dr. Csenki Róbert | O27: főiskolai docens | P27: 5 | S27: 5 | T27: =IF(ISERROR(S27),"",S27) -> 5
C28: =VLOOKUP($H28,Munka2!$E$2:$H$265,4,FALSE) -> #N/A | D28: MMF1C7GL | F28: G-04 | G28: 1 | H28: MMF1D2L | I28: Matematikai alapismeretek | J28: 2 | K28: f | L28: 8 | M28: SZ | N28: Dr. Csenki Róbert | O28: főiskolai docens | S28: #N/A | T28: =IF(ISERROR(S28),"",S28)
C29: =VLOOKUP($H29,Munka2!$E$2:$H$265,4,FALSE) -> #N/A | D29: MMF1C7GL | F29: G-01 | G29: 1 | H29: MMF1D1L | I29: Matematikai alapismeretek | J29: 2 | K29: v | L29: 8 | M29: SZ | N29: Dr. Csenki Róbert | O29: főiskolai docens | S29: #N/A | T29: =IF(ISERROR(S29),"",S29)
C30: =VLOOKUP($H30,Munka2!$E$2:$H$265,4,FALSE) -> #N/A | D30: MMF1D7GL | F30: G-BSc-2007 | G30: 1 | H30: MMF1D7GL | I30: Fizikai alapismeretek | J30: 3 | K30: f | L30: 8 | M30: SZ | N30: Jusztin Zsuzsanna | O30: műszaki tanár | S30: #N/A | T30: =IF(ISERROR(S30),"",S30)
C31: =VLOOKUP($H31,Munka2!$E$2:$H$265,4,FALSE) -> 4 | D31: MMF1D7GL | F31: G-BSc-2006 | G31: 1 | H31: MMF1D6GL | I31: Fizikai alapismeretek | J31: 2 | K31: f | L31: 8 | M31: SZ | N31: Jusztin Zsuzsanna | O31: műszaki tanár | P31: 4 | S31: 4 | T31: =IF(ISERROR(S31),"",S31) -> 4
C32: =VLOOKUP($H32,Munka2!$E$2:$H$265,4,FALSE) -> #N/A | D32: MMF1D7GL | F32: G-04 | G32: 1 | H32: MMF2C2L | I32: Fizikai alapismeretek | J32: 2 | K32: f | L32: 8 | M32: SZ | N32: Jusztin Zsuzsanna | O32: műszaki tanár | S32: #N/A | T32: =IF(ISERROR(S32),"",S32)
C33: =VLOOKUP($H33,Munka2!$E$2:$H$265,4,FALSE) -> #N/A | D33: MMF1D7GL | F33: G-01 | G33: 1 | H33: MMF2C1L | I33: Fizika alapjai | J33: 2 | K33: v | L33: 8 | M33: SZ | N33: Jusztin Zsuzsanna | O33: műszaki tanár | S33: #N/A | T33: =IF(ISERROR(S33),"",S33)
C34: =VLOOKUP($H34,Munka2!$E$2:$H$265,4,FALSE) -> 1 | D34: MAI1A6GL | F34: G-BSc-2005 | G34: 2 | H34: MAI2A5GL | I34: Informatika II. | J34: 2 | K34: f | L34: 8 | M34: K | N34: Kósa János | O34: főiskolai adjunktus | P34: 1 | S34: 1 | T34: =IF(ISERROR(S34),"",S34) -> 1
C35: =VLOOKUP($H35,Munka2!$E$2:$H$265,4,FALSE) -> 21 | D35: MMF2B6GL | F35: G-BSc-2007 | G35: 2 | H35: MMF2B6GL | I35: Analízis II. | J35: 5 | K35: f | L35: 16 | M35: K | N35: Keresztszeghy István | O35: oktatásszervező | P35: 21 | S35: 21 | T35: =IF(ISERROR(S35),"",S35) -> 21
C36: =VLOOKUP($H36,Munka2!$E$2:$H$265,4,FALSE) -> 10 | D36: MMF2B6GL | F36: G-BSc-2005 | G36: 2 | H36: MMF2B5GL | I36: Matematika II. | J36: 5 | K36: f | L36: 16 | M36: K | N36: Keresztszeghy István | O36: oktatásszervező | P36: 10 | S36: 10 | T36: =IF(ISERROR(S36),"",S36) -> 10
C37: =VLOOKUP($H37,Munka2!$E$2:$H$265,4,FALSE) -> 6 | D37: MMF2B6GL | F37: G-04 | G37: 2 | H37: MMF1B2L | I37: Analízis II. | J37: 5 | K37: f | L37: 16 | M37: K | N37: Keresztszeghy István | O37: oktatásszervező | P37: 6 | S37: 6 | T37: =IF(ISERROR(S37),"",S37) -> 6
C38: =VLOOKUP($H38,Munka2!$E$2:$H$265,4,FALSE) -> 2 | D38: MMF2B6GL | F38: G-01 | G38: 2 | H38: MMF1B1L | I38: Matematika A II. | J38: 4 | K38: f | L38: 16 | M38: K | N38: Keresztszeghy István | O38: oktatásszervező | P38: 2 | S38: 2 | T38: =IF(ISERROR(S38),"",S38) -> 2
C39: =VLOOKUP($H39,Munka2!$E$2:$H$265,4,FALSE) -> 4 | D39: MMF1C1L | F39: G-04 | G39: 2 | H39: MMF1C1L | I39: Matematika szigorlat A | J39: 0 | K39: s | M39: K | N39: Keresztszeghy István | O39: oktatásszervező | P39: 4 | S39: 4 | T39: =IF(ISERROR(S39),"",S39) -> 4
C40: =VLOOKUP($H40,Munka2!$E$2:$H$265,4,FALSE) -> 15 | D40: MGT2A6GL | F40: G-BSc-2007 | G40: 2 | H40: MGT2A6GL | I40: Általános géptan | J40: 4 | K40: v | L40: 12 | M40: K | N40: Dr. Tuskó László | O40: főiskolai tanár | P40: 15 | S40: 15 | T40: =IF(ISERROR(S40),"",S40) -> 15
C41: =VLOOKUP($H41,Munka2!$E$2:$H$265,4,FALSE) -> 4 | D41: MGT2A6GL | F41: G-BSc-2005 | G41: 2 | H41: MGT2A5GL | I41: Általános géptan | J41: 4 | K41: v | L41: 16 | M41: K | N41: Dr. Tuskó László | O41: főiskolai tanár | P41: 4 | S41: 4 | T41: =IF(ISERROR(S41),"",S41) -> 4
C42: =VLOOKUP($H42,Munka2!$E$2:$H$265,4,FALSE) -> 4 | D42: MGT2A6GL | F42: G-04 | G42: 3 | H42: MGT2F1L | I42: Géptan | J42: 4 | K42: v | L42: 12 | M42: K | N42: Dr. Tuskó László | O42: főiskolai tanár | P42: 4
C43: =VLOOKUP($H43,Munka2!$E$2:$H$265,4,FALSE) -> 17 | D43: MGT2C5GL | F43: G-BSc-2007 | G43: 2 | H43: MGT2C5GL | I43: Mechanika II. | J43: 5 | K43: v | L43: 16 | M43: K | N43: Jakubek Lajos | O43: főiskolai adjunktus | P43: 17 | S43: 17 | T43: =IF(ISERROR(S43),"",S43) -> 17
C44: =VLOOKUP($H44,Munka2!$E$2:$H$265,4,FALSE) -> 2 | D44: MGT2C5GL | F44: G-04 | G44: 2 | H44: MGT1B1L | I44: Műszaki mechanika II. | J44: 5 | K44: v | L44: 16 | M44: K | N44: Jakubek Lajos | O44: főiskolai adjunktus | P44: 2 | S44: 2 | T44: =IF(ISERROR(S44),"",S44) -> 2
C45: =VLOOKUP($H45,Munka2!$E$2:$H$265,4,FALSE) -> 3 | D45: MMT2A6GL | F45: G-BSc-2007 | G45: 2 | H45: MMT2A6GL | I45: Anyagismeret A II. | J45: 5 | K45: v | L45: 16 | M45: K | N45: Fazekasné dr. Berta Mária | O45: főiskolai docens | P45: 3 | S45: 3 | T45: =IF(ISERROR(S45),"",S45) -> 3
C46: =VLOOKUP($H46,Munka2!$E$2:$H$265,4,FALSE) -> 1 | D46: MMT2A6GL | F46: G-BSc-2005 | G46: 2 | H46: MMT2A5GL | I46: Anyagismeret A II. | J46: 5 | K46: v | L46: 16 | M46: K | N46: Fazekasné dr. Berta Mária | O46: főiskolai docens | P46: 1 | S46: 1 | T46: =IF(ISERROR(S46),"",S46) -> 1
C47: =VLOOKUP($H47,Munka2!$E$2:$H$265,4,FALSE) -> 17 | D47: MMT2A6GL | F47: G-04 | G47: 2 | H47: MMT1B1L | I47: Anyagismeret A II. | J47: 5 | K47: v | L47: 16 | M47: K | N47: Fazekasné dr. Berta Mária | O47: főiskolai docens | P47: 17 | S47: 17 | T47: =IF(ISERROR(S47),"",S47) -> 17
C48: =VLOOKUP($H48,Munka2!$E$2:$H$265,4,FALSE) -> 17 | D48: MMT2A6GL | F48: G-01 | G48: 2 | H48: MMT1B1L | I48: Anyagismeret A II. | J48: 5 | K48: v | L48: 16 | M48: K | N48: Fazekasné dr. Berta Mária | O48: főiskolai docens | P48: 17 | S48: 17 | T48: =IF(ISERROR(S48),"",S48) -> 17
C49: =VLOOKUP($H49,Munka2!$E$2:$H$265,4,FALSE) -> 46 | D49: MGT3A5GL | F49: G-BSc-2007 | G49: 3 | H49: MGT3A5GL | I49: CAD-technikák | J49: 3 | K49: f | L49: 12 | M49: K | N49: Jakubek Lajos | O49: főiskolai adjunktus | P49: 46 | S49: 46 | T49: =IF(ISERROR(S49),"",S49) -> 46
C50: =VLOOKUP($H50,Munka2!$E$2:$H$265,4,FALSE) -> 4 | D50: MGT3A5GL | F50: G-04 | G50: 3 | H50: MGT2B1L | I50: CAD-technikák | J50: 3 | K50: f | L50: 12 | M50: K | N50: Jakubek Lajos | O50: főiskolai adjunktus | P50: 4 | S50: 4 | T50: =IF(ISERROR(S50),"",S50) -> 4
C51: =VLOOKUP($H51,Munka2!$E$2:$H$265,4,FALSE) -> 28 | D51: MGT3C5GL | F51: G-BSc-2007 | G51: 3 | H51: MGT3C5GL | I51: Mechanika III. | J51: 4 | K51: f | L51: 12 | M51: K | N51: Jakubek Lajos | O51: főiskolai adjunktus | P51: 28 | S51: 28 | T51: =IF(ISERROR(S51),"",S51) -> 28
C52: =VLOOKUP($H52,Munka2!$E$2:$H$265,4,FALSE) -> 3 | D52: MGT3C5GL | F52: G-04 | G52: 3 | H52: MGT1C1L | I52: Műszaki mechanika III. | J52: 4 | K52: f | L52: 12 | M52: K | N52: Jakubek Lajos | O52: főiskolai adjunktus | P52: 3 | S52: 3 | T52: =IF(ISERROR(S52),"",S52) -> 3
C53: =VLOOKUP($H53,Munka2!$E$2:$H$265,4,FALSE) -> 44 | D53: MGY3A5GL | F53: G-BSc-2007 | G53: 3 | H53: MGY3A5GL | I53: Gépipari mérések | J53: 3 | K53: f | L53: 12 | M53: K | N53: László Istvánné | O53: főiskolai adjunktus | P53: 44 | S53: 44 | T53: =IF(ISERROR(S53),"",S53) -> 44
C54: =VLOOKUP($H54,Munka2!$E$2:$H$265,4,FALSE) -> 4 | D54: MGY3A5GL | F54: G-04 | G54: 3 | H54: MGY6B1L | I54: Gépipari mérések | J54: 3 | K54: f | L54: 12 | M54: K | N54: László Istvánné | O54: főiskolai adjunktus | P54: 4 | S54: 4 | T54: =IF(ISERROR(S54),"",S54) -> 4
C55: =VLOOKUP($H55,Munka2!$E$2:$H$265,4,FALSE) -> 16 | F55: G-04 | G55: 3 | H55: MGT1D1L | I55: Műszaki mechanika szigorlat | J55: 0 | K55: s | M55: K | N55: Jakubek Lajos | O55: főiskolai adjunktus | P55: 16 | S55: 16 | T55: =IF(ISERROR(S55),"",S55) -> 16
C56: =VLOOKUP($H56,Munka2!$E$2:$H$265,4,FALSE) -> 39 | D56: MEK3A5GL | F56: G-BSc-2007 | G56: 3 | H56: MEK3A5GL | I56: Irányítástechnika I. | J56: 4 | K56: v | L56: 12 | M56: K | N56: Patay Tibor | O56: főiskolai adjunktus | P56: 39 | S56: 39 | T56: =IF(ISERROR(S56),"",S56) -> 39
C57: =VLOOKUP($H57,Munka2!$E$2:$H$265,4,FALSE) -> 6 | D57: MEK3A5GL | F57: G-04 | G57: 4 | H57: MEK2B1L | I57: Irányítástechnika B | J57: 3 | K57: v | L57: 12 | M57: K | N57: Patay Tibor | O57: főiskolai adjunktus | P57: 6 | S57: 6 | T57: =IF(ISERROR(S57),"",S57) -> 6
C58: =VLOOKUP($H58,Munka2!$E$2:$H$265,4,FALSE) -> 40 | D58: MGI3A6GL | F58: G-BSc-2007 | G58: 3 | H58: MGI3A6GL | I58: Közgazdaságtan | J58: 4 | K58: v | L58: 12 | M58: K | N58: Károlyné Dóra Margit | O58: főiskolai adjunktus | P58: 40 | S58: 40 | T58: =IF(ISERROR(S58),"",S58) -> 40
C59: =VLOOKUP($H59,Munka2!$E$2:$H$265,4,FALSE) -> 2 | D59: MGI3A6GL | F59: G-04 | G59: 2 | H59: MGZ5B1L | I59: Gazdasági és társadalmi ismeretek I. | J59: 3 | K59: v | L59: 12 | M59: K | N59: Károlyné Dóra Margit | O59: főiskolai adjunktus | P59: 2 | S59: 4 | T59: =IF(ISERROR(S59),"",S59) -> 4
C60: =VLOOKUP($H60,Munka2!$E$2:$H$265,4,FALSE) -> 61 | D60: MGT3B5GL | F60: G-BSc-2007 | G60: 3 | H60: MGT3B5GL | I60: Gépelemek II. | J60: 5 | K60: v | L60: 16 | M60: K | N60: Fazekas László | O60: főiskolai docens | P60: 61 | S60: 61 | T60: =IF(ISERROR(S60),"",S60) -> 61
C61: =VLOOKUP($H61,Munka2!$E$2:$H$265,4,FALSE) -> 12 | D61: MGT3B5GL | F61: G-04 | G61: 3 | H61: MGT2E1L | I61: Gépelemek A II. | J61: 5 | K61: v | L61: 16 | M61: K | N61: Fazekas László | O61: főiskolai docens | P61: 12 | S61: 12 | T61: =IF(ISERROR(S61),"",S61) -> 12
C62: =VLOOKUP($H62,Munka2!$E$2:$H$265,4,FALSE) -> 45 | D62: MMF3A5GL | F62: G-BSc-2007 | G62: 3 | H62: MMF3A5GL | I62: Áramlástan | J62: 4 | K62: v | L62: 12 | M62: K | N62: Bársony István | O62: főiskolai adjunktus | P62: 45 | S62: 45 | T62: =IF(ISERROR(S62),"",S62) -> 45
C63: =VLOOKUP($H63,Munka2!$E$2:$H$265,4,FALSE) -> 56 | D63: MMT3A5GL | F63: G-BSc-2007 | G63: 3 | H63: MMT3A5GL | I63: Előgyártási technológiák | J63: 4 | K63: v | L63: 12 | M63: K | N63: Dr. Végvári Ferenc | O63: főiskolai tanár | P63: 56 | S63: 56 | T63: =IF(ISERROR(S63),"",S63) -> 56
C64: =VLOOKUP($H64,Munka2!$E$2:$H$265,4,FALSE) -> 2 | D64: MMT3A5GL | F64: G-04 | G64: 3 | H64: MMT1D2L | I64: Előgyártási technológiák A | J64: 4 | K64: v | L64: 12 | M64: K | N64: Dr. Végvári Ferenc | O64: főiskolai tanár | P64: 2 | S64: 2 | T64: =IF(ISERROR(S64),"",S64) -> 2
C65: =VLOOKUP($H65,Munka2!$E$2:$H$265,4,FALSE) -> 5 | D65: MMT3A5GL | F65: G-01 | G65: 3 | H65: MMT1D1L | I65: Előgyártási technológiák A | J65: 3 | K65: v | L65: 12 | M65: K | N65: Dr. Végvári Ferenc | O65: főiskolai tanár | P65: 5 | S65: 5 | T65: =IF(ISERROR(S65),"",S65) -> 5
C66: =VLOOKUP($H66,Munka2!$E$2:$H$265,4,FALSE) -> 18 | F66: G-04 | G66: 3 | H66: MGZ3P1L | I66: Pénzügytan | J66: 2 | K66: v | L66: 8 | M66: K | N66: Alter Róbert | O66: főiskolai docens | P66: 18 | S66: 18 | T66: =IF(ISERROR(S66),"",S66) -> 18
C67: =VLOOKUP($H67,Munka2!$E$2:$H$265,4,FALSE) -> 67 | D67: MIN3A7GL | F67: G-BSc-2007 | G67: 3 | H67: MIN3A7GL | I67: Webes tartalomkezelő rendszerek | J67: 2 | K67: f | L67: 8 | M67: SZ | N67: Nagy Gusztáv | O67: tanszéki mérnök | P67: 67 | S67: 67 | T67: =IF(ISERROR(S67),"",S67) -> 67
C68: =VLOOKUP($H68,Munka2!$E$2:$H$265,4,FALSE) -> #N/A | D68: MAI3B7GL | F68: G-BSc-2007 | G68: 3 | H68: MAI3B7GL | I68: Szupravezetők alkalmazása | J68: 3 | K68: v | L68: 8 | M68: SZ | N68: Kósa János | O68: főiskolai adjunktus | S68: #N/A | T68: =IF(ISERROR(S68),"",S68)
C69: =VLOOKUP($H69,Munka2!$E$2:$H$265,4,FALSE) -> 17 | D69: MAI3B7GL | F69: G-BSc-2006 | G69: 3 | H69: MAI3B5GL | I69: Szupravezetők alkalmazása | J69: 2 | K69: v | L69: 8 | M69: SZ | N69: Kósa János | O69: főiskolai adjunktus | P69: 17 | S69: 17 | T69: =IF(ISERROR(S69),"",S69) -> 17
C70: =VLOOKUP($H70,Munka2!$E$2:$H$265,4,FALSE) -> 21 | D70: MAI3B7GL | F70: G-04 | G70: 3 | H70: MAI9Z1L | I70: Szupravezetők alkalmazása | J70: 2 | K70: v | L70: 8 | M70: SZ | N70: Kósa János | O70: főiskolai adjunktus | P70: 21 | S70: 21 | T70: =IF(ISERROR(S70),"",S70) -> 21
C71: =VLOOKUP($H71,Munka2!$E$2:$H$265,4,FALSE) -> 8 | D71: MAI4A5GL | F71: G-BSc-2007 | G71: 4 | H71: MAI4A5GL | I71: Irányítástechnika II. | J71: 5 | K71: f | L71: 16 | M71: K | N71: Dr. Lajtai Iván | O71: főiskolai docens | P71: 8 | S71: 8 | T71: =IF(ISERROR(S71),"",S71) -> 8
C72: =VLOOKUP($H72,Munka2!$E$2:$H$265,4,FALSE) -> 3 | D72: MAI4A5GL | F72: G-04 | G72: 3 | H72: MAI0K1L | I72: Pneumatikus irányítástechnika | J72: 4 | K72: f | L72: 16 | M72: K | N72: Dr. Lajtai Iván | O72: főiskolai docens | P72: 3
C73: =VLOOKUP($H73,Munka2!$E$2:$H$265,4,FALSE) -> 3 | D73: MMF4A5GL | F73: G-BSc-2007 | G73: 4 | H73: MMF4A5GL | I73: Valószínűségszámítás és statisztika A | J73: 4 | K73: f | L73: 12 | M73: K | N73: Bársony István | O73: főiskolai adjunktus | P73: 3 | S73: 3 | T73: =IF(ISERROR(S73),"",S73) -> 3
C74: =VLOOKUP($H74,Munka2!$E$2:$H$265,4,FALSE) -> 1 | D74: MMF4A5GL | F74: G-04 | G74: 4 | H74: MMF1E1L | I74: Matematikai statisztika | J74: 4 | K74: f | L74: 16 | M74: SZ | N74: Bársony István | O74: főiskolai adjunktus | P74: 1 | S74: 1 | T74: =IF(ISERROR(S74),"",S74) -> 1
C75: =VLOOKUP($H75,Munka2!$E$2:$H$265,4,FALSE) -> 36 | D75: MMT4A5GL | F75: G-BSc-2007 | G75: 4 | H75: MMT4A5GL | I75: Mechanikai technológiák A I. | J75: 5 | K75: f | L75: 16 | M75: K | N75: Dr. Végvári Ferenc Dr. Bernáth Mihály | O75: főiskolai tanár főiskolai docens | P75: 36 | S75: 36 | T75: =IF(ISERROR(S75),"",S75) -> 36
C76: =VLOOKUP($H76,Munka2!$E$2:$H$265,4,FALSE) -> 3 | D76: MGI4A5GL | F76: G-BSc-2007 | G76: 4 | H76: MGI4A5GL | I76: Vállalkozás-gazdaságtan | J76: 4 | K76: v | L76: 12 | M76: K | N76: Dr. Kovács Beatrix | O76: főiskolai docens | P76: 3 | S76: 3 | T76: =IF(ISERROR(S76),"",S76) -> 3
C77: =VLOOKUP($H77,Munka2!$E$2:$H$265,4,FALSE) -> 12 | D77: MGI4A5GL | F77: G-04 | G77: 4 | H77: MGZ3X1L | I77: Vállalatgazdaságtan | J77: 2 | K77: v | L77: 8 | M77: K | N77: Dr. Kovács Beatrix | O77: főiskolai docens | P77: 12 | S77: 12 | T77: =IF(ISERROR(S77),"",S77) -> 12
C78: =VLOOKUP($H78,Munka2!$E$2:$H$265,4,FALSE) -> 38 | F78: G-04 | G78: 4 | H78: MMT1P1L | I78: Mechanikai technológiák A | J78: 4 | K78: v | L78: 16 | M78: K | N78: Dr. Bernáth Mihály | O78: főiskolai docens | P78: 38 | S78: 38 | T78: =IF(ISERROR(S78),"",S78) -> 38
C79: =VLOOKUP($H79,Munka2!$E$2:$H$265,4,FALSE) -> 2 | F79: G-04 | G79: 4 | H79: MGZ9I1L | I79: Politológia | J79: 3 | K79: f | L79: 8 | M79: SZ | N79: Dr .Tóth József | O79: főiskolai docens | P79: 2 | Q79: EGYÉNI | S79: 2 | T79: =IF(ISERROR(S79),"",S79) -> 2
C80: =VLOOKUP($H80,Munka2!$E$2:$H$265,4,FALSE) -> 43 | D80: MAI5A5GL | F80: G-BSc-2007 | G80: 5 | H80: MAI5A5GL | I80: Irányítástechnika III. | J80: 5 | K80: f | L80: 16 | M80: K | N80: Hegedűs Zoltán | O80: főiskolai docens | P80: 43 | S80: 43 | T80: =IF(ISERROR(S80),"",S80) -> 43
C81: =VLOOKUP($H81,Munka2!$E$2:$H$265,4,FALSE) -> 14 | D81: MAI5A5GL | F81: G-04 | G81: 4 | H81: MAI0B1L | I81: Hidraulikus irányítástechnika | J81: 4 | K81: f | L81: 16 | M81: K | N81: Hegedűs Zoltán | O81: főiskolai docens | P81: 14
C82: =VLOOKUP($H82,Munka2!$E$2:$H$265,4,FALSE) -> 54 | D82: MGY5B5GL | F82: G-BSc-2007 | G82: 5 | H82: MGY5B5GL | I82: Gépgyártástechnológia II. | J82: 3 | K82: v | L82: 12 | M82: K | N82: Dr. Kodácsy János | O82: főiskolai tanár | P82: 54 | S82: 54 | T82: =IF(ISERROR(S82),"",S82) -> 54
C83: =VLOOKUP($H83,Munka2!$E$2:$H$265,4,FALSE) -> 54 | D83: MGY5A5GL | F83: G-BSc-2007 | G83: 5 | H83: MGY5A5GL | I83: CNC-technológia I. | J83: 4 | K83: f | L83: 12 | M83: K | N83: Dr. Boza Pál | O83: főiskolai docens | P83: 54 | S83: 54 | T83: =IF(ISERROR(S83),"",S83) -> 54
C84: =VLOOKUP($H84,Munka2!$E$2:$H$265,4,FALSE) -> 22 | D84: MGY5A5GL | F84: G-04 | G84: 5 | H84: MGY9A1L | I84: CNC technológia I. | J84: 4 | K84: f | L84: 12 | M84: K | N84: Dr. Boza Pál | O84: főiskolai docens | P84: 22 | S84: 22 | T84: =IF(ISERROR(S84),"",S84) -> 22
C85: =VLOOKUP($H85,Munka2!$E$2:$H$265,4,FALSE) -> 11 | F85: G-04 | G85: 5 | H85: MGZ4A1L | I85: Vállalkozási ismeretek | J85: 2 | K85: f | L85: 8 | M85: K | N85: Károlyné Dóra Margit | O85: főiskolai adjunktus | P85: 11 | S85: 11 | T85: =IF(ISERROR(S85),"",S85) -> 11
C86: =VLOOKUP($H86,Munka2!$E$2:$H$265,4,FALSE) -> 11 | F86: G-04 | G86: 5 | H86: MGZ6D2L | I86: Menedzsment | J86: 2 | K86: f | L86: 8 | M86: K | N86: Alter Róbert | O86: főiskolai docens | P86: 11 | S86: 11 | T86: =IF(ISERROR(S86),"",S86) -> 11
C87: =VLOOKUP($H87,Munka2!$E$2:$H$265,4,FALSE) -> 56 | D87: MGI5A5GL | F87: G-BSc-2007 | G87: 5 | H87: MGI5A5GL | I87: Jogi és államigazgatási alapismeretek | J87: 4 | K87: v | L87: 12 | M87: K | N87: Dr. Adorján Mihály | O87: óraadó | P87: 56 | S87: 56 | T87: =IF(ISERROR(S87),"",S87) -> 56
C88: =VLOOKUP($H88,Munka2!$E$2:$H$265,4,FALSE) -> 12 | D88: MGI5A5GL | F88: G-04 | G88: 5 | H88: MGZ9F1L | I88: Jogi alapismeretek | J88: 2 | K88: v | L88: 8 | M88: K | N88: Dr. Adorján Mihály | O88: óraadó | P88: 12 | S88: 12 | T88: =IF(ISERROR(S88),"",S88) -> 12
C89: =VLOOKUP($H89,Munka2!$E$2:$H$265,4,FALSE) -> 46 | D89: MMA5A5GL | F89: G-BSc-2007 | G89: 5 | H89: MMA5A5GL | I89: Műanyagfeldolgozás technológiája I. | J89: 5 | K89: v | L89: 16 | M89: K | N89: Csikai Pál | O89: főiskolai adjunktus | P89: 46 | S89: 46 | T89: =IF(ISERROR(S89),"",S89) -> 46
C90: =VLOOKUP($H90,Munka2!$E$2:$H$265,4,FALSE) -> 6 | D90: MMA5A5GL | F90: G-04 | G90: 4 | H90: MMA3A1L | I90: Műanyagfeldolgozás alapjai | J90: 5 | K90: v | L90: 16 | M90: K | N90: Csikai Pál | O90: főiskolai adjunktus | P90: 6 | S90: 6 | T90: =IF(ISERROR(S90),"",S90) -> 6
C91: =VLOOKUP($H91,Munka2!$E$2:$H$265,4,FALSE) -> 37 | D91: MMT5A5GL | F91: G-BSc-2007 | G91: 5 | H91: MMT5A5GL | I91: Mechanikai technológiák A II. | J91: 5 | K91: v | L91: 16 | M91: K | N91: Dr. Danyi József | O91: főiskolai tanár | P91: 37 | S91: 37 | T91: =IF(ISERROR(S91),"",S91) -> 37
C92: =VLOOKUP($H92,Munka2!$E$2:$H$265,4,FALSE) -> 57 | D92: MGT5A5GL | F92: G-BSc-2007 | G92: 5 | H92: MGT5A5GL | I92: Hő- és áramlástechnikai gépek | J92: 2 | K92: v | L92: 8 | M92: K | N92: Dr. Tuskó László | O92: főiskolai tanár | P92: 57 | S92: 57 | T92: =IF(ISERROR(S92),"",S92) -> 57
C93: =VLOOKUP($H93,Munka2!$E$2:$H$265,4,FALSE) -> 4 | D93: MEK3A2L | F93: G-04-AUT | G93: 5 | H93: MEK3A2L | I93: Digitális technika | J93: 5 | K93: f | L93: 16 | M93: KV | N93: Patay Tibor | O93: főiskolai adjunktus | P93: 4 | S93: 4 | T93: =IF(ISERROR(S93),"",S93) -> 4
C94: =VLOOKUP($H94,Munka2!$E$2:$H$265,4,FALSE) -> 1 | D94: MEK3A2L | F94: G-01-AUT | G94: 5 | H94: MEK3A1L | I94: Digitális technika | J94: 4 | K94: f | L94: 16 | M94: KV | N94: Patay Tibor | O94: főiskolai adjunktus | P94: 1 | S94: 1 | T94: =IF(ISERROR(S94),"",S94) -> 1
C95: =VLOOKUP($H95,Munka2!$E$2:$H$265,4,FALSE) -> 1 | D95: MAI0D2L | F95: G-01-AUT | G95: 5 | H95: MAI0D1L | I95: Ipari folyamatok méréstechnikája | J95: 4 | K95: v | L95: 12 | M95: KV | N95: Hegedűs Zoltán | O95: főiskolai docens | P95: 1 | S95: 1 | T95: =IF(ISERROR(S95),"",S95) -> 1
C96: =VLOOKUP($H96,Munka2!$E$2:$H$265,4,FALSE) -> 4 | D96: MAI0D2L | F96: G-04-AUT | G96: 5 | H96: MAI0D2L | I96: Ipari folyamatok méréstechnikája | J96: 4 | K96: v | L96: 12 | M96: KV | N96: Hegedűs Zoltán | O96: főiskolai docens | P96: 4 | S96: 4 | T96: =IF(ISERROR(S96),"",S96) -> 4
C97: =VLOOKUP($H97,Munka2!$E$2:$H$265,4,FALSE) -> 4 | D97: MAI0G2L | F97: G-04-AUT | G97: 5 | H97: MAI0G2L | I97: Mechatronika A I. | J97: 5 | K97: v | L97: 16 | M97: KV | N97: Dr. Lajtai Iván | O97: főiskolai docens | P97: 4 | S97: 4 | T97: =IF(ISERROR(S97),"",S97) -> 4
C98: =VLOOKUP($H98,Munka2!$E$2:$H$265,4,FALSE) -> 1 | D98: MAI0G2L | F98: G-01-AUT | G98: 5 | H98: MAI0G1L | I98: Mechatronika A I. | J98: 4 | K98: v | L98: 16 | M98: KV | N98: Dr. Lajtai Iván | O98: főiskolai docens | P98: 1 | S98: 1 | T98: =IF(ISERROR(S98),"",S98) -> 1
... C103: =VLOOKUP($H103,Munka2!$E$2:$H$265,4,FALSE) -> 1 | D103: MMA5A5GL | F103: G-01-MŰA | G103: 5 | H103: MMA7A1L | I103: Műanyagfeldolgozás technológiája I. | J103: 5 | K103: v | L103: 20 | M103: KV | N103: Csikai Pál | O103: főiskolai adjunktus | P103: 1 | S103: 1 | T103: =IF(ISERROR(S103),"",S103) -> 1
C104: =VLOOKUP($H104,Munka2!$E$2:$H$265,4,FALSE) -> 36 | F104: G-04 | G104: 5 | H104: MGZ9D1L | I104: Gazdaságtörténet A | J104: 4 | K104: v | L104: 12 | M104: SZ | N104: Dr. Tóth József | O104: főiskolai docens | P104: 36 | S104: 36 | T104: =IF(ISERROR(S104),"",S104) -> 36
C105: =VLOOKUP($H105,Munka2!$E$2:$H$265,4,FALSE) -> 37 | F105: G-04 | G105: 5 | H105: MMM4A1L | I105: Médiatechnika alapjai | J105: 2 | K105: v | L105: 8 | M105: SZ | N105: Tóth Lajos | O105: oktatástechnikai mérnök | P105: 37 | S105: 37 | T105: =IF(ISERROR(S105),"",S105) -> 37
...

Sheet félév-tárgy-i
C2: létszám | D2: kreditálás | E2: lap | F2: tanterv-szakir | G2: félév | H2: Tárgy-kód | I2: Tárgynév | J2: Kredit | K2: Köv | L2: Félévi óraszám | M2: Választ-hatóság | N2: Tantárgyfelelős | O2: beosztás | P2: Létszám (előzetes)
A3: 1 | C3: =VLOOKUP($H3,Munka2!$E$2:$H$265,4,FALSE) -> 3 | D3: MGI1A6IL | F3: I-BSc-2007 | G3: 1 | H3: MGI1A6IL | I3: Közgazdaságtan | J3: 4 | K3: v | L3: 12 | M3: K | N3: Károlyné Dóra Margit | O3: főiskolai adjunktus | P3: 3 | S3: =VLOOKUP($H3,Munka2!$E$2:$H$265,4,FALSE) -> 3 | T3: =IF(ISERROR(S3),"",S3) -> 3
A4: 28 | C4: =VLOOKUP($H4,Munka2!$E$2:$H$265,4,FALSE) -> 5 | D4: MGI1A6IL | F4: I-04 | G4: 1 | H4: MGZ3C1L | I4: Közgazdaságtan D I. | J4: 3 | K4: f | L4: 8 | M4: K | N4: Károlyné Dóra Margit | O4: főiskolai adjunktus | P4: 5 | S4: =VLOOKUP($H4,Munka2!$E$2:$H$265,4,FALSE) -> 5 | T4: =IF(ISERROR(S4),"",S4) -> 5
A5: 2 | C5: =VLOOKUP($H5,Munka2!$E$2:$H$265,4,FALSE) -> 6 | D5: MEK1A6IL | F5: I-BSc-2007 | G5: 1 | H5: MEK1A6IL | I5: Digitális technika I. | J5: 7 | K5: v | L5: 20 | M5: K | N5: Dr. Madarász László | O5: főiskolai docens | P5: 6 | S5: =VLOOKUP($H5,Munka2!$E$2:$H$265,4,FALSE) -> 6 | T5: =IF(ISERROR(S5),"",S5) -> 6
A6: 37 | C6: =VLOOKUP($H6,Munka2!$E$2:$H$265,4,FALSE) -> 7 | D6: MEK1A6IL | F6: I-04 | G6: 2 | H6: MEK3B2L | I6: Digitális technika I. | J6: 4 | K6: v | L6: 16 | M6: K | N6: Dr. Madarász László | O6: főiskolai docens | P6: 7 | S6: =VLOOKUP($H6,Munka2!$E$2:$H$265,4,FALSE) -> 7 | T6: =IF(ISERROR(S6),"",S6) -> 7
A7: 44 | C7: =VLOOKUP($H7,Munka2!$E$2:$H$265,4,FALSE) -> 6 | D7: MEK1A6IL | F7: I-04 | G7: 3 | H7: MEK3C2L | I7: Digitális technika II. | J7: 3 | K7: f | L7: 8 | M7: K | N7: Dr. Madarász László | O7: főiskolai docens | P7: 6 | S7: =VLOOKUP($H7,Munka2!$E$2:$H$265,4,FALSE) -> 6 | T7: =IF(ISERROR(S7),"",S7) -> 6
A8: 98 | C8: =VLOOKUP($H8,Munka2!$E$2:$H$265,4,FALSE) -> 3 | D8: MEK1A6IL | F8: I-01 | G8: 3 | H8: MEK3B1L | I8: Digitális rendszertechnika A I. | J8: 5 | K8: v | L8: 16 | M8: K | N8: Dr. Madarász László | O8: főiskolai docens | P8: 3 | S8: =VLOOKUP($H8,Munka2!$E$2:$H$265,4,FALSE) -> 3 | T8: =IF(ISERROR(S8),"",S8) -> 3
A9: 3 | C9: =VLOOKUP($H9,Munka2!$E$2:$H$265,4,FALSE) -> 3 | D9: MIN1A6IL | F9: I-BSc-2007 | G9: 1 | H9: MIN1A6IL | I9: Problémaosztályok, algoritmusok | J9: 3 | K9: v | L9: 8 | M9: K | N9: Pásztor Attila | O9: főiskolai adjunktus | P9: 3 | S9: =VLOOKUP($H9,Munka2!$E$2:$H$265,4,FALSE) -> 3 | T9: =IF(ISERROR(S9),"",S9) -> 3
A10: 31 | C10: =VLOOKUP($H10,Munka2!$E$2:$H$265,4,FALSE) -> 1 | D10: MIN1A6IL | F10: I-04 | G10: 1 | H10: MIN1D2L | I10: Problémaosztályok, algoritmusok | J10: 3 | K10: v | L10: 8 | M10: K | N10: Pásztor Attila | O10: főiskolai adjunktus | P10: 1 | S10: =VLOOKUP($H10,Munka2!$E$2:$H$265,4,FALSE) -> 1 | T10: =IF(ISERROR(S10),"",S10) -> 1
A11: 94 | C11: =VLOOKUP($H11,Munka2!$E$2:$H$265,4,FALSE) -> 3 | D11: MIN1A6IL | F11: I-01 | G11: 2 | H11: MIN1D1L | I11: Algoritmusok | J11: 3 | K11: v | L11: 8 | M11: K | N11: Pásztor Attila | O11: főiskolai adjunktus | P11: 3 | S11: =VLOOKUP($H11,Munka2!$E$2:$H$265,4,FALSE) -> 3 | T11: =IF(ISERROR(S11),"",S11) -> 3
A12: 4 | C12: =VLOOKUP($H12,Munka2!$E$2:$H$265,4,FALSE) -> 4 | D12: MMF1A6IL | F12: I-BSc-2007 | G12: 1 | H12: MMF1A6IL | I12: Analízis I. | J12: 5 | K12: f | L12: 16 | M12: K | N12: Keresztszeghy István | O12: oktatásszervező | P12: 4 | S12: =VLOOKUP($H12,Munka2!$E$2:$H$265,4,FALSE) -> 4 | T12: =IF(ISERROR(S12),"",S12) -> 4
A13: 32 | C13: =VLOOKUP($H13,Munka2!$E$2:$H$265,4,FALSE) -> 3 | D13: MMF1A6IL | F13: I-04 | G13: 1 | H13: MMF1A2L | I13: Analízis I. | J13: 5 | K13: f | L13: 16 | M13: K | N13: Keresztszeghy István | O13: oktatásszervező | P13: 3 | S13: =VLOOKUP($H13,Munka2!$E$2:$H$265,4,FALSE) -> 3 | T13: =IF(ISERROR(S13),"",S13) -> 3
A14: 5 | C14: =VLOOKUP($H14,Munka2!$E$2:$H$265,4,FALSE) -> 5 | D14: MMF1B6IL | F14: I-BSc-2007 | G14: 1 | H14: MMF1B6IL | I14: A számítástudomány matematikai alapjai | J14: 7 | K14: f | L14: 24 | M14: K | N14: Bársony István | O14: főiskolai adjunktus | P14: 5 | S14: =VLOOKUP($H14,Munka2!$E$2:$H$265,4,FALSE) -> 5 | T14: =IF(ISERROR(S14),"",S14) -> 5
... A20: 7 | C20: =VLOOKUP($H20,Munka2!$E$2:$H$265,4,FALSE) -> 2 | D20: MIN1B6IL | F20: I-BSc-2007 | G20: 1 | H20: MIN1B6IL | I20: Számítástechnikai alapismeretek | J20: 2 | K20: f | L20: 8 | M20: SZ | N20: Kárpáti Béla | O20: főiskolai docens | P20: 2 | S20: =VLOOKUP($H20,Munka2!$E$2:$H$265,4,FALSE) -> 2 | T20: =IF(ISERROR(S20),"",S20) -> 2
A21: 8 | C21: =VLOOKUP($H21,Munka2!$E$2:$H$265,4,FALSE) -> #N/A | D21: MMF1D7IL | F21: I-BSc-2007 | G21: 1 | H21: MMF1D7IL | I21: Matematikai alapismeretek | J21: 3 | K21: f | L21: 8 | M21: SZ | N21: Dr. Csenki Róbert | O21: főiskolai docens | S21: =VLOOKUP($H21,Munka2!$E$2:$H$265,4,FALSE) -> #N/A | T21: =IF(ISERROR(S21),"",S21)
A22: 25 | C22: =VLOOKUP($H22,Munka2!$E$2:$H$265,4,FALSE) -> 2 | D22: MMF1D7IL | F22: I-BSc-2006 | G22: 1 | H22: MMF1D6IL | I22: Matematikai alapismeretek | J22: 2 | K22: f | L22: 8 | M22: SZ | N22: Dr. Csenki Róbert | O22: főiskolai docens | P22: 2 | S22: =VLOOKUP($H22,Munka2!$E$2:$H$265,4,FALSE) -> 2 | T22: =IF(ISERROR(S22),"",S22) -> 2
A23: 9 | C23: =VLOOKUP($H23,Munka2!$E$2:$H$265,4,FALSE) -> #N/A | D23: MMF1E7IL | F23: I-BSc-2007 | G23: 1 | H23: MMF1E7IL | I23: Fizikai alapismeretek | J23: 3 | K23: f | L23: 8 | M23: SZ | N23: Jusztin Zsuzsanna | O23: műszaki tanár | S23: =VLOOKUP($H23,Munka2!$E$2:$H$265,4,FALSE) -> #N/A | T23: =IF(ISERROR(S23),"",S23)
A24: 26 | C24: =VLOOKUP($H24,Munka2!$E$2:$H$265,4,FALSE) -> 2 | D24: MMF1E7IL | F24: I-BSc-2006 | G24: 1 | H24: MMF1E6IL | I24: Fizikai alapismeretek | J24: 2 | K24: f | L24: 8 | M24: SZ | N24: Jusztin Zsuzsanna | O24: műszaki tanár | P24: 2 | S24: =VLOOKUP($H24,Munka2!$E$2:$H$265,4,FALSE) -> 2 | T24: =IF(ISERROR(S24),"",S24) -> 2
A25: 89 | C25: =VLOOKUP($H25,Munka2!$E$2:$H$265,4,FALSE) -> 2 | F25: I-01 | G25: 1 | H25: MGZ5B1L | I25: Gazdasági és társadalmi ismeretek I. | J25: 3 | K25: v | L25: 12 | M25: K | N25: Dr. Tóth József | O25: főiskolai docens | P25: 2 | Q25: EGYÉNI | S25: =VLOOKUP($H25,Munka2!$E$2:$H$265,4,FALSE) -> 2 | T25: =IF(ISERROR(S25),"",S25) -> 2
A26: 29 | C26: =VLOOKUP($H26,Munka2!$E$2:$H$265,4,FALSE) -> 2 | F26: I-04 | G26: 1 | H26: MGZ9M1L | I26: Menedzsment I. | J26: 2 | K26: f | L26: 8 | M26: K | N26: Alter Róbert | O26: főiskolai docens | P26: 2 | Q26: EGYÉNI | S26: =VLOOKUP($H26,Munka2!$E$2:$H$265,4,FALSE) -> 2 | T26: =IF(ISERROR(S26),"",S26) -> 2
A27: 88 | C27: =VLOOKUP($H27,Munka2!$E$2:$H$265,4,FALSE) -> 3 | F27: I-01 | G27: 1 | H27: MGT6A1L | I27: Műszaki alapismeretek | J27: 2 | K27: f | L27: 8 | M27: K | N27: Nyíri László | O27: főiskolai adjunktus | P27: 3 | Q27: EGYÉNI | S27: =VLOOKUP($H27,Munka2!$E$2:$H$265,4,FALSE) -> 3 | T27: =IF(ISERROR(S27),"",S27) -> 3
A28: 10 | C28: =VLOOKUP($H28,Munka2!$E$2:$H$265,4,FALSE) -> 9 | D28: MAI2A6IL | F28: I-BSc-2007 | G28: 2 | H28: MAI2A6IL | I28: Számítógép-architektúrák | J28: 5 | K28: v | L28: 16 | M28: K | N28: Tóth Lajos | O28: oktatástechnikai mérnök | P28: 9 | S28: =VLOOKUP($H28,Munka2!$E$2:$H$265,4,FALSE) -> 9 | T28: =IF(ISERROR(S28),"",S28) -> 9
A29: 27 | C29: =VLOOKUP($H29,Munka2!$E$2:$H$265,4,FALSE) -> 1 | D29: MAI2A6IL | F29: I-04 | G29: 1 | H29: MAI1J2L | I29: Architektúrák I. | J29: 4 | K29: v | L29: 12 | M29: K | N29: Tóth Lajos | O29: oktatástechnikai mérnök | P29: 1 | S29: =VLOOKUP($H29,Munka2!$E$2:$H$265,4,FALSE) -> 1 | T29: =IF(ISERROR(S29),"",S29) -> 1
A30: 86 | C30: =VLOOKUP($H30,Munka2!$E$2:$H$265,4,FALSE) -> 1 | D30: MAI2A6IL | F30: I-01 | G30: 1 | H30: MAI1J1L | I30: Számítógép-architektúrák I. | J30: 4 | K30: v | L30: 12 | M30: K | N30: Tóth Lajos | O30: oktatástechnikai mérnök | P30: 1 | S30: =VLOOKUP($H30,Munka2!$E$2:$H$265,4,FALSE) -> 1 | T30: =IF(ISERROR(S30),"",S30) -> 1
A31: 11 | C31: =VLOOKUP($H31,Munka2!$E$2:$H$265,4,FALSE) -> 13 | D31: MEK2A6IL | F31: I-BSc-2007 | G31: 2 | H31: MEK2A6IL | I31: Digitális technika II. | J31: 5 | K31: f | L31: 16 | M31: K | N31: Dr. Madarász László | O31: főiskolai docens | P31: 13 | S31: =VLOOKUP($H31,Munka2!$E$2:$H$265,4,FALSE) -> 13 | T31: =IF(ISERROR(S31),"",S31) -> 13
A32: 59 | C32: =VLOOKUP($H32,Munka2!$E$2:$H$265,4,FALSE) -> 20 | D32: MEK2A6IL | F32: I-04 | G32: 4 | H32: MEK4A2L | I32: Digitális technika III. | J32: 4 | K32: v | L32: 16 | M32: K | N32: Dr. Madarász László | O32: főiskolai docens | P32: 20 | S32: =VLOOKUP($H32,Munka2!$E$2:$H$265,4,FALSE) -> 20 | T32: =IF(ISERROR(S32),"",S32) -> 20
A33: 119 | C33: =VLOOKUP($H33,Munka2!$E$2:$H$265,4,FALSE) -> 10 | D33: MEK2A6IL | F33: I-01 | G33: 5 | H33: MEK4A1L | I33: Mikroelektronika I. | J33: 5 | K33: v | L33: 16 | M33: K | N33: Dr. Madarász László | O33: főiskolai docens | P33: 10 | S33: =VLOOKUP($H33,Munka2!$E$2:$H$265,4,FALSE) -> 10 | T33: =IF(ISERROR(S33),"",S33) -> 10
A34: 12 | C34: =VLOOKUP($H34,Munka2!$E$2:$H$265,4,FALSE) -> 5 | D34: MGI2A6IL | F34: I-BSc-2007 | G34: 2 | H34: MGI2A6IL | I34: Vállalkozás-gazdaságtan | J34: 4 | K34: v | L34: 12 | M34: K | N34: Dr. Kovács Beatrix | O34: főiskolai docens | P34: 5 | S34: =VLOOKUP($H34,Munka2!$E$2:$H$265,4,FALSE) -> 5 | T34: =IF(ISERROR(S34),"",S34) -> 5
A35: 38 | C35: =VLOOKUP($H35,Munka2!$E$2:$H$265,4,FALSE) -> 5 | D35: MGI2A6IL | F35: I-04 | G35: 2 | H35: MGZ6W1L | I35: Vállalkozás gazdaságtan I. | J35: 2 | K35: v | L35: 8 | M35: K | N35: Dr. Kovács Beatrix | O35: főiskolai docens | P35: 5 | S35: =VLOOKUP($H35,Munka2!$E$2:$H$265,4,FALSE) -> 5 | T35: =IF(ISERROR(S35),"",S35) -> 5
A36: 93 | C36: =VLOOKUP($H36,Munka2!$E$2:$H$265,4,FALSE) -> 12 | D36: MGI2A6IL | F36: I-01 | G36: 2 | H36: MGZ3X1L | I36: Vállalatgazdaságtan | J36: 2 | K36: v | L36: 8 | M36: K | N36: Dr. Kovács Beatrix | O36: főiskolai docens | P36: 12 | S36: =VLOOKUP($H36,Munka2!$E$2:$H$265,4,FALSE) -> 12 | T36: =IF(ISERROR(S36),"",S36) -> 12
A37: 13 | C37: =VLOOKUP($H37,Munka2!$E$2:$H$265,4,FALSE) -> 4 | D37: MIN2A6IL | F37: I-BSc-2007 | G37: 2 | H37: MIN2A6IL | I37: Programozás I. | J37: 5 | K37: f | L37: 16 | M37: K | N37: Pásztor Attila | O37: főiskolai adjunktus | P37: 4 | S37: =VLOOKUP($H37,Munka2!$E$2:$H$265,4,FALSE) -> 4 | T37: =IF(ISERROR(S37),"",S37) -> 4
A38: 30 | C38: =VLOOKUP($H38,Munka2!$E$2:$H$265,4,FALSE) -> #N/A | D38: MIN2A6IL | F38: I-04 | G38: 1 | H38: MIN1A2L | I38: Programozás I. | J38: 4 | K38: f | L38: 16 | M38: K | N38: Pásztor Attila | O38: főiskolai adjunktus | S38: =VLOOKUP($H38,Munka2!$E$2:$H$265,4,FALSE) -> #N/A | T38: =IF(ISERROR(S38),"",S38)
A39: 14 | C39: =VLOOKUP($H39,Munka2!$E$2:$H$265,4,FALSE) -> 3 | D39: MMF2A6IL | F39: I-BSc-2007 | G39: 2 | H39: MMF2A6IL | I39: Analízis II. | J39: 5 | K39: f | L39: 16 | M39: K | N39: Keresztszeghy István | O39: oktatásszervező | P39: 3 | S39: =VLOOKUP($H39,Munka2!$E$2:$H$265,4,FALSE) -> 3 | T39: =IF(ISERROR(S39),"",S39) -> 3
A40: 41 | C40: =VLOOKUP($H40,Munka2!$E$2:$H$265,4,FALSE) -> 6 | D40: MMF2A6IL | F40: I-04 | G40: 2 | H40: MMF1B2L | I40: Analízis II. | J40: 5 | K40: f | L40: 16 | M40: K | N40: Keresztszeghy István | O40: oktatásszervező | P40: 6 | S40: =VLOOKUP($H40,Munka2!$E$2:$H$265,4,FALSE) -> 6 | T40: =IF(ISERROR(S40),"",S40) -> 6
A41: 96 | C41: =VLOOKUP($H41,Munka2!$E$2:$H$265,4,FALSE) -> 2 | D41: MMF2A6IL | F41: I-01 | G41: 2 | H41: MMF1B1L | I41: Matematika A II. | J41: 4 | K41: f | L41: 16 | M41: K | N41: Keresztszeghy István | O41: oktatásszervező | P41: 2 | S41: =VLOOKUP($H41,Munka2!$E$2:$H$265,4,FALSE) -> 2 | T41: =IF(ISERROR(S41),"",S41) -> 2
A42: 15 | C42: =VLOOKUP($H42,Munka2!$E$2:$H$265,4,FALSE) -> 10 | D42: MMF2B6IL | F42: I-BSc-2007 | G42: 2 | H42: MMF2B6IL | I42: Villamosságtan | J42: 5 | K42: v | L42: 16 | M42: K | N42: Jusztin Zsuzsanna | O42: műszaki tanár | P42: 10 | S42: =VLOOKUP($H42,Munka2!$E$2:$H$265,4,FALSE) -> 10 | T42: =IF(ISERROR(S42),"",S42) -> 10
A43: 42 | C43: =VLOOKUP($H43,Munka2!$E$2:$H$265,4,FALSE) -> 5 | D43: MMF2B6IL | F43: I-04 | G43: 2 | H43: MMF2I1L | I43: Villamosságtan | J43: 5 | K43: v | L43: 16 | M43: K | N43: Jusztin Zsuzsanna | O43: műszaki tanár | P43: 5 | S43: =VLOOKUP($H43,Munka2!$E$2:$H$265,4,FALSE) -> 5 | T43: =IF(ISERROR(S43),"",S43) -> 5
A44: 87 | C44: =VLOOKUP($H44,Munka2!$E$2:$H$265,4,FALSE) -> 2 | D44: MMF2B6IL | F44: I-01 | G44: 1 | H44: MEK1A2L | I44: Elektrotechnika A I. | J44: 5 | K44: v | L44: 16 | M44: K | N44: Jusztin Zsuzsanna | O44: műszaki tanár | P44: 2 | S44: =VLOOKUP($H44,Munka2!$E$2:$H$265,4,FALSE) -> 2 | T44: =IF(ISERROR(S44),"",S44) -> 2
A45: 16 | C45: =VLOOKUP($H45,Munka2!$E$2:$H$265,4,FALSE) -> 21 | D45: MAI3A6IL | F45: I-BSc-2007 | G45: 3 | H45: MAI3A6IL | I45: Operációs rendszerek | J45: 5 | K45: f | L45: 16 | M45: K | N45: Coulibaly Sékou Tidiani | O45: főiskolai docens | P45: 21 | S45: =VLOOKUP($H45,Munka2!$E$2:$H$265,4,FALSE) -> 21 | T45: =IF(ISERROR(S45),"",S45) -> 21
A46: 35 | C46: =VLOOKUP($H46,Munka2!$E$2:$H$265,4,FALSE) -> 5 | D46: MAI3A6IL | F46: I-04 | G46: 2 | H46: MAI1I2L | I46: Operációs rendszerek | J46: 4 | K46: v | L46: 12 | M46: K | N46: Coulibaly Sékou Tidiani | O46: főiskolai docens | P46: 5 | S46: =VLOOKUP($H46,Munka2!$E$2:$H$265,4,FALSE) -> 5 | T46: =IF(ISERROR(S46),"",S46) -> 5
A47: 91 | C47: =VLOOKUP($H47,Munka2!$E$2:$H$265,4,FALSE) -> 1 | D47: MAI3A6IL | F47: I-01 | G47: 2 | H47: MAI1I1L | I47: Operációs rendszerek | J47: 2 | K47: v | L47: 8 | M47: K | N47: Coulibaly Sékou Tidiani | O47: főiskolai docens | P47: 1 | S47: =VLOOKUP($H47,Munka2!$E$2:$H$265,4,FALSE) -> 1 | T47: =IF(ISERROR(S47),"",S47) -> 1
A48: 17 | C48: =VLOOKUP($H48,Munka2!$E$2:$H$265,4,FALSE) -> 17 | D48: MEK3A6IL | F48: I-BSc-2007 | G48: 3 | H48: MEK3A6IL | I48: Elektronika alapjai I. | J48: 5 | K48: f | L48: 16 | M48: K | N48: Csík Norbert | O48: főiskolai tanársegéd | P48: 17 | S48: =VLOOKUP($H48,Munka2!$E$2:$H$265,4,FALSE) -> 17 | T48: =IF(ISERROR(S48),"",S48) -> 17
A49: 36 | C49: =VLOOKUP($H49,Munka2!$E$2:$H$265,4,FALSE) -> 7 | D49: MEK3A6IL | F49: I-04 | G49: 2 | H49: MEK1B3L | I49: Elektronika alapjai I. | J49: 3 | K49: f | L49: 12 | M49: K | N49: Csík Norbert | O49: főiskolai tanársegéd | P49: 7 | S49: =VLOOKUP($H49,Munka2!$E$2:$H$265,4,FALSE) -> 7 | T49: =IF(ISERROR(S49),"",S49) -> 7
A50: 18 | C50: =VLOOKUP($H50,Munka2!$E$2:$H$265,4,FALSE) -> 39 | D50: MIN3A6IL | F50: I-BSc-2007 | G50: 3 | H50: MIN3A6IL | I50: Adatbázisok I. | J50: 4 | K50: v | L50: 12 | M50: K | N50: Irházi Zoltán | O50: főiskolai adjunktus | P50: 39 | S50: =VLOOKUP($H50,Munka2!$E$2:$H$265,4,FALSE) -> 39 | T50: =IF(ISERROR(S50),"",S50) -> 39
... A64: 23 | C64: =VLOOKUP($H64,Munka2!$E$2:$H$265,4,FALSE) -> 34 | D64: MIN3E7IL | F64: I-BSc-2007 | G64: 3 | H64: MIN3E7IL | I64: Webes tartalomkezelő rendszerek | J64: 2 | K64: f | L64: 8 | M64: SZ | N64: Nagy Gusztáv | O64: tanszéki mérnök | P64: 34 | S64: =VLOOKUP($H64,Munka2!$E$2:$H$265,4,FALSE) -> 34 | T64: =IF(ISERROR(S64),"",S64) -> 34
D65: MIN3C7L | F65: I-BSc-2007 | G65: 3 | H65: MIN3C7L | I65: Modell robotok programozása | J65: 3 | K65: f | L65: 12 | M65: SZ | N65: Pásztor Attila | O65: főiskolai adjunktus | P65: 18
D66: MIN3C7L | F66: I-04 | G66: 3 | H66: MIN3C7L | I66: Modell robotok programozása | J66: 3 | K66: f | L66: 12 | M66: SZ | N66: Pásztor Attila | O66: főiskolai adjunktus | P66: 5
A67: 43 | C67: =VLOOKUP($H67,Munka2!$E$2:$H$265,4,FALSE) -> 4 | D67: MEK1C3L | F67: I-04 | G67: 3 | H67: MEK1C3L | I67: Elektronika alapjai II. | J67: 4 | K67: v | L67: 16 | M67: K | N67: Kovács Lóránt | O67: főiskolai adjunktus | P67: 4 | S67: =VLOOKUP($H67,Munka2!$E$2:$H$265,4,FALSE) -> 4 | T67: =IF(ISERROR(S67),"",S67) -> 4
A68: 97 | C68: =VLOOKUP($H68,Munka2!$E$2:$H$265,4,FALSE) -> 2 | D68: MEK1C3L | F68: I-01 | G68: 3 | H68: MEK1C2L | I68: Elektronika | J68: 3 | K68: f | L68: 8 | M68: K | N68: Kovács Lóránt | O68: főiskolai adjunktus | P68: 2 | S68: =VLOOKUP($H68,Munka2!$E$2:$H$265,4,FALSE) -> 2 | T68: =IF(ISERROR(S68),"",S68) -> 2
A69: 45 | C69: =VLOOKUP($H69,Munka2!$E$2:$H$265,4,FALSE) -> 12 | D69: MGZ6X1L | F69: I-04 | G69: 3 | H69: MGZ6X1L | I69: Vállalkozás gazdaságtan III. | J69: 2 | K69: f | L69: 8 | M69: K | N69: Károlyné Dóra Margit | O69: főiskolai adjunktus | P69: 12 | S69: =VLOOKUP($H69,Munka2!$E$2:$H$265,4,FALSE) -> 12 | T69: =IF(ISERROR(S69),"",S69) -> 12
A70: 99 | C70: =VLOOKUP($H70,Munka2!$E$2:$H$265,4,FALSE) -> 11 | D70: MGZ6X1L | F70: I-01 | G70: 3 | H70: MGZ4A1L | I70: Vállalkozási ismeretek | J70: 2 | K70: f | L70: 8 | M70: K | N70: Károlyné Dóra Margit | O70: főiskolai adjunktus | P70: 11 | S70: =VLOOKUP($H70,Munka2!$E$2:$H$265,4,FALSE) -> 11 | T70: =IF(ISERROR(S70),"",S70) -> 11
A71: 46 | C71: =VLOOKUP($H71,Munka2!$E$2:$H$265,4,FALSE) -> 5 | F71: I-04 | G71: 3 | H71: MGZ9P1L | I71: Menedzsment II. | J71: 4 | K71: v | L71: 12 | M71: K | N71: Dr. Tóth József | O71: főiskolai docens | P71: 5 | Q71: EGYÉNI | S71: =VLOOKUP($H71,Munka2!$E$2:$H$265,4,FALSE) -> 5 | T71: =IF(ISERROR(S71),"",S71) -> 5
A72: 100 | C72: =VLOOKUP($H72,Munka2!$E$2:$H$265,4,FALSE) -> 2 | D72: MIN1F2L | F72: I-01 | G72: 3 | H72: MIN1F1L | I72: Adatbázisok II. | J72: 2 | K72: v | L72: 8 | M72: K | N72: Irházi Zoltán | O72: főiskolai adjunktus | P72: 2 | Q72: EGYÉNI | S72: =VLOOKUP($H72,Munka2!$E$2:$H$265,4,FALSE) -> 2 | T72: =IF(ISERROR(S72),"",S72) -> 2
A73: 47 | C73: =VLOOKUP($H73,Munka2!$E$2:$H$265,4,FALSE) -> 3 | D73: MIN1F2L | F73: I-04 | G73: 3 | H73: MIN1F2L | I73: Adatbázisok II. | J73: 4 | K73: f | L73: 16 | M73: K | N73: Irházi Zoltán | O73: főiskolai adjunktus | P73: 3 | Q73: EGYÉNI | S73: =VLOOKUP($H73,Munka2!$E$2:$H$265,4,FALSE) -> 3 | T73: =IF(ISERROR(S73),"",S73) -> 3
A74: 101 | C74: =VLOOKUP($H74,Munka2!$E$2:$H$265,4,FALSE) -> 3 | D74: MIN1G2L | F74: I-01 | G74: 3 | H74: MIN1G1L | I74: Programfejlesztés | J74: 5 | K74: f | L74: 16 | M74: K | N74: Szabolcsi Judit | O74: főiskolai adjunktus | P74: 3 | S74: =VLOOKUP($H74,Munka2!$E$2:$H$265,4,FALSE) -> 3 | T74: =IF(ISERROR(S74),"",S74) -> 3
A75: 48 | C75: =VLOOKUP($H75,Munka2!$E$2:$H$265,4,FALSE) -> 18 | D75: MIN1G2L | F75: I-04 | G75: 3 | H75: MIN1G2L | I75: Programozási paradigmák és technikák | J75: 4 | K75: f | L75: 16 | M75: K | N75: Szabolcsi Judit | O75: főiskolai adjunktus | P75: 18 | S75: =VLOOKUP($H75,Munka2!$E$2:$H$265,4,FALSE) -> 18 | T75: =IF(ISERROR(S75),"",S75) -> 18
A76: 49 | C76: =VLOOKUP($H76,Munka2!$E$2:$H$265,4,FALSE) -> 11 | F76: I-04 | G76: 3 | H76: MIN1H1L | I76: Programozás szigorlat | J76: 0 | K76: s | M76: K | N76: Szabolcsi Judit | O76: főiskolai adjunktus | P76: 11 | S76: =VLOOKUP($H76,Munka2!$E$2:$H$265,4,FALSE) -> 11 | T76: =IF(ISERROR(S76),"",S76) -> 11
A77: 50 | C77: =VLOOKUP($H77,Munka2!$E$2:$H$265,4,FALSE) -> 5 | F77: I-04 | G77: 3 | H77: MIN1K2L | I77: Hálózatok I. | J77: 4 | K77: v | L77: 16 | M77: K | N77: Vértesi László | O77: főiskolai adjunktus | P77: 5 | S77: =VLOOKUP($H77,Munka2!$E$2:$H$265,4,FALSE) -> 5 | T77: =IF(ISERROR(S77),"",S77) -> 5
A78: 112 | C78: =VLOOKUP($H78,Munka2!$E$2:$H$265,4,FALSE) -> 3 | F78: I-01 | G78: 4 | H78: MIN1K1L | I78: Számítógép hálózatok | J78: 5 | K78: v | L78: 16 | M78: K | N78: Vértesi László | O78: főiskolai adjunktus | P78: 3 | S78: =VLOOKUP($H78,Munka2!$E$2:$H$265,4,FALSE) -> 3 | T78: =IF(ISERROR(S78),"",S78) -> 3
A79: 54 | C79: =VLOOKUP($H79,Munka2!$E$2:$H$265,4,FALSE) -> 12 | F79: I-04 | G79: 3 | H79: MGZ9F1L | I79: Jogi alapismeretek | J79: 2 | K79: v | L79: 8 | M79: SZ | N79: Dr. Adorján Mihály | O79: óraadó | P79: 12 | R79: MEN | S79: =VLOOKUP($H79,Munka2!$E$2:$H$265,4,FALSE) -> 12 | T79: =IF(ISERROR(S79),"",S79) -> 12
A80: 55 | C80: =VLOOKUP($H80,Munka2!$E$2:$H$265,4,FALSE) -> 4 | D80: MAI1G2L | F80: I-04 | G80: 4 | H80: MAI1G2L | I80: Intelligens rendszerek I. | J80: 3 | K80: v | L80: 8 | M80: K | N80: Coulibaly Sékou Tidiani | O80: főiskolai docens | P80: 4 | Q80: EGYÉNI | S80: =VLOOKUP($H80,Munka2!$E$2:$H$265,4,FALSE) -> 4 | T80: =IF(ISERROR(S80),"",S80) -> 4
A81: 108 | C81: =VLOOKUP($H81,Munka2!$E$2:$H$265,4,FALSE) -> 1 | D81: MAI1G2L | F81: I-01 | G81: 4 | H81: MAI1G1L | I81: Mesterséges intelligencia | J81: 3 | K81: v | L81: 8 | M81: K | N81: Coulibaly Sékou Tidiani | O81: főiskolai docens | P81: 1 | Q81: EGYÉNI | S81: =VLOOKUP($H81,Munka2!$E$2:$H$265,4,FALSE) -> 1 | T81: =IF(ISERROR(S81),"",S81) -> 1
A82: 56 | C82: =VLOOKUP($H82,Munka2!$E$2:$H$265,4,FALSE) -> 7 | D82: MAI1K2L | F82: I-04 | G82: 4 | H82: MAI1K2L | I82: Architektúrák II. | J82: 4 | K82: f | L82: 16 | M82: K | N82: Coulibaly Sékou Tidiani | O82: főiskolai docens | P82: 7 | S82: =VLOOKUP($H82,Munka2!$E$2:$H$265,4,FALSE) -> 7 | T82: =IF(ISERROR(S82),"",S82) -> 7
A83: 118 | C83: =VLOOKUP($H83,Munka2!$E$2:$H$265,4,FALSE) -> 6 | D83: MAI1K2L | F83: I-01 | G83: 5 | H83: MAI1K1L | I83: Számítógép-architektúrák II. | J83: 4 | K83: v | L83: 16 | M83: K | N83: Coulibaly Sékou Tidiani | O83: főiskolai docens | P83: 6 | S83: =VLOOKUP($H83,Munka2!$E$2:$H$265,4,FALSE) -> 6 | T83: =IF(ISERROR(S83),"",S83) -> 6
A84: 57 | C84: =VLOOKUP($H84,Munka2!$E$2:$H$265,4,FALSE) -> 4 | F84: I-04 | G84: 4 | H84: MAI1O1L | I84: Perifériák, multimédia eszközök | J84: 2 | K84: v | L84: 8 | M84: K | N84: Kósa János | O84: főiskolai adjunktus | P84: 4 | Q84: EGYÉNI | S84: =VLOOKUP($H84,Munka2!$E$2:$H$265,4,FALSE) -> 4 | T84: =IF(ISERROR(S84),"",S84) -> 4
A85: 58 | C85: =VLOOKUP($H85,Munka2!$E$2:$H$265,4,FALSE) -> 10 | D85: MEK2A2L | F85: I-04 | G85: 4 | H85: MEK2A2L | I85: Irányítástechnika I. | J85: 3 | K85: v | L85: 12 | M85: K | N85: Patay Tibor | O85: főiskolai adjunktus | P85: 10 | S85: =VLOOKUP($H85,Munka2!$E$2:$H$265,4,FALSE) -> 10 | T85: =IF(ISERROR(S85),"",S85) -> 10
A86: 109 | C86: =VLOOKUP($H86,Munka2!$E$2:$H$265,4,FALSE) -> 5 | D86: MEK2A2L | F86: I-01 | G86: 4 | H86: MEK2A1L | I86: Irányítástechnika A | J86: 5 | K86: v | L86: 16 | M86: K | N86: Patay Tibor | O86: főiskolai adjunktus | P86: 5 | S86: =VLOOKUP($H86,Munka2!$E$2:$H$265,4,FALSE) -> 5 | T86: =IF(ISERROR(S86),"",S86) -> 5
A87: 60 | C87: =VLOOKUP($H87,Munka2!$E$2:$H$265,4,FALSE) -> 23 | D87: MGZ6V1L | F87: I-04 | G87: 4 | H87: MGZ6V1L | I87: Vállalkozás gazdaságtan II. | J87: 2 | K87: v | L87: 8 | M87: K | N87: Alter Róbert | O87: főiskolai docens | P87: 23 | S87: =VLOOKUP($H87,Munka2!$E$2:$H$265,4,FALSE) -> 23 | T87: =IF(ISERROR(S87),"",S87) -> 23
A88: 92 | C88: =VLOOKUP($H88,Munka2!$E$2:$H$265,4,FALSE) -> 18 | D88: MGZ6V1L | F88: I-01 | G88: 2 | H88: MGZ3P1L | I88: Pénzügytan | J88: 2 | K88: v | L88: 8 | M88: K | N88: Alter Róbert | O88: főiskolai docens | P88: 18 | S88: =VLOOKUP($H88,Munka2!$E$2:$H$265,4,FALSE) -> 18 | T88: =IF(ISERROR(S88),"",S88) -> 18
A89: 61 | C89: =VLOOKUP($H89,Munka2!$E$2:$H$265,4,FALSE) -> 7 | F89: I-04 | G89: 4 | H89: MIN1M2L | I89: Vizuális programozás | J89: 4 | K89: f | L89: 16 | M89: K | N89: Szabolcsi Judit | O89: főiskolai adjunktus | P89: 7 | S89: =VLOOKUP($H89,Munka2!$E$2:$H$265,4,FALSE) -> 7 | T89: =IF(ISERROR(S89),"",S89) -> 7
A90: 62 | C90: =VLOOKUP($H90,Munka2!$E$2:$H$265,4,FALSE) -> 7 | F90: I-04 | G90: 4 | H90: MIN1Y1L | I90: Vállalati információs rendszerek | J90: 2 | K90: v | L90: 8 | M90: K | N90: Pap-Szigeti Róbert | O90: főiskolai adjunktus | P90: 7 | S90: =VLOOKUP($H90,Munka2!$E$2:$H$265,4,FALSE) -> 7 | T90: =IF(ISERROR(S90),"",S90) -> 7
A91: 64 | C91: =VLOOKUP($H91,Munka2!$E$2:$H$265,4,FALSE) -> 5 | D91: MMF1G2L | F91: I-04 | G91: 4 | H91: MMF1G2L | I91: Matematika szigorlat D | J91: 0 | K91: s | M91: K | N91: Keresztszeghy István | O91: oktatásszervező | P91: 5 | S91: =VLOOKUP($H91,Munka2!$E$2:$H$265,4,FALSE) -> 5 | T91: =IF(ISERROR(S91),"",S91) -> 5
A92: 114 | C92: =VLOOKUP($H92,Munka2!$E$2:$H$265,4,FALSE) -> 3 | D92: MMF1G2L | F92: I-01 | G92: 4 | H92: MMF1G1L | I92: Matematika szigorlat B | J92: 0 | K92: s | M92: K | N92: Keresztszeghy István | O92: oktatásszervező | P92: 3 | S92: =VLOOKUP($H92,Munka2!$E$2:$H$265,4,FALSE) -> 3 | T92: =IF(ISERROR(S92),"",S92) -> 3
A93: 110 | C93: =VLOOKUP($H93,Munka2!$E$2:$H$265,4,FALSE) -> 11 | F93: I-01 | G93: 4 | H93: MGZ6D2L | I93: Menedzsment | J93: 2 | K93: f | L93: 8 | M93: K | N93: Alter Róbert | O93: főiskolai docens | P93: 11 | S93: =VLOOKUP($H93,Munka2!$E$2:$H$265,4,FALSE) -> 11 | T93: =IF(ISERROR(S93),"",S93) -> 11
A94: 116 | C94: =VLOOKUP($H94,Munka2!$E$2:$H$265,4,FALSE) -> 2 | F94: I-01 | G94: 4 | H94: MGZ9I1L | I94: Politológia | J94: 3 | K94: f | L94: 8 | M94: SZ | N94: Dr. Tóth József | O94: főiskolai docens | P94: 2 | Q94: EGYÉNI | S94: =VLOOKUP($H94,Munka2!$E$2:$H$265,4,FALSE) -> 2 | T94: =IF(ISERROR(S94),"",S94) -> 2
A95: 65 | C95: =VLOOKUP($H95,Munka2!$E$2:$H$265,4,FALSE) -> 11 | F95: I-04 | G95: 4 | H95: MIN1J1L | I95: Programozási nyelvek | J95: 3 | K95: v | L95: 8 | M95: SZ | N95: Pap-Szigeti Róbert | O95: főiskolai adjunktus | P95: 11 | S95: =VLOOKUP($H95,Munka2!$E$2:$H$265,4,FALSE) -> 11 | T95: =IF(ISERROR(S95),"",S95) -> 11
A96: 66 | C96: =VLOOKUP($H96,Munka2!$E$2:$H$265,4,FALSE) -> 36 | D96: MAI1A2L | F96: I-04 | G96: 5 | H96: MAI1A2L | I96: Intelligens rendszerek II. | J96: 4 | K96: f | L96: 16 | M96: K | N96: Coulibaly Sékou Tidiani | O96: főiskolai docens | P96: 36 | S96: =VLOOKUP($H96,Munka2!$E$2:$H$265,4,FALSE) -> 36 | T96: =IF(ISERROR(S96),"",S96) -> 36
A97: 117 | C97: =VLOOKUP($H97,Munka2!$E$2:$H$265,4,FALSE) -> 6 | D97: MAI1A2L | F97: I-01 | G97: 5 | H97: MAI1A1L | I97: Alakzatfelismerés | J97: 4 | K97: v | L97: 16 | M97: K | N97: Coulibaly Sékou Tidiani | O97: főiskolai docens | P97: 6 | S97: =VLOOKUP($H97,Munka2!$E$2:$H$265,4,FALSE) -> 6 | T97: =IF(ISERROR(S97),"",S97) -> 6
A98: 67 | C98: =VLOOKUP($H98,Munka2!$E$2:$H$265,4,FALSE) -> 24 | F98: I-04 | G98: 5 | H98: MEK6A2L | I98: Irányítástechnika II. | J98: 2 | K98: v | L98: 8 | M98: K | N98: Somkutas Lajos | O98: főiskolai adjunktus | P98: 24 | S98: =VLOOKUP($H98,Munka2!$E$2:$H$265,4,FALSE) -> 24 | T98: =IF(ISERROR(S98),"",S98) -> 24
A99: 68 | C99: =VLOOKUP($H99,Munka2!$E$2:$H$265,4,FALSE) -> 38 | D99: MIN1L2L | F99: I-04 | G99: 5 | H99: MIN1L2L | I99: Az informatikai biztonság alapjai | J99: 5 | K99: v | L99: 16 | M99: K | N99: Németh Rózsa | O99: főiskolai adjunktus | P99: 38 | S99: =VLOOKUP($H99,Munka2!$E$2:$H$265,4,FALSE) -> 38 | T99: =IF(ISERROR(S99),"",S99) -> 38
A100: 122 | C100: =VLOOKUP($H100,Munka2!$E$2:$H$265,4,FALSE) -> 1 | D100: MIN1L2L | F100: I-01 | G100: 5 | H100: MIN1L1L | I100: Adatvédelem | J100: 4 | K100: v | L100: 16 | M100: SZ | N100: Németh Rózsa | O100: főiskolai adjunktus | P100: 1 | S100: =VLOOKUP($H100,Munka2!$E$2:$H$265,4,FALSE) -> 1 | T100: =IF(ISERROR(S100),"",S100) -> 1
A101: 69 | C101: =VLOOKUP($H101,Munka2!$E$2:$H$265,4,FALSE) -> 36 | F101: I-04 | G101: 5 | H101: MIN1O2L | I101: Szoftvertechnológia | J101: 2 | K101: v | L101: 8 | M101: K | N101: Szabolcsi Judit | O101: főiskolai adjunktus | P101: 36 | S101: =VLOOKUP($H101,Munka2!$E$2:$H$265,4,FALSE) -> 36 | T101: =IF(ISERROR(S101),"",S101) -> 36
A102: 70 | C102: =VLOOKUP($H102,Munka2!$E$2:$H$265,4,FALSE) -> 35 | F102: I-04 | G102: 5 | H102: MIN1P1L | I102: Hálózatok II. | J102: 2 | K102: v | L102: 8 | M102: K | N102: Vértesi László | O102: főiskolai adjunktus | P102: 35 | S102: =VLOOKUP($H102,Munka2!$E$2:$H$265,4,FALSE) -> 35 | T102: =IF(ISERROR(S102),"",S102) -> 35
A103: 72 | C103: =VLOOKUP($H103,Munka2!$E$2:$H$265,4,FALSE) -> 37 | F103: I-04 | G103: 5 | H103: MMM4A1L | I103: Médiatechnika alapjai | J103: 2 | K103: v | L103: 8 | M103: SZ | N103: Tóth Lajos | O103: oktatástechnikai mérnök | P103: 37 | S103: =VLOOKUP($H103,Munka2!$E$2:$H$265,4,FALSE) -> 37 | T103: =IF(ISERROR(S103),"",S103) -> 37
A104: 73 | C104: =VLOOKUP($H104,Munka2!$E$2:$H$265,4,FALSE) -> 11 | D104: MGZ3A6L | F104: I-04-GAZ-B | G104: 5 | H104: MGZ3A6L | I104: Bank- és tőzsdeismeretek | J104: 3 | K104: f | L104: 12 | M104: KV | N104: Alter Róbert | O104: főiskolai docens | P104: 11 | S104: =VLOOKUP($H104,Munka2!$E$2:$H$265,4,FALSE) -> 11 | T104: =IF(ISERROR(S104),"",S104) -> 11
A105: 126 | C105: =VLOOKUP($H105,Munka2!$E$2:$H$265,4,FALSE) -> 33 | D105: MGZ3A6L | F105: I-01-GAZD-A | G105: 5 | H105: MGZ3A1L | I105: Bank- és tőzsdeismeretek | J105: 3 | K105: f | L105: 8 | M105: K | N105: Alter Róbert | O105: főiskolai docens | P105: 33 | S105: =VLOOKUP($H105,Munka2!$E$2:$H$265,4,FALSE) -> 33 | T105: =IF(ISERROR(S105),"",S105) -> 33
A106: 74 | C106: =VLOOKUP($H106,Munka2!$E$2:$H$265,4,FALSE) -> 12 | F106: I-04-GAZ-B | G106: 5 | H106: MGZ9S1L | I106: Számviteli ismeretek | J106: 3 | K106: f | L106: 12 | M106: KV | N106: Fáy Józsefné dr. | O106: főiskolai docens | P106: 12 | S106: =VLOOKUP($H106,Munka2!$E$2:$H$265,4,FALSE) -> 12 | T106: =IF(ISERROR(S106),"",S106) -> 12
A107: 75 | C107: =VLOOKUP($H107,Munka2!$E$2:$H$265,4,FALSE) -> 12 | F107: I-04-GAZ-B | G107: 5 | H107: MIN2A1L | I107: Információs rendszerek | J107: 5 | K107: f | L107: 16 | M107: KV | N107: Pap-Szigeti Róbert | O107: főiskolai adjunktus | P107: 12 | S107: =VLOOKUP($H107,Munka2!$E$2:$H$265,4,FALSE) -> 12 | T107: =IF(ISERROR(S107),"",S107) -> 12
A108: 125 | C108: =VLOOKUP($H108,Munka2!$E$2:$H$265,4,FALSE) -> 32 | F108: I-01-GAZD-A | G108: 5 | H108: MAI2B1L | I108: Vezetői információs rendszerek | J108: 2 | K108: f | L108: 8 | M108: K | N108: Dr. Lajtai Iván | O108: főiskolai docens | P108: 32 | S108: =VLOOKUP($H108,Munka2!$E$2:$H$265,4,FALSE) -> 32 | T108: =IF(ISERROR(S108),"",S108) -> 32
A109: 128 | C109: =VLOOKUP($H109,Munka2!$E$2:$H$265,4,FALSE) -> 1 | F109: I-01-GAZD-A | G109: 5 | H109: MGZ6O1L | I109: Szervezési és vezetési alapismeretek I. | J109: 3 | K109: v | L109: 12 | M109: K | N109: Dr. Tóth József | O109: főiskolai docens | P109: 1 | Q109: EGYÉNI | S109: =VLOOKUP($H109,Munka2!$E$2:$H$265,4,FALSE) -> 1 | T109: =IF(ISERROR(S109),"",S109) -> 1
A110: 127 | C110: =VLOOKUP($H110,Munka2!$E$2:$H$265,4,FALSE) -> 3 | F110: I-01-GAZD-A | G110: 5 | H110: MGZ3V1L | I110: Számvitel I. | J110: 4 | K110: v | L110: 16 | M110: K | N110: Fáy Józsefné dr. | O110: főiskolai docens | P110: 3 | Q110: EGYÉNI | S110: =VLOOKUP($H110,Munka2!$E$2:$H$265,4,FALSE) -> 3 | T110: =IF(ISERROR(S110),"",S110) -> 3
A111: 129 | C111: =VLOOKUP($H111,Munka2!$E$2:$H$265,4,FALSE) -> 4 | F111: I-01-GAZD-A | G111: 5 | H111: MGZ3S1L | I111: Piackutatás A | J111: 4 | K111: v | L111: 12 | M111: SZ | N111: Dr. Kovács Beatrix | O111: főiskolai docens | P111: 4 | R111: MEN | S111: =VLOOKUP($H111,Munka2!$E$2:$H$265,4,FALSE) -> 4 | T111: =IF(ISERROR(S111),"",S111) -> 4
A112: 130 | C112: =VLOOKUP($H112,Munka2!$E$2:$H$265,4,FALSE) -> 36 | F112: I-01-GAZD-A | G112: 5 | H112: MGZ9D1L | I112: Gazdaságtörténet A | J112: 4 | K112: v | L112: 12 | M112: SZ | N112: Dr. Tóth József | O112: főiskolai docens | P112: 36 | R112: MEN | S112: =VLOOKUP($H112,Munka2!$E$2:$H$265,4,FALSE) -> 36 | T112: =IF(ISERROR(S112),"",S112) -> 36
A113: 76 | C113: =VLOOKUP($H113,Munka2!$E$2:$H$265,4,FALSE) -> 28 | F113: I-04-HÁL | G113: 5 | H113: MIN1T2L | I113: Java programozás | J113: 5 | K113: f | L113: 16 | M113: KV | N113: Nagy Gusztáv | O113: tanszéki mérnök | P113: 28 | S113: =VLOOKUP($H113,Munka2!$E$2:$H$265,4,FALSE) -> 28 | T113: =IF(ISERROR(S113),"",S113) -> 28
A114: 77 | C114: =VLOOKUP($H114,Munka2!$E$2:$H$265,4,FALSE) -> 28 | F114: I-04-HÁL | G114: 5 | H114: MIN2B1L | I114: Hálózati adminisztráció | J114: 5 | K114: f | L114: 16 | M114: KV | N114: Major Zoltán | O114: tanszéki mérnök | P114: 28 | S114: =VLOOKUP($H114,Munka2!$E$2:$H$265,4,FALSE) -> 28 | T114: =IF(ISERROR(S114),"",S114) -> 28
A115: 78 | C115: =VLOOKUP($H115,Munka2!$E$2:$H$265,4,FALSE) -> 32 | F115: I-04-HÁL | G115: 5 | H115: MMF3A4L | I115: Információ és kódelmélet | J115: 4 | K115: v | L115: 16 | M115: KV | N115: Nagy Péter | O115: főiskolai docens | P115: 32 | S115: =VLOOKUP($H115,Munka2!$E$2:$H$265,4,FALSE) -> 32 | T115: =IF(ISERROR(S115),"",S115) -> 32
A116: 138 | C116: =VLOOKUP($H116,Munka2!$E$2:$H$265,4,FALSE) -> 1 | F116: I-01-GAZD-A | G116: 6 | H116: MEK4B1L | I116: Mikroelektronika II. | J116: 4 | K116: v | L116: 16 | M116: K | N116: Dr. Madarász László | O116: főiskolai docens | P116: 1 | Q116: EGYÉNI | S116: =VLOOKUP($H116,Munka2!$E$2:$H$265,4,FALSE) -> 1 | T116: =IF(ISERROR(S116),"",S116) -> 1
A117: 152 | C117: =VLOOKUP($H117,Munka2!$E$2:$H$265,4,FALSE) -> 1 | F117: I-01-MŰSZINF | G117: 6 | H117: MEK4B1L | I117: Mikroelektronika II. | J117: 4 | K117: v | L117: 16 | M117: K | N117: Dr. Madarász László | O117: főiskolai docens | P117: 1 | Q117: EGYÉNI | S117: =VLOOKUP($H117,Munka2!$E$2:$H$265,4,FALSE) -> 1 | T117: =IF(ISERROR(S117),"",S117) -> 1
A118: 154 | C118: =VLOOKUP($H118,Munka2!$E$2:$H$265,4,FALSE) -> 1 | F118: I-01-SZGAUT | G118: 6 | H118: MEK4B1L | I118: Mikroelektronika II. | J118: 4 | K118: v | L118: 16 | M118: K | N118: Dr. Madarász László | O118: főiskolai docens | P118: 1 | Q118: EGYÉNI | S118: =VLOOKUP($H118,Munka2!$E$2:$H$265,4,FALSE) -> 1 | T118: =IF(ISERROR(S118),"",S118) -> 1
A119: 79 | C119: =VLOOKUP($H119,Munka2!$E$2:$H$265,4,FALSE) -> 1 | D119: MGZ3B2L | F119: I-04-GAZ-B | G119: 6 | H119: MGZ3B2L | I119: Controlling | J119: 4 | K119: v | L119: 12 | M119: KV | N119: Alter Róbert | O119: főiskolai docens | P119: 1 | R119: MEN | S119: =VLOOKUP($H119,Munka2!$E$2:$H$265,4,FALSE) -> 1 | T119: =IF(ISERROR(S119),"",S119) -> 1
...

Sheet félév-tárgy-m
C2: létszám | D2: kreditálás | E2: lap | F2: tanterv-szakir | G2: félév | H2: Tárgy-kód | I2: Tárgynév | J2: Kredit | K2: Köv | L2: Félévi óraszám | M2: Választ-hatóság | N2: Tantárgyfelelős | O2: beosztás | P2: Létszám (előzetes)
B3: 1 | C3: =VLOOKUP($H3,Munka2!$E$2:$H$265,4,FALSE) -> 1 | D3: MAI1A6ML | F3: M-BSc-2007 | G3: 1 | H3: MAI1A6ML | I3: Informatika | J3: 5 | K3: v | L3: 16 | M3: K | N3: Németh Rózsa | O3: főiskolai adjunktus | P3: 1 | S3: =VLOOKUP($H3,Munka2!$E$2:$H$265,4,FALSE) -> 1 | T3: =IF(ISERROR(S3),"",S3) -> 1
B4: 27 | C4: =VLOOKUP($H4,Munka2!$E$2:$H$265,4,FALSE) -> 1 | D4: MAI1A6ML | F4: M-04 | G4: 1 | H4: MIN3A1L | I4: Informatikai alapismeretek B | J4: 2 | K4: v | L4: 8 | M4: K | N4: Németh Rózsa | O4: főiskolai adjunktus | P4: 1 | S4: =VLOOKUP($H4,Munka2!$E$2:$H$265,4,FALSE) -> 1 | T4: =IF(ISERROR(S4),"",S4) -> 1
B5: 2 | C5: =VLOOKUP($H5,Munka2!$E$2:$H$265,4,FALSE) -> 1 | D5: MGI1A6ML | F5: M-BSc-2007 | G5: 1 | H5: MGI1A6ML | I5: Jogi és államigazgatási alapismeretek | J5: 4 | K5: v | L5: 12 | M5: K | N5: Dr. Adorján Mihály | O5: óraadó | P5: 1 | S5: =VLOOKUP($H5,Munka2!$E$2:$H$265,4,FALSE) -> 1 | T5: =IF(ISERROR(S5),"",S5) -> 1
B6: 3 | C6: =VLOOKUP($H6,Munka2!$E$2:$H$265,4,FALSE) -> #N/A | D6: MGI1B6ML | F6: M-BSc-2007 | G6: 1 | H6: MGI1B6ML | I6: Közgazdaságtan I. | J6: 4 | K6: v | L6: 12 | M6: K | N6: Dr. Wolfárt Mária | O6: főiskolai docens | S6: =VLOOKUP($H6,Munka2!$E$2:$H$265,4,FALSE) -> #N/A | T6: =IF(ISERROR(S6),"",S6)
B7: 4 | C7: =VLOOKUP($H7,Munka2!$E$2:$H$265,4,FALSE) -> 2 | D7: MMF1A6ML | F7: M-BSc-2007 | G7: 1 | H7: MMF1A6ML | I7: Analízis I. | J7: 5 | K7: f | L7: 16 | M7: K | N7: Keresztszeghy István | O7: oktatásszervező | P7: 2 | R7: INF | S7: =VLOOKUP($H7,Munka2!$E$2:$H$265,4,FALSE) -> 2 | T7: =IF(ISERROR(S7),"",S7) -> 2
B8: 28 | C8: =VLOOKUP($H8,Munka2!$E$2:$H$265,4,FALSE) -> 3 | D8: MMF1A6ML | F8: M-04 | G8: 1 | H8: MMF1A2L | I8: Analízis I. | J8: 5 | K8: f | L8: 16 | M8: K | N8: Keresztszeghy István | O8: oktatásszervező | P8: 3 | R8: INF | S8: =VLOOKUP($H8,Munka2!$E$2:$H$265,4,FALSE) -> 3 | T8: =IF(ISERROR(S8),"",S8) -> 3
B9: 5 | C9: =VLOOKUP($H9,Munka2!$E$2:$H$265,4,FALSE) -> 7 | D9: MMT1A6ML | F9: M-BSc-2007 | G9: 1 | H9: MMT1A6ML | I9: Anyagismeret B I. | J9: 5 | K9: v | L9: 16 | M9: K | N9: Johanyák Edit | O9: főiskolai adjunktus | P9: 7 | S9: =VLOOKUP($H9,Munka2!$E$2:$H$265,4,FALSE) -> 7 | T9: =IF(ISERROR(S9),"",S9) -> 7
B10: 29 | C10: =VLOOKUP($H10,Munka2!$E$2:$H$265,4,FALSE) -> 13 | D10: MMT1A6ML | F10: M-04 | G10: 1 | H10: MMT2A1L | I10: Anyagismeret B I. | J10: 5 | K10: v | L10: 16 | M10: K | N10: Johanyák Edit | O10: főiskolai adjunktus | P10: 13 | S10: =VLOOKUP($H10,Munka2!$E$2:$H$265,4,FALSE) -> 13 | T10: =IF(ISERROR(S10),"",S10) -> 13
B11: 6 | C11: =VLOOKUP($H11,Munka2!$E$2:$H$265,4,FALSE) -> #N/A | D11: MSZ1A6ML | F11: M-BSc-2007 | G11: 1 | H11: MSZ1A6ML | I11: Biológia | J11: 3 | K11: v | L11: 8 | M11: K | N11: Horváth Zsuzsanna | O11: főiskolai adjunktus | S11: =VLOOKUP($H11,Munka2!$E$2:$H$265,4,FALSE) -> #N/A | T11: =IF(ISERROR(S11),"",S11)
B12: 7 | C12: =VLOOKUP($H12,Munka2!$E$2:$H$265,4,FALSE) -> 2 | D12: MSZ1B6ML | F12: M-BSc-2007 | G12: 1 | H12: MSZ1B6ML | I12: Menedzsment | J12: 4 | K12: v | L12: 12 | M12: K | N12: Dr. Tóth József | O12: főiskolai docens | P12: 2 | S12: =VLOOKUP($H12,Munka2!$E$2:$H$265,4,FALSE) -> 2 | T12: =IF(ISERROR(S12),"",S12) -> 2
B13: 26 | C13: =VLOOKUP($H13,Munka2!$E$2:$H$265,4,FALSE) -> 1 | D13: MSZ1B6ML | F13: M-04 | G13: 1 | H13: MGZ6R2L | I13: Szervezési és vezetési ismeretek I. | J13: 5 | K13: v | L13: 12 | M13: K | N13: Dr. Tóth József | O13: főiskolai docens | P13: 1 | S13: =VLOOKUP($H13,Munka2!$E$2:$H$265,4,FALSE) -> 1 | T13: =IF(ISERROR(S13),"",S13) -> 1
B14: 23 | C14: =VLOOKUP($H14,Munka2!$E$2:$H$265,4,FALSE) -> #N/A | D14: MMF1B6ML | F14: M-BSc-2006 | G14: 1 | H14: MMF1B6ML | I14: Matematikai alapismeretek | J14: 2 | K14: f | L14: 8 | M14: SZ | N14: Dr. Csenki Róbert | O14: főiskolai docens | S14: =VLOOKUP($H14,Munka2!$E$2:$H$265,4,FALSE) -> #N/A | T14: =IF(ISERROR(S14),"",S14)
B15: 8 | C15: =VLOOKUP($H15,Munka2!$E$2:$H$265,4,FALSE) -> #N/A | D15: MMF1B7ML | F15: M-BSc-2007 | G15: 1 | H15: MMF1B7ML | I15: Matematikai alapismeretek | J15: 3 | K15: f | L15: 8 | M15: SZ | N15: Dr. Csenki Róbert | O15: főiskolai docens | S15: =VLOOKUP($H15,Munka2!$E$2:$H$265,4,FALSE) -> #N/A | T15: =IF(ISERROR(S15),"",S15)
B16: 24 | C16: =VLOOKUP($H16,Munka2!$E$2:$H$265,4,FALSE) -> 1 | D16: MMF1C6ML | F16: M-BSc-2006 | G16: 1 | H16: MMF1C6ML | I16: Fizikai alapismeretek | J16: 2 | K16: f | L16: 8 | M16: SZ | N16: Jusztin Zsuzsanna | O16: műszaki tanár | P16: 1 | S16: =VLOOKUP($H16,Munka2!$E$2:$H$265,4,FALSE) -> 1 | T16: =IF(ISERROR(S16),"",S16) -> 1
B17: 9 | C17: =VLOOKUP($H17,Munka2!$E$2:$H$265,4,FALSE) -> #N/A | D17: MMF1C7ML | F17: M-BSc-2007 | G17: 1 | H17: MMF1C7ML | I17: Fizikai alapismeretek | J17: 3 | K17: f | L17: 8 | M17: SZ | N17: Jusztin Zsuzsanna | O17: műszaki tanár | S17: =VLOOKUP($H17,Munka2!$E$2:$H$265,4,FALSE) -> #N/A | T17: =IF(ISERROR(S17),"",S17)
B18: 10 | C18: =VLOOKUP($H18,Munka2!$E$2:$H$265,4,FALSE) -> #N/A | D18: MGI2A6ML | F18: M-BSc-2007 | G18: 2 | H18: MGI2A6ML | I18: Közgazdaságtan II. | J18: 4 | K18: v | L18: 12 | M18: K | N18: Dr. Wolfárt Mária | O18: főiskolai docens | Q18: EGYÉNI | S18: =VLOOKUP($H18,Munka2!$E$2:$H$265,4,FALSE) -> #N/A | T18: =IF(ISERROR(S18),"",S18)
B19: 11 | C19: =VLOOKUP($H19,Munka2!$E$2:$H$265,4,FALSE) -> 6 | D19: MMF2A6ML | F19: M-BSc-2007 | G19: 2 | H19: MMF2A6ML | I19: Analízis II. | J19: 5 | K19: f | L19: 16 | M19: K | N19: Keresztszeghy István | O19: oktatásszervező | P19: 6 | S19: =VLOOKUP($H19,Munka2!$E$2:$H$265,4,FALSE) -> 6 | T19: =IF(ISERROR(S19),"",S19) -> 6
B20: 32 | C20: =VLOOKUP($H20,Munka2!$E$2:$H$265,4,FALSE) -> 6 | D20: MMF2A6ML | F20: M-04 | G20: 2 | H20: MMF1B2L | I20: Analízis II. | J20: 5 | K20: f | L20: 16 | M20: K | N20: Keresztszeghy István | O20: oktatásszervező | P20: 6 | S20: =VLOOKUP($H20,Munka2!$E$2:$H$265,4,FALSE) -> 6 | T20: =IF(ISERROR(S20),"",S20) -> 6
B21: 66 | C21: =VLOOKUP($H21,Munka2!$E$2:$H$265,4,FALSE) -> 2 | D21: MMF2A6ML | F21: M-01 | G21: 2 | H21: MMF1B1L | I21: Matematika A II. | J21: 4 | K21: f | L21: 16 | M21: K | N21: Keresztszeghy István | O21: oktatásszervező | P21: 2 | S21: =VLOOKUP($H21,Munka2!$E$2:$H$265,4,FALSE) -> 2 | T21: =IF(ISERROR(S21),"",S21) -> 2
B22: 12 | C22: =VLOOKUP($H22,Munka2!$E$2:$H$265,4,FALSE) -> #N/A | D22: MMF2B6ML | F22: M-BSc-2007 | G22: 2 | H22: MMF2B6ML | I22: Fizika I. | J22: 5 | K22: v | L22: 16 | M22: K | N22: Nagy Péter | O22: főiskolai docens | S22: =VLOOKUP($H22,Munka2!$E$2:$H$265,4,FALSE) -> #N/A | T22: =IF(ISERROR(S22),"",S22)
B23: 33 | C23: =VLOOKUP($H23,Munka2!$E$2:$H$265,4,FALSE) -> 1 | D23: MMF2B6ML | F23: M-04 | G23: 2 | H23: MMF2A2L | I23: Fizika I. | J23: 5 | K23: v | L23: 16 | M23: K | N23: Nagy Péter | O23: főiskolai docens | P23: 1 | S23: =VLOOKUP($H23,Munka2!$E$2:$H$265,4,FALSE) -> 1 | T23: =IF(ISERROR(S23),"",S23) -> 1
B24: 67 | C24: =VLOOKUP($H24,Munka2!$E$2:$H$265,4,FALSE) -> 3 | D24: MMF2B6ML | F24: M-01 | G24: 2 | H24: MMF2A1L | I24: Fizika | J24: 4 | K24: v | L24: 16 | M24: K | N24: Nagy Péter | O24: főiskolai docens | P24: 3 | T24: =IF(ISERROR(S24),"",S24) -> 0
B25: 30 | C25: =VLOOKUP($H25,Munka2!$E$2:$H$265,4,FALSE) -> 7 | F25: M-04 | G25: 2 | H25: MGZ1H1L | I25: Közgazdaságtan szigorlat | J25: 0 | K25: s | M25: K | N25: Dr. Wolfárt Mária | O25: főiskolai docens | P25: 7 | S25: =VLOOKUP($H25,Munka2!$E$2:$H$265,4,FALSE) -> 7 | T25: =IF(ISERROR(S25),"",S25) -> 7
B26: 31 | C26: =VLOOKUP($H26,Munka2!$E$2:$H$265,4,FALSE) -> 1 | F26: M-04 | G26: 2 | H26: MIN3C1L | I26: Szoftverüzemeltetés II. | J26: 2 | K26: f | L26: 8 | M26: K | N26: Németh Rózsa | O26: főiskolai adjunktus | P26: 1 | Q26: EGYÉNI | S26: =VLOOKUP($H26,Munka2!$E$2:$H$265,4,FALSE) -> 1 | T26: =IF(ISERROR(S26),"",S26) -> 1
B27: 36 | C27: =VLOOKUP($H27,Munka2!$E$2:$H$265,4,FALSE) -> 7 | D27: Gépész | F27: M-04 | G27: 3 | H27: MGY2D1L | I27: Méréstechnika | J27: 2 | K27: f | L27: 8 | M27: K | N27: László Istvánné | O27: főiskolai adjunktus | P27: 7 | T27: =IF(ISERROR(S27),"",S27) -> 0
B28: 13 | C28: =VLOOKUP($H28,Munka2!$E$2:$H$265,4,FALSE) -> 9 | D28: MGI3A6ML | F28: M-BSc-2007 | G28: 3 | H28: MGI3A6ML | I28: Számvitel I. | J28: 4 | K28: f | L28: 12 | M28: K | N28: Fáy Józsefné dr. | O28: főiskolai docens | P28: 9 | S28: =VLOOKUP($H28,Munka2!$E$2:$H$265,4,FALSE) -> 9 | T28: =IF(ISERROR(S28),"",S28) -> 9
B29: 38 | C29: =VLOOKUP($H29,Munka2!$E$2:$H$265,4,FALSE) -> 3 | D29: MGI3A6ML | F29: M-04 | G29: 3 | H29: MGZ3V1L | I29: Számvitel I. | J29: 4 | K29: v | L29: 16 | M29: K | N29: Fáy Józsefné dr. | O29: főiskolai docens | P29: 3 | S29: =VLOOKUP($H29,Munka2!$E$2:$H$265,4,FALSE) -> 3 | T29: =IF(ISERROR(S29),"",S29) -> 3
B30: 14 | C30: =VLOOKUP($H30,Munka2!$E$2:$H$265,4,FALSE) -> 9 | D30: MGT3A6ML | F30: M-BSc-2007 | G30: 3 | H30: MGT3A6ML | I30: Gépészmérnöki alapismeretek II. | J30: 3 | K30: f | L30: 12 | M30: K | N30: Kéri Ferenc | O30: főiskolai adjunktus | P30: 9 | S30: =VLOOKUP($H30,Munka2!$E$2:$H$265,4,FALSE) -> 9 | T30: =IF(ISERROR(S30),"",S30) -> 9
B31: 35 | C31: =VLOOKUP($H31,Munka2!$E$2:$H$265,4,FALSE) -> 12 | D31: MGT3A6ML | F31: M-04 | G31: 3 | H31: MGT5B1L | I31: Gépészmérnöki alapismeretek II. | J31: 4 | K31: f | L31: 12 | M31: K | N31: Kéri Ferenc | O31: főiskolai adjunktus | P31: 12 | S31: =VLOOKUP($H31,Munka2!$E$2:$H$265,4,FALSE) -> 12 | T31: =IF(ISERROR(S31),"",S31) -> 12
B32: 15 | C32: =VLOOKUP($H32,Munka2!$E$2:$H$265,4,FALSE) -> 9 | D32: MMA3A6ML | F32: M-BSc-2007 | G32: 3 | H32: MMA3A6ML | I32: Kémia B | J32: 5 | K32: v | L32: 16 | M32: K | N32: Ádámné Major Andrea | O32: főiskolai tanársegéd | P32: 9 | S32: =VLOOKUP($H32,Munka2!$E$2:$H$265,4,FALSE) -> 9 | T32: =IF(ISERROR(S32),"",S32) -> 9
B33: 16 | C33: =VLOOKUP($H33,Munka2!$E$2:$H$265,4,FALSE) -> 2 | D33: MMF3A6ML | F33: M-BSc-2007 | G33: 3 | H33: MMF3A6ML | I33: Valószínűségszámítás és statisztika B | J33: 5 | K33: f | L33: 16 | M33: K | N33: Bársony Istrván | O33: főiskolai adjunktus | P33: 2 | S33: =VLOOKUP($H33,Munka2!$E$2:$H$265,4,FALSE) -> 2 | T33: =IF(ISERROR(S33),"",S33) -> 2
B34: 43 | C34: =VLOOKUP($H34,Munka2!$E$2:$H$265,4,FALSE) -> 5 | D34: MMF3A6ML | F34: M-04 | G34: 3 | H34: MMF1H1L | I34: Gazdasági matematika | J34: 4 | K34: f | L34: 16 | M34: K | N34: Bársony Istrván | O34: főiskolai adjunktus | P34: 5 | S34: =VLOOKUP($H34,Munka2!$E$2:$H$265,4,FALSE) -> 5 | T34: =IF(ISERROR(S34),"",S34) -> 5
B35: 17 | C35: =VLOOKUP($H35,Munka2!$E$2:$H$265,4,FALSE) -> 8 | D35: MMF3B6ML | F35: M-BSc-2007 | G35: 3 | H35: MMF3B6ML | I35: Fizika II. | J35: 5 | K35: v | L35: 16 | M35: K | N35: Dr. Klebniczki József | O35: főiksolai tanár | P35: 8 | S35: =VLOOKUP($H35,Munka2!$E$2:$H$265,4,FALSE) -> 8 | T35: =IF(ISERROR(S35),"",S35) -> 8
B36: 18 | C36: =VLOOKUP($H36,Munka2!$E$2:$H$265,4,FALSE) -> 8 | D36: MSZ3A6ML | F36: M-BSc-2007 | G36: 3 | H36: MSZ3A6ML | I36: Szervezési és vezetési ismeretek II. | J36: 5 | K36: v | L36: 16 | M36: K | N36: Dr. Tóth József | O36: főiskolai docens | P36: 8 | S36: =VLOOKUP($H36,Munka2!$E$2:$H$265,4,FALSE) -> 8 | T36: =IF(ISERROR(S36),"",S36) -> 8
B37: 19 | C37: =VLOOKUP($H37,Munka2!$E$2:$H$265,4,FALSE) -> 10 | D37: MSZ3B6ML | F37: M-BSc-2007 | G37: 3 | H37: MSZ3B6ML | I37: Termelésmenedzsment | J37: 5 | K37: v | L37: 16 | M37: K | N37: Dr. Müller Rudolf | O37: főiskolai docens | P37: 10 | S37: =VLOOKUP($H37,Munka2!$E$2:$H$265,4,FALSE) -> 10 | T37: =IF(ISERROR(S37),"",S37) -> 10
B38: 34 | C38: =VLOOKUP($H38,Munka2!$E$2:$H$265,4,FALSE) -> 2 | F38: M-04 | G38: 3 | H38: MEK1F1L | I38: Elektrotechnika C | J38: 4 | K38: v | L38: 12 | M38: K | N38: Csík Norbert | O38: főiskolai tanársegéd | P38: 2 | Q38: EGYÉNI | S38: =VLOOKUP($H38,Munka2!$E$2:$H$265,4,FALSE) -> 2 | T38: =IF(ISERROR(S38),"",S38) -> 2
B39: 37 | C39: =VLOOKUP($H39,Munka2!$E$2:$H$265,4,FALSE) -> 3 | F39: M-04 | G39: 3 | H39: MGZ3G1L | I39: Gazdasági statisztika | J39: 4 | K39: f | L39: 12 | M39: K | N39: Dr. Hajdú Lajosné | O39: főiskolai adjunktus | P39: 3 | Q39: EGYÉNI | S39: =VLOOKUP($H39,Munka2!$E$2:$H$265,4,FALSE) -> 3 | T39: =IF(ISERROR(S39),"",S39) -> 3
B40: 39 | C40: =VLOOKUP($H40,Munka2!$E$2:$H$265,4,FALSE) -> 12 | F40: M-04 | G40: 3 | H40: MGZ3X1L | I40: Vállalatgazdaságtan | J40: 2 | K40: v | L40: 8 | M40: K | N40: Dr. Kovács Beatrix | O40: főiskolai docens | P40: 12 | S40: =VLOOKUP($H40,Munka2!$E$2:$H$265,4,FALSE) -> 12 | T40: =IF(ISERROR(S40),"",S40) -> 12
B41: 40 | C41: =VLOOKUP($H41,Munka2!$E$2:$H$265,4,FALSE) -> 5 | F41: M-04 | G41: 3 | H41: MGZ6E1L | I41: Minőségmenedzsment A | J41: 4 | K41: v | L41: 12 | M41: K | N41: Száraz Edit | O41: főiskolai adjunktus | P41: 5 | Q41: EGYÉNI | S41: =VLOOKUP($H41,Munka2!$E$2:$H$265,4,FALSE) -> 5 | T41: =IF(ISERROR(S41),"",S41) -> 5
B42: 42 | C42: =VLOOKUP($H42,Munka2!$E$2:$H$265,4,FALSE) -> 5 | F42: M-04 | G42: 3 | H42: MIN3D1L | I42: Szoftverüzemeltetés III. | J42: 2 | K42: f | L42: 8 | M42: K | N42: Németh Rózsa | O42: főiskolai adjunktus | P42: 5 | Q42: EGYÉNI | S42: =VLOOKUP($H42,Munka2!$E$2:$H$265,4,FALSE) -> 5 | T42: =IF(ISERROR(S42),"",S42) -> 5
B43: 44 | C43: =VLOOKUP($H43,Munka2!$E$2:$H$265,4,FALSE) -> 10 | F43: M-04 | G43: 3 | H43: MMF1I1L | I43: Matematika szigorlat C | J43: 0 | K43: s | M43: K | N43: Hajdú Edit | O43: főiskolai adjunktus | P43: 10 | S43: =VLOOKUP($H43,Munka2!$E$2:$H$265,4,FALSE) -> 10 | T43: =IF(ISERROR(S43),"",S43) -> 10
B44: 46 | C44: =VLOOKUP($H44,Munka2!$E$2:$H$265,4,FALSE) -> 6 | D44: Gépész | F44: M-04 | G44: 3 | H44: MGY1J1L | I44: Munkavédelem, biztonságtechnika | J44: 2 | K44: v | L44: 8 | M44: SZ | N44: Dr. Jakab Sándor | O44: főiskolai docens | P44: 6 | R44: GÉP | S44: =VLOOKUP($H44,Munka2!$E$2:$H$265,4,FALSE) -> 6 | T44: =IF(ISERROR(S44),"",S44) -> 6
B45: 20 | C45: =VLOOKUP($H45,Munka2!$E$2:$H$265,4,FALSE) -> 1 | D45: MAI3A7ML | F45: M-BSc-2007 | G45: 3 | H45: MAI3A7ML | I45: Szupravezetők alkalmazása | J45: 2 | K45: v | L45: 8 | M45: SZ | N45: Kósa János | O45: főiskolai adjunktus | P45: 1 | S45: =VLOOKUP($H45,Munka2!$E$2:$H$265,4,FALSE) -> 1 | T45: =IF(ISERROR(S45),"",S45) -> 1
B46: 45 | C46: =VLOOKUP($H46,Munka2!$E$2:$H$265,4,FALSE) -> 21 | D46: MAI3A7ML | F46: M-04 | G46: 3 | H46: MAI9Z1L | I46: Szupravezetők alkalmazása | J46: 2 | K46: v | L46: 8 | M46: SZ | N46: Kósa János | O46: főiskolai adjunktus | P46: 21 | S46: =VLOOKUP($H46,Munka2!$E$2:$H$265,4,FALSE) -> 21 | T46: =IF(ISERROR(S46),"",S46) -> 21
B47: 21 | C47: =VLOOKUP($H47,Munka2!$E$2:$H$265,4,FALSE) -> 2 | D47: MIN3E7ML | F47: M-BSc-2007 | G47: 3 | H47: MIN3E7ML | I47: Webes tartalomkezelő rendszerek | J47: 2 | K47: f | L47: 8 | M47: SZ | N47: Nagy Gusztáv | O47: tanszéki mérnök | P47: 2 | S47: =VLOOKUP($H47,Munka2!$E$2:$H$265,4,FALSE) -> 2 | T47: =IF(ISERROR(S47),"",S47) -> 2
B48: 47 | C48: =VLOOKUP($H48,Munka2!$E$2:$H$265,4,FALSE) -> 9 | F48: M-04 | G48: 4 | H48: MGT5C1L | I48: Gépészmérnöki alapismeretek III. | J48: 4 | K48: v | L48: 12 | M48: K | N48: Kéri Ferenc | O48: főiskolai adjunktus | P48: 9 | S48: =VLOOKUP($H48,Munka2!$E$2:$H$265,4,FALSE) -> 9 | T48: =IF(ISERROR(S48),"",S48) -> 9
B49: 48 | C49: =VLOOKUP($H49,Munka2!$E$2:$H$265,4,FALSE) -> 3 | F49: M-04 | G49: 4 | H49: MGY7B1L | I49: Gépipari technológiai alapismeretek | J49: 4 | K49: v | L49: 12 | M49: K | N49: Dr. Végvári Ferec | O49: főiskolai tanár | P49: 3 | Q49: EGYÉNI | S49: =VLOOKUP($H49,Munka2!$E$2:$H$265,4,FALSE) -> 3 | T49: =IF(ISERROR(S49),"",S49) -> 3
B50: 49 | C50: =VLOOKUP($H50,Munka2!$E$2:$H$265,4,FALSE) -> 18 | F50: M-04 | G50: 4 | H50: MGZ3P1L | I50: Pénzügytan | J50: 2 | K50: v | L50: 8 | M50: K | N50: Alter Róbert | O50: főiskolai docens | P50: 18 | S50: =VLOOKUP($H50,Munka2!$E$2:$H$265,4,FALSE) -> 18 | T50: =IF(ISERROR(S50),"",S50) -> 18
B51: 50 | C51: =VLOOKUP($H51,Munka2!$E$2:$H$265,4,FALSE) -> 2 | F51: M-04 | G51: 4 | H51: MGZ9I1L | I51: Politológia | J51: 3 | K51: f | L51: 8 | M51: K | N51: Dr. Tóth József | O51: főiskolai docens | P51: 2 | Q51: EGYÉNI | S51: =VLOOKUP($H51,Munka2!$E$2:$H$265,4,FALSE) -> 2 | T51: =IF(ISERROR(S51),"",S51) -> 2
B52: 51 | C52: =VLOOKUP($H52,Munka2!$E$2:$H$265,4,FALSE) -> 31 | F52: M-04 | G52: 5 | H52: MGZ3B1L | I52: Controlling | J52: 4 | K52: v | L52: 12 | M52: K | N52: Alter Róbert | O52: főiskolai docens | P52: 31 | S52: =VLOOKUP($H52,Munka2!$E$2:$H$265,4,FALSE) -> 31 | T52: =IF(ISERROR(S52),"",S52) -> 31
B53: 52 | C53: =VLOOKUP($H53,Munka2!$E$2:$H$265,4,FALSE) -> 36 | F53: M-04 | G53: 5 | H53: MGZ9D1L | I53: Gazdaságtörténet A | J53: 4 | K53: v | L53: 12 | M53: K | N53: Dr. Tóth József | O53: főiskolai docens | P53: 36 | S53: =VLOOKUP($H53,Munka2!$E$2:$H$265,4,FALSE) -> 36 | T53: =IF(ISERROR(S53),"",S53) -> 36
B54: 53 | C54: =VLOOKUP($H54,Munka2!$E$2:$H$265,4,FALSE) -> 38 | F54: M-04 | G54: 5 | H54: MMA3B1L | I54: Műanyagipari technológiák | J54: 4 | K54: v | L54: 16 | M54: K | N54: Csikai Pál | O54: főiskolai adjunktus | P54: 38 | S54: =VLOOKUP($H54,Munka2!$E$2:$H$265,4,FALSE) -> 38 | T54: =IF(ISERROR(S54),"",S54) -> 38
B55: 54 | C55: =VLOOKUP($H55,Munka2!$E$2:$H$265,4,FALSE) -> 21 | F55: M-04 | G55: 5 | H55: MMT2P1L | I55: Mechanikai technológiák B | J55: 4 | K55: v | L55: 16 | M55: K | N55: Dr. Végvári Ferec | O55: főiskolai tanár | P55: 21 | S55: =VLOOKUP($H55,Munka2!$E$2:$H$265,4,FALSE) -> 21 | T55: =IF(ISERROR(S55),"",S55) -> 21
B56: 56 | C56: =VLOOKUP($H56,Munka2!$E$2:$H$265,4,FALSE) -> 32 | F56: M-04-GAZD | G56: 5 | H56: MAI2B1L | I56: Vezetői információs rendszerek | J56: 2 | K56: f | L56: 8 | M56: KV | N56: Dr. Lajtai Iván | O56: főiskolai docens | P56: 32 | S56: =VLOOKUP($H56,Munka2!$E$2:$H$265,4,FALSE) -> 32 | T56: =IF(ISERROR(S56),"",S56) -> 32
B57: 57 | C57: =VLOOKUP($H57,Munka2!$E$2:$H$265,4,FALSE) -> 33 | F57: M-04-GAZD | G57: 5 | H57: MGZ3A1L | I57: Bank- és tőzsdeismeretek | J57: 3 | K57: f | L57: 8 | M57: KV | N57: Alter Róbert | O57: főiskolai docens | P57: 33 | S57: =VLOOKUP($H57,Munka2!$E$2:$H$265,4,FALSE) -> 33 | T57: =IF(ISERROR(S57),"",S57) -> 33
B58: 58 | C58: =VLOOKUP($H58,Munka2!$E$2:$H$265,4,FALSE) -> 33 | F58: M-04-GAZD | G58: 5 | H58: MGZ4C1L | I58: Vezetői számvitel és elemzés A | J58: 4 | K58: v | L58: 12 | M58: KV | N58: Fáy Józsefné dr. | O58: főiskolai docens | P58: 33 | S58: =VLOOKUP($H58,Munka2!$E$2:$H$265,4,FALSE) -> 33 | T58: =IF(ISERROR(S58),"",S58) -> 33
B59: 55 | C59: =VLOOKUP($H59,Munka2!$E$2:$H$265,4,FALSE) -> 37 | F59: M-04 | G59: 5 | H59: MMM4A1L | I59: Médiatechnika alapjai | J59: 2 | K59: v | L59: 8 | M59: SZ | N59: Tóth Lajos | O59: oktatástechnikai mérnök | P59: 37 | S59: =VLOOKUP($H59,Munka2!$E$2:$H$265,4,FALSE) -> 37 | T59: =IF(ISERROR(S59),"",S59) -> 37
B60: 59 | C60: =VLOOKUP($H60,Munka2!$E$2:$H$265,4,FALSE) -> 7 | F60: M-04-GAZD | G60: 5 | H60: MGZ3N1L | I60: Marketingkommunikáció | J60: 3 | K60: f | L60: 8 | M60: SZ | N60: Dr. Kovács Beatrix | O60: főiskolai docens | P60: 7 | S60: =VLOOKUP($H60,Munka2!$E$2:$H$265,4,FALSE) -> 7 | T60: =IF(ISERROR(S60),"",S60) -> 7
B61: 60 | C61: =VLOOKUP($H61,Munka2!$E$2:$H$265,4,FALSE) -> 4 | F61: M-04-GAZD | G61: 5 | H61: MGZ3S1L | I61: Piackutatás A | J61: 4 | K61: v | L61: 12 | M61: SZ | N61: Dr. Kovács Beatrix | O61: főiskolai docens | P61: 4 | S61: =VLOOKUP($H61,Munka2!$E$2:$H$265,4,FALSE) -> 4 | T61: =IF(ISERROR(S61),"",S61) -> 4
B62: 61 | C62: =VLOOKUP($H62,Munka2!$E$2:$H$265,4,FALSE) -> 1 | D62: MGZ6T2L | F62: M-04 | G62: 6 | H62: MGZ6T2L | I62: Szervezési és vezetési ismeretek III. | J62: 5 | K62: v | L62: 16 | M62: K | N62: Száraz Edit | O62: főiskolai adjunktus | P62: 1 | Q62: EGYÉNI | S62: =VLOOKUP($H62,Munka2!$E$2:$H$265,4,FALSE) -> 1 | T62: =IF(ISERROR(S62),"",S62) -> 1
B63: 68 | C63: =VLOOKUP($H63,Munka2!$E$2:$H$265,4,FALSE) -> 4 | D63: MGZ6T2L | F63: M-01 | G63: 6 | H63: MGZ6T1L | I63: Szervezési és vezetési ismeretek III. | J63: 5 | K63: v | L63: 16 | M63: K | N63: Száraz Edit | O63: főiskolai adjunktus | P63: 4 | Q63: EGYÉNI | S63: =VLOOKUP($H63,Munka2!$E$2:$H$265,4,FALSE) -> 4 | T63: =IF(ISERROR(S63),"",S63) -> 4
B64: 62 | C64: =VLOOKUP($H64,Munka2!$E$2:$H$265,4,FALSE) -> 11 | F64: M-04 | G64: 7 | H64: MGZ5L1L | I64: Gyakorlati félév | J64: 15 | K64: f | M64: K | N64: Dr. Kovács Beatrix | O64: főiskolai docens | P64: 11 | S64: =VLOOKUP($H64,Munka2!$E$2:$H$265,4,FALSE) -> 11 | T64: =IF(ISERROR(S64),"",S64) -> 11
B65: 63 | C65: =VLOOKUP($H65,Munka2!$E$2:$H$265,4,FALSE) -> 15 | F65: M-04-GAZD | G65: 7 | H65: MGZ5K1L | I65: Szakdolgozat C | J65: 15 | K65: a | M65: KV | N65: Dr. Kovács Beatrix | O65: főiskolai docens | P65: 15 | T65: =IF(ISERROR(S65),"",S65) -> 0

Sheet G2
D4: 2007/2008 őszi félév | E4: Gépészmérnöki alapszak, szak 2. félév | H4: A konzultációk helyszíne: az ettől eltérőek külön említve
D5: 1. konzultáció 2007. szept. 8. | E5: 2. konzultáció 2007. szept. 15. | F5: 3. konzultáció 2007. szept. 22. | G5: 4. konzultáció 2007. szept. 29. | H5: 5. konzultáció 2007. okt. 6. | I5: 6. konzultáció 2007. okt. 13. | J5: 7. konzultáció 2007. okt. 20. | L5: Tárgy-kód | M5: Tárgynév | N5: Kredit | O5: Köv | P5: Félévi óraszám | Q5: Választ-hatóság | R5: Tantárgyfelelős | S5: beosztás | T5: Létszám (előzetes) | U5: =SUM(P6:P48) -> 0
B6: 1 | C6: 7.45-8.30
B7: 2 | C7: 8.40-9.25
B8: 3 | C8: 9.35-10.20
B9: 4 | C9: 10.30-11.15
B10: 5 | C10: 11.25-12.10
B11: 6 | C11: 12.20-13.05
B12: 7 | C12: 13.15-14.00
B13: 8 | C13: 14.10-14.55
B14: 9 | C14: 15.05-15.50
B15: 10 | C15: 16.00-16.45
B16: 11 | C16: 16.55-17.40
B17: 12 | C17: 17.50-18.35
D18: 8. konzultáció 2007. okt. 27. | E18: 9. konzultáció 2007. nov. 10. | F18: 10. konzultáció 2007. nov. 17. | G18: 11. konzultáció 2007. nov. 24. | H18: 12. konzultáció 2007. dec. 1. | I18: 13. konzultáció 2007. dec. 8. | J18: Pótlás, elővizsga 2007. dec. 15.
B19: 1 | C19: 7.45-8.30
B20: 2 | C20: 8.40-9.25
B21: 3 | C21: 9.35-10.20
B22: 4 | C22: 10.30-11.15
B23: 5 | C23: 11.25-12.10
B24: 6 | C24: 12.20-13.05
B25: 7 | C25: 13.15-14.00
B26: 8 | C26: 14.10-14.55
B27: 9 | C27: 15.05-15.50
B28: 10 | C28: 16.00-16.45
B29: 11 | C29: 16.55-17.40
B30: 12 | C30: 17.50-18.35
B32: Kecskemét, 2007. szeptember 8. | J32: Összeállította, készítette: Keresztszeghy István oktatásszervező
B35: Érvényes: 2007. december 15-ig. | J35: Jóváhagyta: dr. Bagány Mihály oktatási dékánhelyettes
D39: 1. konzultáció 2007. szept. 8. | E39: 2. konzultáció 2007. szept. 15. | F39: 3. konzultáció 2007. szept. 22. | G39: 4. konzultáció 2007. szept. 29. | H39: 5. konzultáció 2007. okt. 6. | I39: 6. konzultáció 2007. okt. 13. | J39: 7. konzultáció 2007. okt. 20.
B40: 1 | C40: 7.45-8.30
B41: 2 | C41: 8.40-9.25
B42: 3 | C42: 9.35-10.20
B43: 4 | C43: 10.30-11.15
B44: 5 | C44: 11.25-12.10
B45: 6 | C45: 12.20-13.05
B46: 7 | C46: 13.15-14.00
B47: 8 | C47: 14.10-14.55
B48: 9 | C48: 15.05-15.50
B49: 10 | C49: 16.00-16.45
B50: 11 | C50: 16.55-17.40
B51: 12 | C51: 17.50-18.35
D52: 8. konzultáció 2007. okt. 27. | E52: 9. konzultáció 2007. nov. 10. | F52: 10. konzultáció 2007. nov. 17. | G52: 11. konzultáció 2007. nov. 24. | H52: 12. konzultáció 2007. dec. 1. | I52: 13. konzultáció 2007. dec. 8. | J52: Pótlás, elővizsga 2007. dec. 15.
B53: 1 | C53: 7.45-8.30
B54: 2 | C54: 8.40-9.25
B55: 3 | C55: 9.35-10.20
B56: 4 | C56: 10.30-11.15
B57: 5 | C57: 11.25-12.10
B58: 6 | C58: 12.20-13.05
B59: 7 | C59: 13.15-14.00
B60: 8 | C60: 14.10-14.55
B61: 9 | C61: 15.05-15.50
B62: 10 | C62: 16.00-16.45
B63: 11 | C63: 16.55-17.40
B64: 12 | C64: 17.50-18.35

Sheet GMN1
A1: EÖTVÖS JÓZSEF FŐISKOLA | F1: ÓRAREND | S1: 2026. augusztus
A2: GAZDÁLKODÁSI ÉS MENEDZSMENT ALAPSZAK | F2: 2026/2027. TANÉV 1. FÉLÉV
F3: I. ÉVFOLYAM, NAPPALI TAGOZAT
B5: HÉTFŐ | F5: KEDD | J5: SZERDA | N5: CSÜTÖRTÖK | R5: PÉNTEK
A7: 800 – 845 | B7: GK107N Gazdaságtörténet Kovács Szilárd A/93
A8: 900 – 945 | R8: GK115N Közgazdaságtan 1. Weber Erika A/93
A9: 1000 – 1045 | B9: GK106N Gazdasági szaknyelv 1. angol Kirsteen Crawford C/58 | F9: GK105N Üzleti kommunikáció Bakonyiné dr. Kovács Bea A/94 | N9: GK116N Pszichológia 1. csoport Szűcsné Tóth Zsuzsanna A/90
A10: 1100 – 1145
A11: 1200 – 1245 | B11: GK112N Általános és gazdasági jog dr. Paska Mihály A/93 | N11: GK116N Pszichológia 2. csoport Szűcsné Tóth Zsuzsanna A/90
A12: 1300 – 1345
A13: 1400 – 1445 | B13: 14:30-tól GK106N Gazdasági szaknyelv 1. német Debela-Hegyi Éva C/59 | F13: GK110N Testnevelés és sport 1. Koch Tamás
A14: 1500 – 1545 | J14: GK113N Gazdaságmatematika 1. Taskovits Péter B EM035 | N14: GK114N Informatika 1. 1. csoport Taskovics Péter A/10
A15: 1600 – 1645 | B15: GK113N Gazdaságmatematika 1. Taskovits Péter B EM035 | F15: GK106N Gazdasági szaknyelv 1. angol Bencze Balázs C/49
A16: 1700 – 1745 | N16: GK114N Informatika 1. 2. csoport Taskovics Péter A/10
A17: 1800 – 1845

Sheet GMN2
A1: EÖTVÖS JÓZSEF FŐISKOLA | F1: ÓRAREND | S1: 2026. augusztus
A2: GAZDÁLKODÁSI ÉS MENEDZSMENT ALAPSZAK | F2: 2026/2027. TANÉV 1. FÉLÉV
F3: II. ÉVFOLYAM, NAPPALI TAGOZAT
B5: HÉTFŐ | F5: KEDD | J5: SZERDA | N5: CSÜTÖRTÖK | R5: PÉNTEK
A7: 800 – 845 | F7: GK306N Beszámoló készítés és elemzés 2. csoport dr. Pajrok Andor A/90 | J7: 8.15-től GV304N Írás és prezentáció 1 csoport Szűcsné Tóth Zsuzsanna A/10 | N7: GK302N Marketing alapismeretek - elmélet dr. Keresnyei Krisztina A/94
A8: 900 – 945 | B8: GK306N Beszámoló készítés és elemzés 1. csoport dr. Pajrok Andor A/90
A9: 1000 – 1045 | J9: GV304N Írás és prezentáció 2. csoport Szűcsné Tóth Zsuzsanna A/10 | N9: GK309N Menedzsment - elmélet dr. Keresnyei Krisztina A/94
A10: 1100 – 1145
A11: 1200 – 1245 | F11: GK301N Környezetgazdaságtan dr. Póla Péter A/93 | J11: GK304N Vállalatgazdaságtan Lovretity Zoltán A/93 | N11: GK309N Menedzsment gyakorlat 1. csoport dr. Keresnyei Krisztina A/94
A12: 1300 – 1345 | B12: GK308N Statisztika 2. 1. csoport Kovács Szilárd A/10
A13: 1400 – 1445 | F13: GK303N Pénzügytan dr. Simon József - Csóti Kovács Anikó A/93 | N13: GK302N Marketing alapismeretek gyakorlat 1. csoport dr. Keresnyei Krisztina A/94
A14: 1500 – 1545 | J14: GV303N Üzemlátogatás Szűcsné Tóth Zsuzsanna A/93
A15: 1600 – 1645 | B15: GK308N Statisztika 2. 2. csoport Kovács Szilárd A/10 | N15: GK309N Menedzsment gyakorlat 2. csoport dr. Keresnyei Krisztina A/94
A16: 1700 – 1745
A17: 1800 – 1845 | N17: GK302N Marketing alapismeretek gyakorlat 2. csoport dr. Keresnyei Krisztina A/94

Sheet GMN3
A1: EÖTVÖS JÓZSEF FŐISKOLA | F1: ÓRAREND | S1: 2026. augusztus
A2: GAZDÁLKODÁSI ÉS MENEDZSMENT ALAPSZAK | F2: 2026/2027. TANÉV 1. FÉLÉV
F3: III. ÉVFOLYAM, NAPPALI TAGOZAT
B5: HÉTFŐ | F5: KEDD | J5: SZERDA | N5: CSÜTÖRTÖK | R5: PÉNTEK
A7: 800 – 845
A8: 900 – 945 | R8: GK503N Közigazgatástan Kelemen Adrienn tömbösítve
A9: 1000 – 1045 | B9: GK508N Termelésmenedzsment Weber Erika - Kovács Szilárd A/93 | F9: GK502N Helyi gazdaságfejelsztés dr. Póla Péter A/93
A10: 1100 – 1145
A11: 1200 – 1245 | R11: GK504N Államháztartástan dr. Simon József tömbösÍtve
A12: 1300 – 1345 | B12: GK501N Kontrolling dr. Pajrok Andor A/90
A13: 1400 – 1445 | F13: GK514N Gazdaságpolitika dr. Póla Péter A/90 | J13: GK507N Minőségmenedzsment Lovretity Zoltán A/90 | N13: GK506N Kis- és középvállalkozások menedzselése Lovretity Zoltán A/90
A14: 1500 – 1545
A15: 1600 – 1645
A16: 1700 – 1745
A17: 1800 – 1845

Sheet G5AUT

Sheet G5GY

Sheet G67

Sheet I1

Sheet I2

Sheet I3

Sheet I3R

Sheet I4

Sheet I5
D4: 2007/2008 őszi félév | E4: Műszaki informatikai szak 5. félév | H4: A konzultációk helyszíne: az ettől eltérőek külön említve
D5: 1. konzultáció 2007. szept. 8. | E5: 2. konzultáció 2007. szept. 15. | F5: 3. konzultáció 2007. szept. 22. | G5: 4. konzultáció 2007. szept. 29. | H5: 5. konzultáció 2007. okt. 6. | I5: 6. konzultáció 2007. okt. 13. | J5: 7. konzultáció 2007. okt. 20. | L5: Tárgy-kód | M5: Tárgynév | N5: Kredit | O5: Köv | P5: Félévi óraszám | Q5: Választ-hatóság | R5: Tantárgyfelelős | S5: beosztás | T5: Létszám (előzetes) | U5: =SUM(P6:P15) -> 56 | V5: =SUM(V7:V18) -> 0
B6: 1 | C6: 7.45-8.30 | L6: MAI1A2L | M6: Intelligens rendszerek II. | N6: 4 | O6: f | P6: 16 | Q6: K | R6: Coulibaly Sékou Tidiani | S6: főiskolai docens | T6: 36
B7: 2 | C7: 8.40-9.25 | L7: MEK6A2L | M7: Irányítástechnika II. | N7: 2 | O7: v | P7: 8 | Q7: K | R7: Somkutas Lajos | S7: főiskolai adjunktus | T7: 24
B8: 3 | C8: 9.35-10.20 | L8: MIN1L2L | M8: Az informatikai biztonság alapjai | N8: 5 | O8: v | P8: 16 | Q8: K | R8: Németh Rózsa | S8: főiskolai adjunktus | T8: 38
B9: 4 | C9: 10.30-11.15 | L9: MIN1O2L | M9: Szoftvertechnológia | N9: 2 | O9: v | P9: 8 | Q9: K | R9: Szabolcsi Judit | S9: főiskolai adjunktus | T9: 36
B10: 5 | C10: 11.25-12.10 | L10: MIN1P1L | M10: Hálózatok II. | N10: 2 | O10: v | P10: 8 | Q10: K | R10: Vértesi László | S10: főiskolai adjunktus | T10: 35
B11: 6 | C11: 12.20-13.05 | L11: MMM4A1L | M11: Médiatechnika alapjai | N11: 2 | O11: v | Q11: SZ | R11: Tóth Lajos | S11: oktatástechnikai mérnök | T11: 37 | U11: MEN
B12: 7 | C12: 13.15-14.00
B13: 8 | C13: 14.10-14.55
B14: 9 | C14: 15.05-15.50 | L14: MAI1A1L | M14: Alakzatfelismerés | N14: 4 | O14: v | Q14: K | R14: MAI1A2L | T14: 6
B15: 10 | C15: 16.00-16.45 | L15: MIN1L1L | M15: Adatvédelem | N15: 4 | O15: v | Q15: SZ | R15: MIN1L2L | T15: 1
B16: 11 | C16: 16.55-17.40
B17: 12 | C17: 17.50-18.35
D18: 8. konzultáció 2007. okt. 27. | E18: 9. konzultáció 2007. nov. 10. | F18: 10. konzultáció 2007. nov. 17. | G18: 11. konzultáció 2007. nov. 24. | H18: 12. konzultáció 2007. dec. 1. | I18: 13. konzultáció 2007. dec. 8. | J18: Pótlás, elővizsga 2007. dec. 15.
B19: 1 | C19: 7.45-8.30
B20: 2 | C20: 8.40-9.25
B21: 3 | C21: 9.35-10.20
B22: 4 | C22: 10.30-11.15
B23: 5 | C23: 11.25-12.10
B24: 6 | C24: 12.20-13.05
B25: 7 | C25: 13.15-14.00
B26: 8 | C26: 14.10-14.55
B27: 9 | C27: 15.05-15.50
B28: 10 | C28: 16.00-16.45
B29: 11 | C29: 16.55-17.40
B30: 12 | C30: 17.50-18.35
B32: Kecskemét, 2007. szeptember 8. | J32: Összeállította, készítette: Keresztszeghy István oktatásszervező
B35: Érvényes: 2007. december 15-ig. | J35: Jóváhagyta: dr. Bagány Mihály oktatási dékánhelyettes
D39: 1. konzultáció 2007. szept. 8. | E39: 2. konzultáció 2007. szept. 15. | F39: 3. konzultáció 2007. szept. 22. | G39: 4. konzultáció 2007. szept. 29. | H39: 5. konzultáció 2007. okt. 6. | I39: 6. konzultáció 2007. okt. 13. | J39: 7. konzultáció 2007. okt. 20.
B40: 1 | C40: 7.45-8.30
B41: 2 | C41: 8.40-9.25
B42: 3 | C42: 9.35-10.20
B43: 4 | C43: 10.30-11.15
B44: 5 | C44: 11.25-12.10
B45: 6 | C45: 12.20-13.05
B46: 7 | C46: 13.15-14.00
B47: 8 | C47: 14.10-14.55
B48: 9 | C48: 15.05-15.50
B49: 10 | C49: 16.00-16.45
B50: 11 | C50: 16.55-17.40
B51: 12 | C51: 17.50-18.35
D52: 8. konzultáció 2007. okt. 27. | E52: 9. konzultáció 2007. nov. 10. | F52: 10. konzultáció 2007. nov. 17. | G52: 11. konzultáció 2007. nov. 24. | H52: 12. konzultáció 2007. dec. 1. | I52: 13. konzultáció 2007. dec. 8. | J52: Pótlás, elővizsga 2007. dec. 15.
B53: 1 | C53: 7.45-8.30
B54: 2 | C54: 8.40-9.25
B55: 3 | C55: 9.35-10.20
B56: 4 | C56: 10.30-11.15
B57: 5 | C57: 11.25-12.10
B58: 6 | C58: 12.20-13.05
B59: 7 | C59: 13.15-14.00
B60: 8 | C60: 14.10-14.55
B61: 9 | C61: 15.05-15.50
B62: 10 | C62: 16.00-16.45
B63: 11 | C63: 16.55-17.40
B64: 12 | C64: 17.50-18.35

Sheet I5G

Sheet I5H

Sheet I67

Sheet ISZ

Sheet M1

Sheet M2

Sheet M3

Sheet M34

Sheet M4

Sheet M5

Sheet M67
