Workbook

Sheet Olvasd_el
C3: Tisztelt Hallgatóink!
C4: A mellékelt lapokon találják a következő félév órarendjének tervezetét. (2007. DECEMBER 27.)
C5: Kérem, hogy javaslataikkal keressenek e-mail-ben a kovacs.beatrix@ejf.hu címen.

Sheet Munka2
B1: Megnevezés | C1: Kurzuskód | F1: Kredit | G1: Kurzus címe | H1: Összes jelentkező
A2: 1 | B2: AI | C2: MAI3A7ML-T | D2: =SUBSTITUTE(C2,"L-T","L") -> MAI3A7ML | E2: =SUBSTITUTE(D2,"L/V","L") -> MAI3A7ML | F2: 2 | G2: Szupravezetők alkalmazása | H2: 1
A3: 2 | B3: AI | C3: MAI3B5GL-T | D3: =SUBSTITUTE(C3,"L-T","L") -> MAI3B5GL | E3: =SUBSTITUTE(D3,"L/V","L") -> MAI3B5GL | F3: 2 | G3: Szupravezetők alkalmazása | H3: 17
A4: 3 | B4: AI | C4: MAI3B7IL-T | D4: =SUBSTITUTE(C4,"L-T","L") -> MAI3B7IL | E4: =SUBSTITUTE(D4,"L/V","L") -> MAI3B7IL | F4: 2 | G4: Szupravezetők alkalmazása | H4: 17
A5: 4 | B5: AI | C5: MAI9Z1L-T | D5: =SUBSTITUTE(C5,"L-T","L") -> MAI9Z1L | E5: =SUBSTITUTE(D5,"L/V","L") -> MAI9Z1L | F5: 2 | G5: Szupravezetők alkalmazása | H5: 21
A6: 5 | B6: AI | C6: MAI0K1L-T | D6: =SUBSTITUTE(C6,"L-T","L") -> MAI0K1L | E6: =SUBSTITUTE(D6,"L/V","L") -> MAI0K1L | F6: 4 | G6: Pneumatikus irányítástechnika | H6: 3
A7: 6 | B7: AI | C7: MAI4A5GL-T | D7: =SUBSTITUTE(C7,"L-T","L") -> MAI4A5GL | E7: =SUBSTITUTE(D7,"L/V","L") -> MAI4A5GL | F7: 5 | G7: Irányitástechnika II. | H7: 8
A8: 7 | B8: AI | C8: MAI0B1L-T | D8: =SUBSTITUTE(C8,"L-T","L") -> MAI0B1L | E8: =SUBSTITUTE(D8,"L/V","L") -> MAI0B1L | F8: 4 | G8: Hidraulikus irányítástechnika | H8: 14
A9: 8 | B9: AI | C9: MAI5A5GL-T | D9: =SUBSTITUTE(C9,"L-T","L") -> MAI5A5GL | E9: =SUBSTITUTE(D9,"L/V","L") -> MAI5A5GL | F9: 5 | G9: Irányitástechnika III. | H9: 43
A10: 9 | B10: AI | C10: MAI2A5GL-T | D10: =SUBSTITUTE(C10,"L-T","L") -> MAI2A5GL | E10: =SUBSTITUTE(D10,"L/V","L") -> MAI2A5GL | F10: 2 | G10: Informatika II. | H10: 1
A11: 10 | B11: AI | C11: MAI0D1L-T | D11: =SUBSTITUTE(C11,"L-T","L") -> MAI0D1L | E11: =SUBSTITUTE(D11,"L/V","L") -> MAI0D1L | F11: 4 | G11: Ipari folyamatok méréstechnikája | H11: 1
A12: 11 | B12: AI | C12: MAI0D2L-T | D12: =SUBSTITUTE(C12,"L-T","L") -> MAI0D2L | E12: =SUBSTITUTE(D12,"L/V","L") -> MAI0D2L | F12: 4 | G12: Ipari folyamatok méréstechnikája | H12: 4
A13: 12 | B13: AI | C13: MAI0G1L-T | D13: =SUBSTITUTE(C13,"L-T","L") -> MAI0G1L | E13: =SUBSTITUTE(D13,"L/V","L") -> MAI0G1L | F13: 4 | G13: Mechatronika A I. | H13: 1
... A265: 264 | B265: MA | C265: MMA3B1L-T/V | D265: =SUBSTITUTE(C265,"L-T","L") -> MMA3B1L/V | E265: =SUBSTITUTE(D265,"L/V","L") -> MMA3B1L | F265: 4 | G265: Műanyagipari technológiák | H265: 2

Sheet félév-tárgy-g
C2: létszám | D2: kreditálás | E2: lap | F2: tanterv-szakir | G2: félév | H2: Tárgy-kód | I2: Tárgynév | J2: Kredit | K2: Köv | L2: Félévi óraszám | M2: Választ-hatóság | N2: Tantárgyfelelős | O2: beosztás | P2: Létszám (előzetes)
C3: =VLOOKUP($H3,Munka2!$E$2:$H$265,4,FALSE) -> 21 | D3: MGT1A5GL | F3: G-BSc-2007 | G3: 1 | H3: MGT1A5GL | I3: Mechanika I. | J3: 3 | K3: f | L3: 12 | M3: K | N3: Dr. Tuskó László | O3: főiskolai tanár | P3: 21 | S3: 21 | T3: =IF(ISERROR(S3),"",S3) -> 21
C4: =VLOOKUP($H4,Munka2!$E$2:$H$265,4,FALSE) -> 1 | D4: MGT1A5GL | F4: G-04 | G4: 1 | H4: MGT1A1L | I4: Műszaki mechanika I. | J4: 4 | K4: f | L4: 12 | M4: K | N4: Dr. Tuskó László | O4: főiskolai tanár | P4: 1 | S4: 1 | T4: =IF(ISERROR(S4),"",S4) -> 1
C5: =VLOOKUP($H5,Munka2!$E$2:$H$265,4,FALSE) -> #N/A | D5: MGT1B5GL | F5: G-BSc-2007 | G5: 1 | H5: MGT1B5GL | I5: Műszaki ábrázolás | J5: 3 | K5: f | L5: 12 | M5: K | N5: Kéri Ferenc | O5: főiskolai adjunktus | S5: #N/A | T5: =IF(ISERROR(S5),"",S5)
C6: =VLOOKUP($H6,Munka2!$E$2:$H$265,4,FALSE) -> #N/A | D6: MGT1B5GL | F6: G-04 | G6: 1 | H6: MGT2P1L | I6: Műszaki ábrázolás | J6: 4 | K6: f | L6: 12 | M6: K | N6: Kéri Ferenc | O6: főiskolai adjunktus | S6: #N/A | T6: =IF(ISERROR(S6),"",S6)
C7: =VLOOKUP($H7,Munka2!$E$2:$H$265,4,FALSE) -> #N/A | D7: MMF1A6GL | F7: G-BSc-2007 | G7: 1 | H7: MMF1A6GL | I7: Analízis I. | J7: 5 | K7: f | L7: 16 | M7: K | N7: Hajdú Edit | O7: főiskolai adjunktus | S7: #N/A | T7: =IF(ISERROR(S7),"",S7)
D8: MMF1A6GL | F8: G-BSc-2005 | G8: 1 | H8: MMF1A5GL | I8: Matematika I. | J8: 5 | K8: f | L8: 16 | M8: K | N8: Hajdú Edit | O8: főiskolai adjunktus | T8: =IF(ISERROR(S8),"",S8) -> 0
C9: =VLOOKUP($H9,Munka2!$E$2:$H$265,4,FALSE) -> 3 | D9: MMF1A6GL | F9: G-04 | G9: 1 | H9: MMF1A2L | I9: Analízis I. | J9: 5 | K9: f | L9: 16 | M9: K | N9: Hajdú Edit | O9: főiskolai adjunktus | P9: 3 | S9: 3 | T9: =IF(ISERROR(S9),"",S9) -> 3
C10: =VLOOKUP($H10,Munka2!$E$2:$H$265,4,FALSE) -> #N/A | D10: MMF1A6GL | F10: G-01 | G10: 1 | H10: MMF1A1L | I10: Matematika A I. | J10: 4 | K10: f | L10: 16 | M10: K | N10: Hajdú Edit | O10: főiskolai adjunktus | S10: #N/A | T10: =IF(ISERROR(S10),"",S10)
C11: =VLOOKUP($H11,Munka2!$E$2:$H$265,4,FALSE) -> 24 | D11: MMT1A5GL | F11: G-BSc-2007 | G11: 1 | H11: MMT1A5GL | I11: Anyagismeret A I. | J11: 5 | K11: f | L11: 16 | M11: K | N11: Dr. Bernáth Mihály | O11: főiskolai docens | P11: 24 | S11: 24 | T11: =IF(ISERROR(S11),"",S11) -> 24
C12: =VLOOKUP($H12,Munka2!$E$2:$H$265,4,FALSE) -> 2 | D12: MMT1A5GL | F12: G-04 | G12: 1 | H12: MMT1A1L | I12: Anyagismeret A I. | J12: 5 | K12: f | L12: 16 | M12: K | N12: Dr. Bernáth Mihály | O12: főiskolai docens | P12: 2 | S12: 2 | T12: =IF(ISERROR(S12),"",S12) -> 2
C13: =VLOOKUP($H13,Munka2!$E$2:$H$265,4,FALSE) -> #N/A | D13: MAI1A6GL | F13: G-BSc-2007 | G13: 1 | H13: MAI1A6GL | I13: Informatika | J13: 5 | K13: v | L13: 16 | M13: K | N13: Kósa János | O13: főiskolai adjunktus | S13: #N/A | T13: =IF(ISERROR(S13),"",S13)
D14: MAI1A6GL | F14: G-BSc-2005 | G14: 1 | H14: MAI1A5GL | I14: Informatika I. | J14: 3 | K14: v | L14: 8 | M14: K | N14: Kósa János | O14: főiskolai adjunktus | T14: =IF(ISERROR(S14),"",S14) -> 0
D15: MAI1A6GL | F15: G-04 | G15: 1 | H15: MAI0C1L | I15: Informatikai alapismeretek A | J15: 2 | K15: v | L15: 8 | M15: K | N15: Kósa János | O15: főiskolai adjunktus | T15: =IF(ISERROR(S15),"",S15) -> 0
C16: =VLOOKUP($H16,Munka2!$E$2:$H$265,4,FALSE) -> #N/A | D16: MAI1A6GL | F16: G-04 | G16: 2 | H16: MAI0L1L | I16: Számítástechnika A | J16: 2 | K16: f | L16: 8 | M16: K | N16: Kósa János | O16: főiskolai adjunktus | S16: #N/A | T16: =IF(ISERROR(S16),"",S16)
C17: =VLOOKUP($H17,Munka2!$E$2:$H$265,4,FALSE) -> 1 | D17: MGI3A6GL | F17: G-BSc-2005 | G17: 1 | H17: MGI1A5GL | I17: Közgazdaságtan | J17: 2 | K17: v | L17: 8 | M17: K | N17: Károlyné Dóra Margit | O17: főiskolai adjunktus | P17: 1 | S17: 1 | T17: =IF(ISERROR(S17),"",S17) -> 1
C18: =VLOOKUP($H18,Munka2!$E$2:$H$265,4,FALSE) -> #N/A | D18: MGY1A6GL | F18: G-BSc-2007 | G18: 1 | H18: MGY1A6GL | I18: Munkavédelem, biztonságtechnika | J18: 3 | K18: v | L18: 8 | M18: K | N18: Dr. Jakab Sándor | O18: főiskolai docens | S18: #N/A | T18: =IF(ISERROR(S18),"",S18)
D19: MGY1A6GL | F19: G-BSc-2005 | G19: 1 | H19: MGY1A5GL | I19: Munkavédelem, biztonságtechnika | J19: 2 | K19: v | L19: 8 | M19: K | N19: Dr. Jakab Sándor | O19: főiskolai docens | T19: =IF(ISERROR(S19),"",S19) -> 0
C20: =VLOOKUP($H20,Munka2!$E$2:$H$265,4,FALSE) -> 6 | D20: MGY1A6GL | F20: G-04 | G20: 1 | H20: MGY1J1L | I20: Munkavédelem, biztonságtechnika | J20: 2 | K20: v | L20: 8 | M20: K | N20: Dr. Jakab Sándor | O20: főiskolai docens | P20: 6 | S20: 6 | T20: =IF(ISERROR(S20),"",S20) -> 6
C21: =VLOOKUP($H21,Munka2!$E$2:$H$265,4,FALSE) -> 1 | D21: MMA1A5GL | F21: G-BSc-2007 | G21: 1 | H21: MMA1A5GL | I21: Kémia A | J21: 3 | K21: v | L21: 8 | M21: K | N21: Ádámné Major Andrea | O21: főiskolai tanársegéd | P21: 1 | S21: 1 | T21: =IF(ISERROR(S21),"",S21) -> 1
C22: =VLOOKUP($H22,Munka2!$E$2:$H$265,4,FALSE) -> #N/A | D22: MMA1A5GL | F22: G-04 | G22: 1 | H22: MMA1A1L | I22: Kémia | J22: 2 | K22: v | L22: 8 | M22: K | N22: Ádámné Major Andrea | O22: főiskolai tanársegéd | S22: #N/A | T22: =IF(ISERROR(S22),"",S22)
C23: =VLOOKUP($H23,Munka2!$E$2:$H$265,4,FALSE) -> 2 | D23: MMF1B5GL | F23: G-BSc-2007 | G23: 1 | H23: MMF1B5GL | I23: Fizika I. | J23: 5 | K23: v | L23: 16 | M23: K | N23: Nagy Péter | O23: főiskolai docens | P23: 2 | S23: 2 | T23: =IF(ISERROR(S23),"",S23) -> 2
C24: =VLOOKUP($H24,Munka2!$E$2:$H$265,4,FALSE) -> 1 | D24: MMF1B5GL | F24: G-04 | G24: 1 | H24: MMF2A2L | I24: Fizika I. | J24: 5 | K24: v | L24: 16 | M24: K | N24: Nagy Péter | O24: főiskolai docens | P24: 1 | S24: 1 | T24: =IF(ISERROR(S24),"",S24) -> 1
C25: =VLOOKUP($H25,Munka2!$E$2:$H$265,4,FALSE) -> 3 | D25: MMF1B5GL | F25: G-01 | G25: 1 | H25: MMF2A1L | I25: Fizika | J25: 4 | K25: v | L25: 16 | M25: K | N25: Nagy Péter | O25: főiskolai docens | P25: 3 | S25: 3 | T25: =IF(ISERROR(S25),"",S25) -> 3
C26: =VLOOKUP($H26,Munka2!$E$2:$H$265,4,FALSE) -> #N/A | D26: MMF1C7GL | F26: G-BSc-2007 | G26: 1 | H26: MMF1C7GL | I26: Matematikai alapismeretek | J26: 3 | K26: f | L26: 8 | M26: SZ | N26: Dr. Csenki Róbert | O26: főiskolai docens | S26: #N/A | T26: =IF(ISERROR(S26),"",S26)
C27: =VLOOKUP($H27,Munka2!$E$2:$H$265,4,FALSE) -> 5 | D27: MMF1C7GL | F27: G-BSc-2006 | G27: 1 | H27: MMF1C6GL | I27: Matematikai alapismeretek | J27: 2 | K27: f | L27: 8 | M27: SZ | N27: Dr. Csenki Róbert | O27: főiskolai docens | P27: 5 | S27: 5 | T27: =IF(ISERROR(S27),"",S27) -> 5
C28: =VLOOKUP($H28,Munka2!$E$2:$H$265,4,FALSE) -> #N/A | D28: MMF1C7GL | F28: G-04 | G28: 1 | H28: MMF1D2L | I28: Matematikai alapismeretek | J28: 2 | K28: f | L28: 8 | M28: SZ | N28: Dr. Csenki Róbert | O28: főiskolai docens | S28: #N/A | T28: =IF(ISERROR(S28),"",S28)
C29: =VLOOKUP($H29,Munka2!$E$2:$H$265,4,FALSE) -> #N/A | D29: MMF1C7GL | F29: G-01 | G29: 1 | H29: MMF1D1L | I29: Matematikai alapismeretek | J29: 2 | K29: v | L29: 8 | M29: SZ | N29: Dr. Csenki Róbert | O29: főiskolai docens | S29: #N/A | T29: =IF(ISERROR(S29),"",S29)
C30: =VLOOKUP($H30,Munka2!$E$2:$H$265,4,FALSE) -> #N/A | D30: MMF1D7GL | F30: G-BSc-2007 | G30: 1 | H30: MMF1D7GL | I30: Fizikai alapismeretek | J30: 3 | K30: f | L30: 8 | M30: SZ | N30: Jusztin Zsuzsanna | O30: műszaki tanár | S30: #N/A | T30: =IF(ISERROR(S30),"",S30)
C31: =VLOOKUP($H31,Munka2!$E$2:$H$265,4,FALSE) -> 4 | D31: MMF1D7GL | F31: G-BSc-2006 | G31: 1 | H31: MMF1D6GL | I31: Fizikai alapismeretek | J31: 2 | K31: f | L31: 8 | M31: SZ | N31: Jusztin Zsuzsanna | O31: műszaki tanár | P31: 4 | S31: 4 | T31: =IF(ISERROR(S31),"",S31) -> 4
C32: =VLOOKUP($H32,Munka2!$E$2:$H$265,4,FALSE) -> #N/A | D32: MMF1D7GL | F32: G-04 | G32: 1 | H32: MMF2C2L | I32: Fizikai alapismeretek | J32: 2 | K32: f | L32: 8 | M32: SZ | N32: Jusztin Zsuzsanna | O32: műszaki tanár | S32: #N/A | T32: =IF(ISERROR(S32),"",S32)
C33: =VLOOKUP($H33,Munka2!$E$2:$H$265,4,FALSE) -> #N/A | D33: MMF1D7GL | F33: G-01 | G33: 1 | H33: MMF2C1L | I33: Fizika alapjai | J33: 2 | K33: v | L33: 8 | M33: SZ | N33: Jusztin Zsuzsanna | O33: műszaki tanár | S33: #N/A | T33: =IF(ISERROR(S33),"",S33)
C34: =VLOOKUP($H34,Munka2!$E$2:$H$265,4,FALSE) -> 1 | D34: MAI1A6GL | F34: G-BSc-2005 | G34: 2 | H34: MAI2A5GL | I34: Informatika II. | J34: 2 | K34: f | L34: 8 | M34: K | N34: Kósa János | O34: főiskolai adjunktus | P34: 1 | S34: 1 | T34: =IF(ISERROR(S34),"",S34) -> 1
C35: =VLOOKUP($H35,Munka2!$E$2:$H$265,4,FALSE) -> 21 | D35: MMF2B6GL | F35: G-BSc-2007 | G35: 2 | H35: MMF2B6GL | I35: Analízis II. | J35: 5 | K35: f | L35: 16 | M35: K | N35: Keresztszeghy István | O35: oktatásszervező | P35: 21 | S35: 21 | T35: =IF(ISERROR(S35),"",S35) -> 21
C36: =VLOOKUP($H36,Munka2!$E$2:$H$265,4,FALSE) -> 10 | D36: MMF2B6GL | F36: G-BSc-2005 | G36: 2 | H36: MMF2B5GL | I36: Matematika II. | J36: 5 | K36: f | L36: 16 | M36: K | N36: Keresztszeghy István | O36: oktatásszervező | P36: 10 | S36: 10 | T36: =IF(ISERROR(S36),"",S36) -> 10
C37: =VLOOKUP($H37,Munka2!$E$2:$H$265,4,FALSE) -> 6 | D37: MMF2B6GL | F37: G-04 | G37: 2 | H37: MMF1B2L | I37: Analízis II. | J37: 5 | K37: f | L37: 16 | M37: K | N37: Keresztszeghy István | O37: oktatásszervező | P37: 6 | S37: 6 | T37: =IF(ISERROR(S37),"",S37) -> 6
C38: =VLOOKUP($H38,Munka2!$E$2:$H$265,4,FALSE) -> 2 | D38: MMF2B6GL | F38: G-01 | G38: 2 | H38: MMF1B1L | I38: Matematika A II. | J38: 4 | K38: f | L38: 16 | M38: K | N38: Keresztszeghy István | O38: oktatásszervező | P38: 2 | S38: 2 | T38: =IF(ISERROR(S38),"",S38) -> 2
C39: =VLOOKUP($H39,Munka2!$E$2:$H$265,4,FALSE) -> 4 | D39: MMF1C1L | F39: G-04 | G39: 2 | H39: MMF1C1L | I39: Matematika szigorlat A | J39: 0 | K39: s | M39: K | N39: Keresztszeghy István | O39: oktatásszervező | P39: 4 | S39: 4 | T39: =IF(ISERROR(S39),"",S39) -> 4
C40: =VLOOKUP($H40,Munka2!$E$2:$H$265,4,FALSE) -> 15 | D40: MGT2A6GL | F40: G-BSc-2007 | G40: 2 | H40: MGT2A6GL | I40: Általános géptan | J40: 4 | K40: v | L40: 12 | M40: K | N40: Dr. Tuskó László | O40: főiskolai tanár | P40: 15 | S40: 15 | T40: =IF(ISERROR(S40),"",S40) -> 15
C41: =VLOOKUP($H41,Munka2!$E$2:$H$265,4,FALSE) -> 4 | D41: MGT2A6GL | F41: G-BSc-2005 | G41: 2 | H41: MGT2A5GL | I41: Általános géptan | J41: 4 | K41: v | L41: 16 | M41: K | N41: Dr. Tuskó László | O41: főiskolai tanár | P41: 4 | S41: 4 | T41: =IF(ISERROR(S41),"",S41) -> 4
...

Sheet félév-tárgy-i
C2: létszám | D2: kreditálás | E2: lap | F2: tanterv-szakir | G2: félév | H2: Tárgy-kód | I2: Tárgynév | J2: Kredit | K2: Köv | L2: Félévi óraszám | M2: Választ-hatóság | N2: Tantárgyfelelős | O2: beosztás | P2: Létszám (előzetes)
A3: 1 | C3: =VLOOKUP($H3,Munka2!$E$2:$H$265,4,FALSE) -> 3 | D3: MGI1A6IL | F3: I-BSc-2007 | G3: 1 | H3: MGI1A6IL | I3: Közgazdaságtan | J3: 4 | K3: v | L3: 12 | M3: K | N3: Károlyné Dóra Margit | O3: főiskolai adjunktus | P3: 3 | S3: =VLOOKUP($H3,Munka2!$E$2:$H$265,4,FALSE) -> 3 | T3: =IF(ISERROR(S3),"",S3) -> 3
A4: 28 | C4: =VLOOKUP($H4,Munka2!$E$2:$H$265,4,FALSE) -> 5 | D4: MGI1A6IL | F4: I-04 | G4: 1 | H4: MGZ3C1L | I4: Közgazdaságtan D I. | J4: 3 | K4: f | L4: 8 | M4: K | N4: Károlyné Dóra Margit | O4: főiskolai adjunktus | P4: 5 | S4: =VLOOKUP($H4,Munka2!$E$2:$H$265,4,FALSE) -> 5 | T4: =IF(ISERROR(S4),"",S4) -> 5
A5: 2 | C5: =VLOOKUP($H5,Munka2!$E$2:$H$265,4,FALSE) -> 6 | D5: MEK1A6IL | F5: I-BSc-2007 | G5: 1 | H5: MEK1A6IL | I5: Digitális technika I. | J5: 7 | K5: v | L5: 20 | M5: K | N5: Dr. Madarász László | O5: főiskolai docens | P5: 6 | S5: =VLOOKUP($H5,Munka2!$E$2:$H$265,4,FALSE) -> 6 | T5: =IF(ISERROR(S5),"",S5) -> 6
A6: 37 | C6: =VLOOKUP($H6,Munka2!$E$2:$H$265,4,FALSE) -> 7 | D6: MEK1A6IL | F6: I-04 | G6: 2 | H6: MEK3B2L | I6: Digitális technika I. | J6: 4 | K6: v | L6: 16 | M6: K | N6: Dr. Madarász László | O6: főiskolai docens | P6: 7 | S6: =VLOOKUP($H6,Munka2!$E$2:$H$265,4,FALSE) -> 7 | T6: =IF(ISERROR(S6),"",S6) -> 7
A7: 44 | C7: =VLOOKUP($H7,Munka2!$E$2:$H$265,4,FALSE) -> 6 | D7: MEK1A6IL | F7: I-04 | G7: 3 | H7: MEK3C2L | I7: Digitális technika II. | J7: 3 | K7: f | L7: 8 | M7: K | N7: Dr. Madarász László | O7: főiskolai docens | P7: 6 | S7: =VLOOKUP($H7,Munka2!$E$2:$H$265,4,FALSE) -> 6 | T7: =IF(ISERROR(S7),"",S7) -> 6
A8: 98 | C8: =VLOOKUP($H8,Munka2!$E$2:$H$265,4,FALSE) -> 3 | D8: MEK1A6IL | F8: I-01 | G8: 3 | H8: MEK3B1L | I8: Digitális rendszertechnika A I. | J8: 5 | K8: v | L8: 16 | M8: K | N8: Dr. Madarász László | O8: főiskolai docens | P8: 3 | S8: =VLOOKUP($H8,Munka2!$E$2:$H$265,4,FALSE) -> 3 | T8: =IF(ISERROR(S8),"",S8) -> 3
A9: 3 | C9: =VLOOKUP($H9,Munka2!$E$2:$H$265,4,FALSE) -> 3 | D9: MIN1A6IL | F9: I-BSc-2007 | G9: 1 | H9: MIN1A6IL | I9: Problémaosztályok, algoritmusok | J9: 3 | K9: v | L9: 8 | M9: K | N9: Pásztor Attila | O9: főiskolai adjunktus | P9: 3 | S9: =VLOOKUP($H9,Munka2!$E$2:$H$265,4,FALSE) -> 3 | T9: =IF(ISERROR(S9),"",S9) -> 3
A10: 31 | C10: =VLOOKUP($H10,Munka2!$E$2:$H$265,4,FALSE) -> 1 | D10: MIN1A6IL | F10: I-04 | G10: 1 | H10: MIN1D2L | I10: Problémaosztályok, algoritmusok | J10: 3 | K10: v | L10: 8 | M10: K | N10: Pásztor Attila | O10: főiskolai adjunktus | P10: 1 | S10: =VLOOKUP($H10,Munka2!$E$2:$H$265,4,FALSE) -> 1 | T10: =IF(ISERROR(S10),"",S10) -> 1
A11: 94 | C11: =VLOOKUP($H11,Munka2!$E$2:$H$265,4,FALSE) -> 3 | D11: MIN1A6IL | F11: I-01 | G11: 2 | H11: MIN1D1L | I11: Algoritmusok | J11: 3 | K11: v | L11: 8 | M11: K | N11: Pásztor Attila | O11: főiskolai adjunktus | P11: 3 | S11: =VLOOKUP($H11,Munka2!$E$2:$H$265,4,FALSE) -> 3 | T11: =IF(ISERROR(S11),"",S11) -> 3
A12: 4 | C12: =VLOOKUP($H12,Munka2!$E$2:$H$265,4,FALSE) -> 4 | D12: MMF1A6IL | F12: I-BSc-2007 | G12: 1 | H12: MMF1A6IL | I12: Analízis I. | J12: 5 | K12: f | L12: 16 | M12: K | N12: Keresztszeghy István | O12: oktatásszervező | P12: 4 | S12: =VLOOKUP($H12,Munka2!$E$2:$H$265,4,FALSE) -> 4 | T12: =IF(ISERROR(S12),"",S12) -> 4
A13: 32 | C13: =VLOOKUP($H13,Munka2!$E$2:$H$265,4,FALSE) -> 3 | D13: MMF1A6IL | F13: I-04 | G13: 1 | H13: MMF1A2L | I13: Analízis I. | J13: 5 | K13: f | L13: 16 | M13: K | N13: Keresztszeghy István | O13: oktatásszervező | P13: 3 | S13: =VLOOKUP($H13,Munka2!$E$2:$H$265,4,FALSE) -> 3 | T13: =IF(ISERROR(S13),"",S13) -> 3
A14: 5 | C14: =VLOOKUP($H14,Munka2!$E$2:$H$265,4,FALSE) -> 5 | D14: MMF1B6IL | F14: I-BSc-2007 | G14: 1 | H14: MMF1B6IL | I14: A számítástudomány matematikai alapjai | J14: 7 | K14: f | L14: 24 | M14: K | N14: Bársony István | O14: főiskolai adjunktus | P14: 5 | S14: =VLOOKUP($H14,Munka2!$E$2:$H$265,4,FALSE) -> 5 | T14: =IF(ISERROR(S14),"",S14) -> 5
... A20: 7 | C20: =VLOOKUP($H20,Munka2!$E$2:$H$265,4,FALSE) -> 2 | D20: MIN1B6IL | F20: I-BSc-2007 | G20: 1 | H20: MIN1B6IL | I20: Számítástechnikai alapismeretek | J20: 2 | K20: f | L20: 8 | M20: SZ | N20: Kárpáti Béla | O20: főiskolai docens | P20: 2 | S20: =VLOOKUP($H20,Munka2!$E$2:$H$265,4,FALSE) -> 2 | T20: =IF(ISERROR(S20),"",S20) -> 2
A21: 8 | C21: =VLOOKUP($H21,Munka2!$E$2:$H$265,4,FALSE) -> #N/A | D21: MMF1D7IL | F21: I-BSc-2007 | G21: 1 | H21: MMF1D7IL | I21: Matematikai alapismeretek | J21: 3 | K21: f | L21: 8 | M21: SZ | N21: Dr. Csenki Róbert | O21: főiskolai docens | S21: =VLOOKUP($H21,Munka2!$E$2:$H$265,4,FALSE) -> #N/A | T21: =IF(ISERROR(S21),"",S21)
A22: 25 | C22: =VLOOKUP($H22,Munka2!$E$2:$H$265,4,FALSE) -> 2 | D22: MMF1D7IL | F22: I-BSc-2006 | G22: 1 | H22: MMF1D6IL | I22: Matematikai alapismeretek | J22: 2 | K22: f | L22: 8 | M22: SZ | N22: Dr. Csenki Róbert | O22: főiskolai docens | P22: 2 | S22: =VLOOKUP($H22,Munka2!$E$2:$H$265,4,FALSE) -> 2 | T22: =IF(ISERROR(S22),"",S22) -> 2
A23: 9 | C23: =VLOOKUP($H23,Munka2!$E$2:$H$265,4,FALSE) -> #N/A | D23: MMF1E7IL | F23: I-BSc-2007 | G23: 1 | H23: MMF1E7IL | I23: Fizikai alapismeretek | J23: 3 | K23: f | L23: 8 | M23: SZ | N23: Jusztin Zsuzsanna | O23: műszaki tanár | S23: =VLOOKUP($H23,Munka2!$E$2:$H$265,4,FALSE) -> #N/A | T23: =IF(ISERROR(S23),"",S23)
A24: 26 | C24: =VLOOKUP($H24,Munka2!$E$2:$H$265,4,FALSE) -> 2 | D24: MMF1E7IL | F24: I-BSc-2006 | G24: 1 | H24: MMF1E6IL | I24: Fizikai alapismeretek | J24: 2 | K24: f | L24: 8 | M24: SZ | N24: Jusztin Zsuzsanna | O24: műszaki tanár | P24: 2 | S24: =VLOOKUP($H24,Munka2!$E$2:$H$265,4,FALSE) -> 2 | T24: =IF(ISERROR(S24),"",S24) -> 2
A25: 89 | C25: =VLOOKUP($H25,Munka2!$E$2:$H$265,4,FALSE) -> 2 | F25: I-01 | G25: 1 | H25: MGZ5B1L | I25: Gazdasági és társadalmi ismeretek I. | J25: 3 | K25: v | L25: 12 | M25: K | N25: Dr. Tóth József | O25: főiskolai docens | P25: 2 | Q25: EGYÉNI | S25: =VLOOKUP($H25,Munka2!$E$2:$H$265,4,FALSE) -> 2 | T25: =IF(ISERROR(S25),"",S25) -> 2
A26: 29 | C26: =VLOOKUP($H26,Munka2!$E$2:$H$265,4,FALSE) -> 2 | F26: I-04 | G26: 1 | H26: MGZ9M1L | I26: Menedzsment I. | J26: 2 | K26: f | L26: 8 | M26: K | N26: Alter Róbert | O26: főiskolai docens | P26: 2 | Q26: EGYÉNI | S26: =VLOOKUP($H26,Munka2!$E$2:$H$265,4,FALSE) -> 2 | T26: =IF(ISERROR(S26),"",S26) -> 2
A27: 88 | C27: =VLOOKUP($H27,Munka2!$E$2:$H$265,4,FALSE) -> 3 | F27: I-01 | G27: 1 | H27: MGT6A1L | I27: Műszaki alapismeretek | J27: 2 | K27: f | L27: 8 | M27: K | N27: Nyíri László | O27: főiskolai adjunktus | P27: 3 | Q27: EGYÉNI | S27: =VLOOKUP($H27,Munka2!$E$2:$H$265,4,FALSE) -> 3 | T27: =IF(ISERROR(S27),"",S27) -> 3
A28: 10 | C28: =VLOOKUP($H28,Munka2!$E$2:$H$265,4,FALSE) -> 9 | D28: MAI2A6IL | F28: I-BSc-2007 | G28: 2 | H28: MAI2A6IL | I28: Számítógép-architektúrák | J28: 5 | K28: v | L28: 16 | M28: K | N28: Tóth Lajos | O28: oktatástechnikai mérnök | P28: 9 | S28: =VLOOKUP($H28,Munka2!$E$2:$H$265,4,FALSE) -> 9 | T28: =IF(ISERROR(S28),"",S28) -> 9
A29: 27 | C29: =VLOOKUP($H29,Munka2!$E$2:$H$265,4,FALSE) -> 1 | D29: MAI2A6IL | F29: I-04 | G29: 1 | H29: MAI1J2L | I29: Architektúrák I. | J29: 4 | K29: v | L29: 12 | M29: K | N29: Tóth Lajos | O29: oktatástechnikai mérnök | P29: 1 | S29: =VLOOKUP($H29,Munka2!$E$2:$H$265,4,FALSE) -> 1 | T29: =IF(ISERROR(S29),"",S29) -> 1
A30: 86 | C30: =VLOOKUP($H30,Munka2!$E$2:$H$265,4,FALSE) -> 1 | D30: MAI2A6IL | F30: I-01 | G30: 1 | H30: MAI1J1L | I30: Számítógép-architektúrák I. | J30: 4 | K30: v | L30: 12 | M30: K | N30: Tóth Lajos | O30: oktatástechnikai mérnök | P30: 1 | S30: =VLOOKUP($H30,Munka2!$E$2:$H$265,4,FALSE) -> 1 | T30: =IF(ISERROR(S30),"",S30) -> 1
A31: 11 | C31: =VLOOKUP($H31,Munka2!$E$2:$H$265,4,FALSE) -> 13 | D31: MEK2A6IL | F31: I-BSc-2007 | G31: 2 | H31: MEK2A6IL | I31: Digitális technika II. | J31: 5 | K31: f | L31: 16 | M31: K | N31: Dr. Madarász László | O31: főiskolai docens | P31: 13 | S31: =VLOOKUP($H31,Munka2!$E$2:$H$265,4,FALSE) -> 13 | T31: =IF(ISERROR(S31),"",S31) -> 13
A32: 59 | C32: =VLOOKUP($H32,Munka2!$E$2:$H$265,4,FALSE) -> 20 | D32: MEK2A6IL | F32: I-04 | G32: 4 | H32: MEK4A2L | I32: Digitális technika III. | J32: 4 | K32: v | L32: 16 | M32: K | N32: Dr. Madarász László | O32: főiskolai docens | P32: 20 | S32: =VLOOKUP($H32,Munka2!$E$2:$H$265,4,FALSE) -> 20 | T32: =IF(ISERROR(S32),"",S32) -> 20
A33: 119 | C33: =VLOOKUP($H33,Munka2!$E$2:$H$265,4,FALSE) -> 10 | D33: MEK2A6IL | F33: I-01 | G33: 5 | H33: MEK4A1L | I33: Mikroelektronika I. | J33: 5 | K33: v | L33: 16 | M33: K | N33: Dr. Madarász László | O33: főiskolai docens | P33: 10 | S33: =VLOOKUP($H33,Munka2!$E$2:$H$265,4,FALSE) -> 10 | T33: =IF(ISERROR(S33),"",S33) -> 10
A34: 12 | C34: =VLOOKUP($H34,Munka2!$E$2:$H$265,4,FALSE) -> 5 | D34: MGI2A6IL | F34: I-BSc-2007 | G34: 2 | H34: MGI2A6IL | I34: Vállalkozás-gazdaságtan | J34: 4 | K34: v | L34: 12 | M34: K | N34: Dr. Kovács Beatrix | O34: főiskolai docens | P34: 5 | S34: =VLOOKUP($H34,Munka2!$E$2:$H$265,4,FALSE) -> 5 | T34: =IF(ISERROR(S34),"",S34) -> 5
A35: 38 | C35: =VLOOKUP($H35,Munka2!$E$2:$H$265,4,FALSE) -> 5 | D35: MGI2A6IL | F35: I-04 | G35: 2 | H35: MGZ6W1L | I35: Vállalkozás gazdaságtan I. | J35: 2 | K35: v | L35: 8 | M35: K | N35: Dr. Kovács Beatrix | O35: főiskolai docens | P35: 5 | S35: =VLOOKUP($H35,Munka2!$E$2:$H$265,4,FALSE) -> 5 | T35: =IF(ISERROR(S35),"",S35) -> 5
A36: 93 | C36: =VLOOKUP($H36,Munka2!$E$2:$H$265,4,FALSE) -> 12 | D36: MGI2A6IL | F36: I-01 | G36: 2 | H36: MGZ3X1L | I36: Vállalatgazdaságtan | J36: 2 | K36: v | L36: 8 | M36: K | N36: Dr. Kovács Beatrix | O36: főiskolai docens | P36: 12 | S36: =VLOOKUP($H36,Munka2!$E$2:$H$265,4,FALSE) -> 12 | T36: =IF(ISERROR(S36),"",S36) -> 12
A37: 13 | C37: =VLOOKUP($H37,Munka2!$E$2:$H$265,4,FALSE) -> 4 | D37: MIN2A6IL | F37: I-BSc-2007 | G37: 2 | H37: MIN2A6IL | I37: Programozás I. | J37: 5 | K37: f | L37: 16 | M37: K | N37: Pásztor Attila | O37: főiskolai adjunktus | P37: 4 | S37: =VLOOKUP($H37,Munka2!$E$2:$H$265,4,FALSE) -> 4 | T37: =IF(ISERROR(S37),"",S37) -> 4
A38: 30 | C38: =VLOOKUP($H38,Munka2!$E$2:$H$265,4,FALSE) -> #N/A | D38: MIN2A6IL | F38: I-04 | G38: 1 | H38: MIN1A2L | I38: Programozás I. | J38: 4 | K38: f | L38: 16 | M38: K | N38: Pásztor Attila | O38: főiskolai adjunktus | S38: =VLOOKUP($H38,Munka2!$E$2:$H$265,4,FALSE) -> #N/A | T38: =IF(ISERROR(S38),"",S38)
A39: 14 | C39: =VLOOKUP($H39,Munka2!$E$2:$H$265,4,FALSE) -> 3 | D39: MMF2A6IL | F39: I-BSc-2007 | G39: 2 | H39: MMF2A6IL | I39: Analízis II. | J39: 5 | K39: f | L39: 16 | M39: K | N39: Keresztszeghy István | O39: oktatásszervező | P39: 3 | S39: =VLOOKUP($H39,Munka2!$E$2:$H$265,4,FALSE) -> 3 | T39: =IF(ISERROR(S39),"",S39) -> 3
A40: 41 | C40: =VLOOKUP($H40,Munka2!$E$2:$H$265,4,FALSE) -> 6 | D40: MMF2A6IL | F40: I-04 | G40: 2 | H40: MMF1B2L | I40: Analízis II. | J40: 5 | K40: f | L40: 16 | M40: K | N40: Keresztszeghy István | O40: oktatásszervező | P40: 6 | S40: =VLOOKUP($H40,Munka2!$E$2:$H$265,4,FALSE) -> 6 | T40: =IF(ISERROR(S40),"",S40) -> 6
A41: 96 | C41: =VLOOKUP($H41,Munka2!$E$2:$H$265,4,FALSE) -> 2 | D41: MMF2A6IL | F41: I-01 | G41: 2 | H41: MMF1B1L | I41: Matematika A II. | J41: 4 | K41: f | L41: 16 | M41: K | N41: Keresztszeghy István | O41: oktatásszervező | P41: 2 | S41: =VLOOKUP($H41,Munka2!$E$2:$H$265,4,FALSE) -> 2 | T41: =IF(ISERROR(S41),"",S41) -> 2
A42: 15 | C42: =VLOOKUP($H42,Munka2!$E$2:$H$265,4,FALSE) -> 10 | D42: MMF2B6IL | F42: I-BSc-2007 | G42: 2 | H42: MMF2B6IL | I42: Villamosságtan | J42: 5 | K42: v | L42: 16 | M42: K | N42: Jusztin Zsuzsanna | O42: műszaki tanár | P42: 10 | S42: =VLOOKUP($H42,Munka2!$E$2:$H$265,4,FALSE) -> 10 | T42: =IF(ISERROR(S42),"",S42) -> 10
A43: 42 | C43: =VLOOKUP($H43,Munka2!$E$2:$H$265,4,FALSE) -> 5 | D43: MMF2B6IL | F43: I-04 | G43: 2 | H43: MMF2I1L | I43: Villamosságtan | J43: 5 | K43: v | L43: 16 | M43: K | N43: Jusztin Zsuzsanna | O43: műszaki tanár | P43: 5 | S43: =VLOOKUP($H43,Munka2!$E$2:$H$265,4,FALSE) -> 5 | T43: =IF(ISERROR(S43),"",S43) -> 5
A44: 87 | C44: =VLOOKUP($H44,Munka2!$E$2:$H$265,4,FALSE) -> 2 | D44: MMF2B6IL | F44: I-01 | G44: 1 | H44: MEK1A2L | I44: Elektrotechnika A I. | J44: 5 | K44: v | L44: 16 | M44: K | N44: Jusztin Zsuzsanna | O44: műszaki tanár | P44: 2 | S44: =VLOOKUP($H44,Munka2!$E$2:$H$265,4,FALSE) -> 2 | T44: =IF(ISERROR(S44),"",S44) -> 2
A45: 16 | C45: =VLOOKUP($H45,Munka2!$E$2:$H$265,4,FALSE) -> 21 | D45: MAI3A6IL | F45: I-BSc-2007 | G45: 3 | H45: MAI3A6IL | I45: Operációs rendszerek | J45: 5 | K45: f | L45: 16 | M45: K | N45: Coulibaly Sékou Tidiani | O45: főiskolai docens | P45: 21 | S45: =VLOOKUP($H45,Munka2!$E$2:$H$265,4,FALSE) -> 21 | T45: =IF(ISERROR(S45),"",S45) -> 21
A46: 35 | C46: =VLOOKUP($H46,Munka2!$E$2:$H$265,4,FALSE) -> 5 | D46: MAI3A6IL | F46: I-04 | G46: 2 | H46: MAI1I2L | I46: Operációs rendszerek | J46: 4 | K46: v | L46: 12 | M46: K | N46: Coulibaly Sékou Tidiani | O46: főiskolai docens | P46: 5 | S46: =VLOOKUP($H46,Munka2!$E$2:$H$265,4,FALSE) -> 5 | T46: =IF(ISERROR(S46),"",S46) -> 5
...

Sheet félév-tárgy-m
C2: létszám | D2: kreditálás | E2: lap | F2: tanterv-szakir | G2: félév | H2: Tárgy-kód | I2: Tárgynév | J2: Kredit | K2: Köv | L2: Félévi óraszám | M2: Választ-hatóság | N2: Tantárgyfelelős | O2: beosztás | P2: Létszám (előzetes)
B3: 1 | C3: =VLOOKUP($H3,Munka2!$E$2:$H$265,4,FALSE) -> 1 | D3: MAI1A6ML | F3: M-BSc-2007 | G3: 1 | H3: MAI1A6ML | I3: Informatika | J3: 5 | K3: v | L3: 16 | M3: K | N3: Németh Rózsa | O3: főiskolai adjunktus | P3: 1 | S3: =VLOOKUP($H3,Munka2!$E$2:$H$265,4,FALSE) -> 1 | T3: =IF(ISERROR(S3),"",S3) -> 1
B4: 27 | C4: =VLOOKUP($H4,Munka2!$E$2:$H$265,4,FALSE) -> 1 | D4: MAI1A6ML | F4: M-04 | G4: 1 | H4: MIN3A1L | I4: Informatikai alapismeretek B | J4: 2 | K4: v | L4: 8 | M4: K | N4: Németh Rózsa | O4: főiskolai adjunktus | P4: 1 | S4: =VLOOKUP($H4,Munka2!$E$2:$H$265,4,FALSE) -> 1 | T4: =IF(ISERROR(S4),"",S4) -> 1
B5: 2 | C5: =VLOOKUP($H5,Munka2!$E$2:$H$265,4,FALSE) -> 1 | D5: MGI1A6ML | F5: M-BSc-2007 | G5: 1 | H5: MGI1A6ML | I5: Jogi és államigazgatási alapismeretek | J5: 4 | K5: v | L5: 12 | M5: K | N5: Dr. Adorján Mihály | O5: óraadó | P5: 1 | S5: =VLOOKUP($H5,Munka2!$E$2:$H$265,4,FALSE) -> 1 | T5: =IF(ISERROR(S5),"",S5) -> 1
B6: 3 | C6: =VLOOKUP($H6,Munka2!$E$2:$H$265,4,FALSE) -> #N/A | D6: MGI1B6ML | F6: M-BSc-2007 | G6: 1 | H6: MGI1B6ML | I6: Közgazdaságtan I. | J6: 4 | K6: v | L6: 12 | M6: K | N6: Dr. Wolfárt Mária | O6: főiskolai docens | S6: =VLOOKUP($H6,Munka2!$E$2:$H$265,4,FALSE) -> #N/A | T6: =IF(ISERROR(S6),"",S6)
B7: 4 | C7: =VLOOKUP($H7,Munka2!$E$2:$H$265,4,FALSE) -> 2 | D7: MMF1A6ML | F7: M-BSc-2007 | G7: 1 | H7: MMF1A6ML | I7: Analízis I. | J7: 5 | K7: f | L7: 16 | M7: K | N7: Keresztszeghy István | O7: oktatásszervező | P7: 2 | R7: INF | S7: =VLOOKUP($H7,Munka2!$E$2:$H$265,4,FALSE) -> 2 | T7: =IF(ISERROR(S7),"",S7) -> 2
B8: 28 | C8: =VLOOKUP($H8,Munka2!$E$2:$H$265,4,FALSE) -> 3 | D8: MMF1A6ML | F8: M-04 | G8: 1 | H8: MMF1A2L | I8: Analízis I. | J8: 5 | K8: f | L8: 16 | M8: K | N8: Keresztszeghy István | O8: oktatásszervező | P8: 3 | R8: INF | S8: =VLOOKUP($H8,Munka2!$E$2:$H$265,4,FALSE) -> 3 | T8: =IF(ISERROR(S8),"",S8) -> 3
B9: 5 | C9: =VLOOKUP($H9,Munka2!$E$2:$H$265,4,FALSE) -> 7 | D9: MMT1A6ML | F9: M-BSc-2007 | G9: 1 | H9: MMT1A6ML | I9: Anyagismeret B I. | J9: 5 | K9: v | L9: 16 | M9: K | N9: Johanyák Edit | O9: főiskolai adjunktus | P9: 7 | S9: =VLOOKUP($H9,Munka2!$E$2:$H$265,4,FALSE) -> 7 | T9: =IF(ISERROR(S9),"",S9) -> 7
B10: 29 | C10: =VLOOKUP($H10,Munka2!$E$2:$H$265,4,FALSE) -> 13 | D10: MMT1A6ML | F10: M-04 | G10: 1 | H10: MMT2A1L | I10: Anyagismeret B I. | J10: 5 | K10: v | L10: 16 | M10: K | N10: Johanyák Edit | O10: főiskolai adjunktus | P10: 13 | S10: =VLOOKUP($H10,Munka2!$E$2:$H$265,4,FALSE) -> 13 | T10: =IF(ISERROR(S10),"",S10) -> 13
B11: 6 | C11: =VLOOKUP($H11,Munka2!$E$2:$H$265,4,FALSE) -> #N/A | D11: MSZ1A6ML | F11: M-BSc-2007 | G11: 1 | H11: MSZ1A6ML | I11: Biológia | J11: 3 | K11: v | L11: 8 | M11: K | N11: Horváth Zsuzsanna | O11: főiskolai adjunktus | S11: =VLOOKUP($H11,Munka2!$E$2:$H$265,4,FALSE) -> #N/A | T11: =IF(ISERROR(S11),"",S11)
B12: 7 | C12: =VLOOKUP($H12,Munka2!$E$2:$H$265,4,FALSE) -> 2 | D12: MSZ1B6ML | F12: M-BSc-2007 | G12: 1 | H12: MSZ1B6ML | I12: Menedzsment | J12: 4 | K12: v | L12: 12 | M12: K | N12: Dr. Tóth József | O12: főiskolai docens | P12: 2 | S12: =VLOOKUP($H12,Munka2!$E$2:$H$265,4,FALSE) -> 2 | T12: =IF(ISERROR(S12),"",S12) -> 2
B13: 26 | C13: =VLOOKUP($H13,Munka2!$E$2:$H$265,4,FALSE) -> 1 | D13: MSZ1B6ML | F13: M-04 | G13: 1 | H13: MGZ6R2L | I13: Szervezési és vezetési ismeretek I. | J13: 5 | K13: v | L13: 12 | M13: K | N13: Dr. Tóth József | O13: főiskolai docens | P13: 1 | S13: =VLOOKUP($H13,Munka2!$E$2:$H$265,4,FALSE) -> 1 | T13: =IF(ISERROR(S13),"",S13) -> 1
B14: 23 | C14: =VLOOKUP($H14,Munka2!$E$2:$H$265,4,FALSE) -> #N/A | D14: MMF1B6ML | F14: M-BSc-2006 | G14: 1 | H14: MMF1B6ML | I14: Matematikai alapismeretek | J14: 2 | K14: f | L14: 8 | M14: SZ | N14: Dr. Csenki Róbert | O14: főiskolai docens | S14: =VLOOKUP($H14,Munka2!$E$2:$H$265,4,FALSE) -> #N/A | T14: =IF(ISERROR(S14),"",S14)
B15: 8 | C15: =VLOOKUP($H15,Munka2!$E$2:$H$265,4,FALSE) -> #N/A | D15: MMF1B7ML | F15: M-BSc-2007 | G15: 1 | H15: MMF1B7ML | I15: Matematikai alapismeretek | J15: 3 | K15: f | L15: 8 | M15: SZ | N15: Dr. Csenki Róbert | O15: főiskolai docens | S15: =VLOOKUP($H15,Munka2!$E$2:$H$265,4,FALSE) -> #N/A | T15: =IF(ISERROR(S15),"",S15)
B16: 24 | C16: =VLOOKUP($H16,Munka2!$E$2:$H$265,4,FALSE) -> 1 | D16: MMF1C6ML | F16: M-BSc-2006 | G16: 1 | H16: MMF1C6ML | I16: Fizikai alapismeretek | J16: 2 | K16: f | L16: 8 | M16: SZ | N16: Jusztin Zsuzsanna | O16: műszaki tanár | P16: 1 | S16: =VLOOKUP($H16,Munka2!$E$2:$H$265,4,FALSE) -> 1 | T16: =IF(ISERROR(S16),"",S16) -> 1
B17: 9 | C17: =VLOOKUP($H17,Munka2!$E$2:$H$265,4,FALSE) -> #N/A | D17: MMF1C7ML | F17: M-BSc-2007 | G17: 1 | H17: MMF1C7ML | I17: Fizikai alapismeretek | J17: 3 | K17: f | L17: 8 | M17: SZ | N17: Jusztin Zsuzsanna | O17: műszaki tanár | S17: =VLOOKUP($H17,Munka2!$E$2:$H$265,4,FALSE) -> #N/A | T17: =IF(ISERROR(S17),"",S17)
B18: 10 | C18: =VLOOKUP($H18,Munka2!$E$2:$H$265,4,FALSE) -> #N/A | D18: MGI2A6ML | F18: M-BSc-2007 | G18: 2 | H18: MGI2A6ML | I18: Közgazdaságtan II. | J18: 4 | K18: v | L18: 12 | M18: K | N18: Dr. Wolfárt Mária | O18: főiskolai docens | Q18: EGYÉNI | S18: =VLOOKUP($H18,Munka2!$E$2:$H$265,4,FALSE) -> #N/A | T18: =IF(ISERROR(S18),"",S18)
B19: 11 | C19: =VLOOKUP($H19,Munka2!$E$2:$H$265,4,FALSE) -> 6 | D19: MMF2A6ML | F19: M-BSc-2007 | G19: 2 | H19: MMF2A6ML | I19: Analízis II. | J19: 5 | K19: f | L19: 16 | M19: K | N19: Keresztszeghy István | O19: oktatásszervező | P19: 6 | S19: =VLOOKUP($H19,Munka2!$E$2:$H$265,4,FALSE) -> 6 | T19: =IF(ISERROR(S19),"",S19) -> 6
B20: 32 | C20: =VLOOKUP($H20,Munka2!$E$2:$H$265,4,FALSE) -> 6 | D20: MMF2A6ML | F20: M-04 | G20: 2 | H20: MMF1B2L | I20: Analízis II. | J20: 5 | K20: f | L20: 16 | M20: K | N20: Keresztszeghy István | O20: oktatásszervező | P20: 6 | S20: =VLOOKUP($H20,Munka2!$E$2:$H$265,4,FALSE) -> 6 | T20: =IF(ISERROR(S20),"",S20) -> 6
B21: 66 | C21: =VLOOKUP($H21,Munka2!$E$2:$H$265,4,FALSE) -> 2 | D21: MMF2A6ML | F21: M-01 | G21: 2 | H21: MMF1B1L | I21: Matematika A II. | J21: 4 | K21: f | L21: 16 | M21: K | N21: Keresztszeghy István | O21: oktatásszervező | P21: 2 | S21: =VLOOKUP($H21,Munka2!$E$2:$H$265,4,FALSE) -> 2 | T21: =IF(ISERROR(S21),"",S21) -> 2
B22: 12 | C22: =VLOOKUP($H22,Munka2!$E$2:$H$265,4,FALSE) -> #N/A | D22: MMF2B6ML | F22: M-BSc-2007 | G22: 2 | H22: MMF2B6ML | I22: Fizika I. | J22: 5 | K22: v | L22: 16 | M22: K | N22: Nagy Péter | O22: főiskolai docens | S22: =VLOOKUP($H22,Munka2!$E$2:$H$265,4,FALSE) -> #N/A | T22: =IF(ISERROR(S22),"",S22)
B23: 33 | C23: =VLOOKUP($H23,Munka2!$E$2:$H$265,4,FALSE) -> 1 | D23: MMF2B6ML | F23: M-04 | G23: 2 | H23: MMF2A2L | I23: Fizika I. | J23: 5 | K23: v | L23: 16 | M23: K | N23: Nagy Péter | O23: főiskolai docens | P23: 1 | S23: =VLOOKUP($H23,Munka2!$E$2:$H$265,4,FALSE) -> 1 | T23: =IF(ISERROR(S23),"",S23) -> 1
B24: 67 | C24: =VLOOKUP($H24,Munka2!$E$2:$H$265,4,FALSE) -> 3 | D24: MMF2B6ML | F24: M-01 | G24: 2 | H24: MMF2A1L | I24: Fizika | J24: 4 | K24: v | L24: 16 | M24: K | N24: Nagy Péter | O24: főiskolai docens | P24: 3 | T24: =IF(ISERROR(S24),"",S24) -> 0
B25: 30 | C25: =VLOOKUP($H25,Munka2!$E$2:$H$265,4,FALSE) -> 7 | F25: M-04 | G25: 2 | H25: MGZ1H1L | I25: Közgazdaságtan szigorlat | J25: 0 | K25: s | M25: K | N25: Dr. Wolfárt Mária | O25: főiskolai docens | P25: 7 | S25: =VLOOKUP($H25,Munka2!$E$2:$H$265,4,FALSE) -> 7 | T25: =IF(ISERROR(S25),"",S25) -> 7
B26: 31 | C26: =VLOOKUP($H26,Munka2!$E$2:$H$265,4,FALSE) -> 1 | F26: M-04 | G26: 2 | H26: MIN3C1L | I26: Szoftverüzemeltetés II. | J26: 2 | K26: f | L26: 8 | M26: K | N26: Németh Rózsa | O26: főiskolai adjunktus | P26: 1 | Q26: EGYÉNI | S26: =VLOOKUP($H26,Munka2!$E$2:$H$265,4,FALSE) -> 1 | T26: =IF(ISERROR(S26),"",S26) -> 1
B27: 36 | C27: =VLOOKUP($H27,Munka2!$E$2:$H$265,4,FALSE) -> 7 | D27: Gépész | F27: M-04 | G27: 3 | H27: MGY2D1L | I27: Méréstechnika | J27: 2 | K27: f | L27: 8 | M27: K | N27: László Istvánné | O27: főiskolai adjunktus | P27: 7 | T27: =IF(ISERROR(S27),"",S27) -> 0
B28: 13 | C28: =VLOOKUP($H28,Munka2!$E$2:$H$265,4,FALSE) -> 9 | D28: MGI3A6ML | F28: M-BSc-2007 | G28: 3 | H28: MGI3A6ML | I28: Számvitel I. | J28: 4 | K28: f | L28: 12 | M28: K | N28: Fáy Józsefné dr. | O28: főiskolai docens | P28: 9 | S28: =VLOOKUP($H28,Munka2!$E$2:$H$265,4,FALSE) -> 9 | T28: =IF(ISERROR(S28),"",S28) -> 9
B29: 38 | C29: =VLOOKUP($H29,Munka2!$E$2:$H$265,4,FALSE) -> 3 | D29: MGI3A6ML | F29: M-04 | G29: 3 | H29: MGZ3V1L | I29: Számvitel I. | J29: 4 | K29: v | L29: 16 | M29: K | N29: Fáy Józsefné dr. | O29: főiskolai docens | P29: 3 | S29: =VLOOKUP($H29,Munka2!$E$2:$H$265,4,FALSE) -> 3 | T29: =IF(ISERROR(S29),"",S29) -> 3
B30: 14 | C30: =VLOOKUP($H30,Munka2!$E$2:$H$265,4,FALSE) -> 9 | D30: MGT3A6ML | F30: M-BSc-2007 | G30: 3 | H30: MGT3A6ML | I30: Gépészmérnöki alapismeretek II. | J30: 3 | K30: f | L30: 12 | M30: K | N30: Kéri Ferenc | O30: főiskolai adjunktus | P30: 9 | S30: =VLOOKUP($H30,Munka2!$E$2:$H$265,4,FALSE) -> 9 | T30: =IF(ISERROR(S30),"",S30) -> 9
B31: 35 | C31: =VLOOKUP($H31,Munka2!$E$2:$H$265,4,FALSE) -> 12 | D31: MGT3A6ML | F31: M-04 | G31: 3 | H31: MGT5B1L | I31: Gépészmérnöki alapismeretek II. | J31: 4 | K31: f | L31: 12 | M31: K | N31: Kéri Ferenc | O31: főiskolai adjunktus | P31: 12 | S31: =VLOOKUP($H31,Munka2!$E$2:$H$265,4,FALSE) -> 12 | T31: =IF(ISERROR(S31),"",S31) -> 12
B32: 15 | C32: =VLOOKUP($H32,Munka2!$E$2:$H$265,4,FALSE) -> 9 | D32: MMA3A6ML | F32: M-BSc-2007 | G32: 3 | H32: MMA3A6ML | I32: Kémia B | J32: 5 | K32: v | L32: 16 | M32: K | N32: Ádámné Major Andrea | O32: főiskolai tanársegéd | P32: 9 | S32: =VLOOKUP($H32,Munka2!$E$2:$H$265,4,FALSE) -> 9 | T32: =IF(ISERROR(S32),"",S32) -> 9
B33: 16 | C33: =VLOOKUP($H33,Munka2!$E$2:$H$265,4,FALSE) -> 2 | D33: MMF3A6ML | F33: M-BSc-2007 | G33: 3 | H33: MMF3A6ML | I33: Valószínűségszámítás és statisztika B | J33: 5 | K33: f | L33: 16 | M33: K | N33: Bársony Istrván | O33: főiskolai adjunktus | P33: 2 | S33: =VLOOKUP($H33,Munka2!$E$2:$H$265,4,FALSE) -> 2 | T33: =IF(ISERROR(S33),"",S33) -> 2
B34: 43 | C34: =VLOOKUP($H34,Munka2!$E$2:$H$265,4,FALSE) -> 5 | D34: MMF3A6ML | F34: M-04 | G34: 3 | H34: MMF1H1L | I34: Gazdasági matematika | J34: 4 | K34: f | L34: 16 | M34: K | N34: Bársony Istrván | O34: főiskolai adjunktus | P34: 5 | S34: =VLOOKUP($H34,Munka2!$E$2:$H$265,4,FALSE) -> 5 | T34: =IF(ISERROR(S34),"",S34) -> 5
B35: 17 | C35: =VLOOKUP($H35,Munka2!$E$2:$H$265,4,FALSE) -> 8 | D35: MMF3B6ML | F35: M-BSc-2007 | G35: 3 | H35: MMF3B6ML | I35: Fizika II. | J35: 5 | K35: v | L35: 16 | M35: K | N35: Dr. Klebniczki József | O35: főiksolai tanár | P35: 8 | S35: =VLOOKUP($H35,Munka2!$E$2:$H$265,4,FALSE) -> 8 | T35: =IF(ISERROR(S35),"",S35) -> 8
B36: 18 | C36: =VLOOKUP($H36,Munka2!$E$2:$H$265,4,FALSE) -> 8 | D36: MSZ3A6ML | F36: M-BSc-2007 | G36: 3 | H36: MSZ3A6ML | I36: Szervezési és vezetési ismeretek II. | J36: 5 | K36: v | L36: 16 | M36: K | N36: Dr. Tóth József | O36: főiskolai docens | P36: 8 | S36: =VLOOKUP($H36,Munka2!$E$2:$H$265,4,FALSE) -> 8 | T36: =IF(ISERROR(S36),"",S36) -> 8
B37: 19 | C37: =VLOOKUP($H37,Munka2!$E$2:$H$265,4,FALSE) -> 10 | D37: MSZ3B6ML | F37: M-BSc-2007 | G37: 3 | H37: MSZ3B6ML | I37: Termelésmenedzsment | J37: 5 | K37: v | L37: 16 | M37: K | N37: Dr. Müller Rudolf | O37: főiskolai docens | P37: 10 | S37: =VLOOKUP($H37,Munka2!$E$2:$H$265,4,FALSE) -> 10 | T37: =IF(ISERROR(S37),"",S37) -> 10
B38: 34 | C38: =VLOOKUP($H38,Munka2!$E$2:$H$265,4,FALSE) -> 2 | F38: M-04 | G38: 3 | H38: MEK1F1L | I38: Elektrotechnika C | J38: 4 | K38: v | L38: 12 | M38: K | N38: Csík Norbert | O38: főiskolai tanársegéd | P38: 2 | Q38: EGYÉNI | S38: =VLOOKUP($H38,Munka2!$E$2:$H$265,4,FALSE) -> 2 | T38: =IF(ISERROR(S38),"",S38) -> 2
B39: 37 | C39: =VLOOKUP($H39,Munka2!$E$2:$H$265,4,FALSE) -> 3 | F39: M-04 | G39: 3 | H39: MGZ3G1L | I39: Gazdasági statisztika | J39: 4 | K39: f | L39: 12 | M39: K | N39: Dr. Hajdú Lajosné | O39: főiskolai adjunktus | P39: 3 | Q39: EGYÉNI | S39: =VLOOKUP($H39,Munka2!$E$2:$H$265,4,FALSE) -> 3 | T39: =IF(ISERROR(S39),"",S39) -> 3
B40: 39 | C40: =VLOOKUP($H40,Munka2!$E$2:$H$265,4,FALSE) -> 12 | F40: M-04 | G40: 3 | H40: MGZ3X1L | I40: Vállalatgazdaságtan | J40: 2 | K40: v | L40: 8 | M40: K | N40: Dr. Kovács Beatrix | O40: főiskolai docens | P40: 12 | S40: =VLOOKUP($H40,Munka2!$E$2:$H$265,4,FALSE) -> 12 | T40: =IF(ISERROR(S40),"",S40) -> 12
B41: 40 | C41: =VLOOKUP($H41,Munka2!$E$2:$H$265,4,FALSE) -> 5 | F41: M-04 | G41: 3 | H41: MGZ6E1L | I41: Minőségmenedzsment A | J41: 4 | K41: v | L41: 12 | M41: K | N41: Száraz Edit | O41: főiskolai adjunktus | P41: 5 | Q41: EGYÉNI | S41: =VLOOKUP($H41,Munka2!$E$2:$H$265,4,FALSE) -> 5 | T41: =IF(ISERROR(S41),"",S41) -> 5
...

Sheet G2
D4: 2007/2008 őszi félév | E4: Gépészmérnöki alapszak, szak 2. félév | H4: A konzultációk helyszíne: az ettől eltérőek külön említve
D5: 1. konzultáció 2007. szept. 8. | E5: 2. konzultáció 2007. szept. 15. | F5: 3. konzultáció 2007. szept. 22. | G5: 4. konzultáció 2007. szept. 29. | H5: 5. konzultáció 2007. okt. 6. | I5: 6. konzultáció 2007. okt. 13. | J5: 7. konzultáció 2007. okt. 20. | L5: Tárgy-kód | M5: Tárgynév | N5: Kredit | O5: Köv | P5: Félévi óraszám | Q5: Választ-hatóság | R5: Tantárgyfelelős | S5: beosztás | T5: Létszám (előzetes) | U5: =SUM(P6:P48) -> 0
B6: 1 | C6: 7.45-8.30
B7: 2 | C7: 8.40-9.25
B8: 3 | C8: 9.35-10.20
B9: 4 | C9: 10.30-11.15
B10: 5 | C10: 11.25-12.10
B11: 6 | C11: 12.20-13.05
B12: 7 | C12: 13.15-14.00
B13: 8 | C13: 14.10-14.55
B14: 9 | C14: 15.05-15.50
B15: 10 | C15: 16.00-16.45
B16: 11 | C16: 16.55-17.40
B17: 12 | C17: 17.50-18.35
D18: 8. konzultáció 2007. okt. 27. | E18: 9. konzultáció 2007. nov. 10. | F18: 10. konzultáció 2007. nov. 17. | G18: 11. konzultáció 2007. nov. 24. | H18: 12. konzultáció 2007. dec. 1. | I18: 13. konzultáció 2007. dec. 8. | J18: Pótlás, elővizsga 2007. dec. 15.
B19: 1 | C19: 7.45-8.30
B20: 2 | C20: 8.40-9.25
B21: 3 | C21: 9.35-10.20
B22: 4 | C22: 10.30-11.15
B23: 5 | C23: 11.25-12.10
B24: 6 | C24: 12.20-13.05
B25: 7 | C25: 13.15-14.00
B26: 8 | C26: 14.10-14.55
B27: 9 | C27: 15.05-15.50
B28: 10 | C28: 16.00-16.45
B29: 11 | C29: 16.55-17.40
B30: 12 | C30: 17.50-18.35
B32: Kecskemét, 2007. szeptember 8. | J32: Összeállította, készítette: Keresztszeghy István oktatásszervező
B35: Érvényes: 2007. december 15-ig. | J35: Jóváhagyta: dr. Bagány Mihály oktatási dékánhelyettes
D39: 1. konzultáció 2007. szept. 8. | E39: 2. konzultáció 2007. szept. 15. | F39: 3. konzultáció 2007. szept. 22. | G39: 4. konzultáció 2007. szept. 29. | H39: 5. konzultáció 2007. okt. 6. | I39: 6. konzultáció 2007. okt. 13. | J39: 7. konzultáció 2007. okt. 20.
B40: 1 | C40: 7.45-8.30
B41: 2 | C41: 8.40-9.25
B42: 3 | C42: 9.35-10.20
B43: 4 | C43: 10.30-11.15
B44: 5 | C44: 11.25-12.10
B45: 6 | C45: 12.20-13.05
B46: 7 | C46: 13.15-14.00
B47: 8 | C47: 14.10-14.55
B48: 9 | C48: 15.05-15.50
B49: 10 | C49: 16.00-16.45
...

Sheet GMN1
A1: EÖTVÖS JÓZSEF FŐISKOLA | F1: ÓRAREND | S1: 2026. augusztus
A2: GAZDÁLKODÁSI ÉS MENEDZSMENT ALAPSZAK | F2: 2026/2027. TANÉV 1. FÉLÉV
F3: I. ÉVFOLYAM, NAPPALI TAGOZAT
B5: HÉTFŐ | F5: KEDD | J5: SZERDA | N5: CSÜTÖRTÖK | R5: PÉNTEK
A7: 800 – 845 | B7: GK107N Gazdaságtörténet Kovács Szilárd A/93
A8: 900 – 945 | R8: GK115N Közgazdaságtan 1. Weber Erika A/93
A9: 1000 – 1045 | B9: GK106N Gazdasági szaknyelv 1. angol Kirsteen Crawford C/58 | F9: GK105N Üzleti kommunikáció Bakonyiné dr. Kovács Bea A/94 | N9: GK116N Pszichológia 1. csoport Szűcsné Tóth Zsuzsanna A/90
A10: 1100 – 1145
A11: 1200 – 1245 | B11: GK112N Általános és gazdasági jog dr. Paska Mihály A/93 | N11: GK116N Pszichológia 2. csoport Szűcsné Tóth Zsuzsanna A/90
A12: 1300 – 1345
A13: 1400 – 1445 | B13: 14:30-tól GK106N Gazdasági szaknyelv 1. német Debela-Hegyi Éva C/59 | F13: GK110N Testnevelés és sport 1. Koch Tamás
A14: 1500 – 1545 | J14: GK113N Gazdaságmatematika 1. Taskovits Péter B EM035 | N14: GK114N Informatika 1. 1. csoport Taskovics Péter A/10
A15: 1600 – 1645 | B15: GK113N Gazdaságmatematika 1. Taskovits Péter B EM035 | F15: GK106N Gazdasági szaknyelv 1. angol Bencze Balázs C/49
A16: 1700 – 1745 | N16: GK114N Informatika 1. 2. csoport Taskovics Péter A/10
A17: 1800 – 1845

Sheet GMN2
A1: EÖTVÖS JÓZSEF FŐISKOLA | F1: ÓRAREND | S1: 2026. augusztus
A2: GAZDÁLKODÁSI ÉS MENEDZSMENT ALAPSZAK | F2: 2026/2027. TANÉV 1. FÉLÉV
F3: II. ÉVFOLYAM, NAPPALI TAGOZAT
B5: HÉTFŐ | F5: KEDD | J5: SZERDA | N5: CSÜTÖRTÖK | R5: PÉNTEK
A7: 800 – 845 | F7: GK306N Beszámoló készítés és elemzés 2. csoport dr. Pajrok Andor A/90 | J7: 8.15-től GV304N Írás és prezentáció 1 csoport Szűcsné Tóth Zsuzsanna A/10 | N7: GK302N Marketing alapismeretek - elmélet dr. Keresnyei Krisztina A/94
A8: 900 – 945 | B8: GK306N Beszámoló készítés és elemzés 1. csoport dr. Pajrok Andor A/90
A9: 1000 – 1045 | J9: GV304N Írás és prezentáció 2. csoport Szűcsné Tóth Zsuzsanna A/10 | N9: GK309N Menedzsment - elmélet dr. Keresnyei Krisztina A/94
A10: 1100 – 1145
A11: 1200 – 1245 | F11: GK301N Környezetgazdaságtan dr. Póla Péter A/93 | J11: GK304N Vállalatgazdaságtan Lovretity Zoltán A/93 | N11: GK309N Menedzsment gyakorlat 1. csoport dr. Keresnyei Krisztina A/94
A12: 1300 – 1345 | B12: GK308N Statisztika 2. 1. csoport Kovács Szilárd A/10
A13: 1400 – 1445 | F13: GK303N Pénzügytan dr. Simon József - Csóti Kovács Anikó A/93 | N13: GK302N Marketing alapismeretek gyakorlat 1. csoport dr. Keresnyei Krisztina A/94
A14: 1500 – 1545 | J14: GV303N Üzemlátogatás Szűcsné Tóth Zsuzsanna A/93
A15: 1600 – 1645 | B15: GK308N Statisztika 2. 2. csoport Kovács Szilárd A/10 | N15: GK309N Menedzsment gyakorlat 2. csoport dr. Keresnyei Krisztina A/94
A16: 1700 – 1745
A17: 1800 – 1845 | N17: GK302N Marketing alapismeretek gyakorlat 2. csoport dr. Keresnyei Krisztina A/94

Sheet GMN3
A1: EÖTVÖS JÓZSEF FŐISKOLA | F1: ÓRAREND | S1: 2026. augusztus
A2: GAZDÁLKODÁSI ÉS MENEDZSMENT ALAPSZAK | F2: 2026/2027. TANÉV 1. FÉLÉV
F3: III. ÉVFOLYAM, NAPPALI TAGOZAT
B5: HÉTFŐ | F5: KEDD | J5: SZERDA | N5: CSÜTÖRTÖK | R5: PÉNTEK
A7: 800 – 845
A8: 900 – 945 | R8: GK503N Közigazgatástan Kelemen Adrienn tömbösítve
A9: 1000 – 1045 | B9: GK508N Termelésmenedzsment Weber Erika - Kovács Szilárd A/93 | F9: GK502N Helyi gazdaságfejelsztés dr. Póla Péter A/93
A10: 1100 – 1145
A11: 1200 – 1245 | R11: GK504N Államháztartástan dr. Simon József tömbösÍtve
A12: 1300 – 1345 | B12: GK501N Kontrolling dr. Pajrok Andor A/90
A13: 1400 – 1445 | F13: GK514N Gazdaságpolitika dr. Póla Péter A/90 | J13: GK507N Minőségmenedzsment Lovretity Zoltán A/90 | N13: GK506N Kis- és középvállalkozások menedzselése Lovretity Zoltán A/90
A14: 1500 – 1545
A15: 1600 – 1645
A16: 1700 – 1745
A17: 1800 – 1845

Sheet G5AUT

Sheet G5GY

Sheet G67

Sheet I1

Sheet I2

Sheet I3

Sheet I3R

Sheet I4

Sheet I5
D4: 2007/2008 őszi félév | E4: Műszaki informatikai szak 5. félév | H4: A konzultációk helyszíne: az ettől eltérőek külön említve
D5: 1. konzultáció 2007. szept. 8. | E5: 2. konzultáció 2007. szept. 15. | F5: 3. konzultáció 2007. szept. 22. | G5: 4. konzultáció 2007. szept. 29. | H5: 5. konzultáció 2007. okt. 6. | I5: 6. konzultáció 2007. okt. 13. | J5: 7. konzultáció 2007. okt. 20. | L5: Tárgy-kód | M5: Tárgynév | N5: Kredit | O5: Köv | P5: Félévi óraszám | Q5: Választ-hatóság | R5: Tantárgyfelelős | S5: beosztás | T5: Létszám (előzetes) | U5: =SUM(P6:P15) -> 56 | V5: =SUM(V7:V18) -> 0
B6: 1 | C6: 7.45-8.30 | L6: MAI1A2L | M6: Intelligens rendszerek II. | N6: 4 | O6: f | P6: 16 | Q6: K | R6: Coulibaly Sékou Tidiani | S6: főiskolai docens | T6: 36
B7: 2 | C7: 8.40-9.25 | L7: MEK6A2L | M7: Irányítástechnika II. | N7: 2 | O7: v | P7: 8 | Q7: K | R7: Somkutas Lajos | S7: főiskolai adjunktus | T7: 24
B8: 3 | C8: 9.35-10.20 | L8: MIN1L2L | M8: Az informatikai biztonság alapjai | N8: 5 | O8: v | P8: 16 | Q8: K | R8: Németh Rózsa | S8: főiskolai adjunktus | T8: 38
B9: 4 | C9: 10.30-11.15 | L9: MIN1O2L | M9: Szoftvertechnológia | N9: 2 | O9: v | P9: 8 | Q9: K | R9: Szabolcsi Judit | S9: főiskolai adjunktus | T9: 36
B10: 5 | C10: 11.25-12.10 | L10: MIN1P1L | M10: Hálózatok II. | N10: 2 | O10: v | P10: 8 | Q10: K | R10: Vértesi László | S10: főiskolai adjunktus | T10: 35
B11: 6 | C11: 12.20-13.05 | L11: MMM4A1L | M11: Médiatechnika alapjai | N11: 2 | O11: v | Q11: SZ | R11: Tóth Lajos | S11: oktatástechnikai mérnök | T11: 37 | U11: MEN
B12: 7 | C12: 13.15-14.00
B13: 8 | C13: 14.10-14.55
B14: 9 | C14: 15.05-15.50 | L14: MAI1A1L | M14: Alakzatfelismerés | N14: 4 | O14: v | Q14: K | R14: MAI1A2L | T14: 6
B15: 10 | C15: 16.00-16.45 | L15: MIN1L1L | M15: Adatvédelem | N15: 4 | O15: v | Q15: SZ | R15: MIN1L2L | T15: 1
B16: 11 | C16: 16.55-17.40
B17: 12 | C17: 17.50-18.35
D18: 8. konzultáció 2007. okt. 27. | E18: 9. konzultáció 2007. nov. 10. | F18: 10. konzultáció 2007. nov. 17. | G18: 11. konzultáció 2007. nov. 24. | H18: 12. konzultáció 2007. dec. 1. | I18: 13. konzultáció 2007. dec. 8. | J18: Pótlás, elővizsga 2007. dec. 15.
B19: 1 | C19: 7.45-8.30
B20: 2 | C20: 8.40-9.25
B21: 3 | C21: 9.35-10.20
B22: 4 | C22: 10.30-11.15
B23: 5 | C23: 11.25-12.10
B24: 6 | C24: 12.20-13.05
B25: 7 | C25: 13.15-14.00
B26: 8 | C26: 14.10-14.55
B27: 9 | C27: 15.05-15.50
B28: 10 | C28: 16.00-16.45
B29: 11 | C29: 16.55-17.40
B30: 12 | C30: 17.50-18.35
B32: Kecskemét, 2007. szeptember 8. | J32: Összeállította, készítette: Keresztszeghy István oktatásszervező
B35: Érvényes: 2007. december 15-ig. | J35: Jóváhagyta: dr. Bagány Mihály oktatási dékánhelyettes
D39: 1. konzultáció 2007. szept. 8. | E39: 2. konzultáció 2007. szept. 15. | F39: 3. konzultáció 2007. szept. 22. | G39: 4. konzultáció 2007. szept. 29. | H39: 5. konzultáció 2007. okt. 6. | I39: 6. konzultáció 2007. okt. 13. | J39: 7. konzultáció 2007. okt. 20.
B40: 1 | C40: 7.45-8.30
B41: 2 | C41: 8.40-9.25
B42: 3 | C42: 9.35-10.20
B43: 4 | C43: 10.30-11.15
B44: 5 | C44: 11.25-12.10
B45: 6 | C45: 12.20-13.05
B46: 7 | C46: 13.15-14.00
B47: 8 | C47: 14.10-14.55
B48: 9 | C48: 15.05-15.50
B49: 10 | C49: 16.00-16.45
...

Sheet I5G

Sheet I5H

Sheet I67

Sheet ISZ

Sheet M1

Sheet M2

Sheet M3

Sheet M34

Sheet M4

Sheet M5

Sheet M67
